BEGIN:VCALENDAR
VERSION:2.0
PRODID:-//Sortir à Combourg - ECPv6.15.16//NONSGML v1.0//EN
CALSCALE:GREGORIAN
METHOD:PUBLISH
X-WR-CALNAME:Sortir à Combourg
X-ORIGINAL-URL:https://www.sortiracombourg.fr
X-WR-CALDESC:Évènements pour Sortir à Combourg
REFRESH-INTERVAL;VALUE=DURATION:PT1H
X-Robots-Tag:noindex
X-PUBLISHED-TTL:PT1H
BEGIN:VTIMEZONE
TZID:Europe/Paris
BEGIN:DAYLIGHT
TZOFFSETFROM:+0100
TZOFFSETTO:+0200
TZNAME:CEST
DTSTART:20230326T010000
END:DAYLIGHT
BEGIN:STANDARD
TZOFFSETFROM:+0200
TZOFFSETTO:+0100
TZNAME:CET
DTSTART:20231029T010000
END:STANDARD
BEGIN:DAYLIGHT
TZOFFSETFROM:+0100
TZOFFSETTO:+0200
TZNAME:CEST
DTSTART:20240331T010000
END:DAYLIGHT
BEGIN:STANDARD
TZOFFSETFROM:+0200
TZOFFSETTO:+0100
TZNAME:CET
DTSTART:20241027T010000
END:STANDARD
BEGIN:DAYLIGHT
TZOFFSETFROM:+0100
TZOFFSETTO:+0200
TZNAME:CEST
DTSTART:20250330T010000
END:DAYLIGHT
BEGIN:STANDARD
TZOFFSETFROM:+0200
TZOFFSETTO:+0100
TZNAME:CET
DTSTART:20251026T010000
END:STANDARD
END:VTIMEZONE
BEGIN:VEVENT
DTSTART;TZID=Europe/Paris:20240306T200000
DTEND;TZID=Europe/Paris:20240306T220000
DTSTAMP:20260420T121313
CREATED:20240122T140603Z
LAST-MODIFIED:20240122T140737Z
UID:5871-1709755200-1709762400@www.sortiracombourg.fr
SUMMARY:Soirée jeux de société et jeux vidéos
DESCRIPTION:Soirée jeux de société et jeux vidéos de 20h à 22h – Crêpes party – Salle de la Parenthèse à Combourg \n5€ par personne – 25 places \nChaque jeune apporte un jeu qu’il souhaite faire découvrir aux autres jeunes. \nLa section Jeunesse apporte les jeux vidéos : Just Dance et Mario Kart (jeux sur grand écran) \nInscription : www.combourganimations.fr
URL:https://www.sortiracombourg.fr/evenements/soiree-jeux-de-societe-et-jeux-videos/
LOCATION:Espace culturel La Parenthèse\, Place Piquette\, Combourg
CATEGORIES:Agenda,Jeunesse
ORGANIZER;CN="Combourg Animations (section Jeunesse et Culture)":MAILTO:combourganimations@gmail.com
END:VEVENT
BEGIN:VEVENT
DTSTART;TZID=Europe/Paris:20240310T140000
DTEND;TZID=Europe/Paris:20240310T170000
DTSTAMP:20260420T121313
CREATED:20240122T140702Z
LAST-MODIFIED:20240122T140723Z
UID:5873-1710079200-1710090000@www.sortiracombourg.fr
SUMMARY:Atelier cuisine
DESCRIPTION:Atelier cuisine à Combourg de 14h à 17h (salle de la Parenthèse) – 5€ par personne – 30 places \nInscription : www.combourganimations.fr
URL:https://www.sortiracombourg.fr/evenements/atelier-cuisine/
LOCATION:Espace culturel La Parenthèse\, Place Piquette\, Combourg
CATEGORIES:Agenda,Jeunesse
ORGANIZER;CN="Combourg Animations (section Jeunesse et Culture)":MAILTO:combourganimations@gmail.com
END:VEVENT
BEGIN:VEVENT
DTSTART;TZID=Europe/Paris:20240313T143000
DTEND;TZID=Europe/Paris:20240313T160000
DTSTAMP:20260420T121313
CREATED:20240213T100245Z
LAST-MODIFIED:20240213T100545Z
UID:5899-1710340200-1710345600@www.sortiracombourg.fr
SUMMARY:Carnaval des enfants
DESCRIPTION:La ville de Combourg organise son carnaval des enfants le mercredi 13 mars prochain. \nAu programme : \n\nMaquillage gratuit\, par Cathy Maquillage\, de 10h30 à 14h00\, dans le hall de l’école élémentaire publique\nDéfilé costumé\, animé par la fanfare GLOUPS\nAccueil sur la cour des arts par des élèves du SIM\nGoûter offert aux enfants
URL:https://www.sortiracombourg.fr/evenements/carnaval-des-enfants-4/
LOCATION:Départ de l’école élémentaire publique\, Avenue des acacias\, Combourg
CATEGORIES:Agenda
ATTACH;FMTTYPE=image/webp:https://www.sortiracombourg.fr/wp-content/uploads/2024/02/affiche-2024.webp
ORGANIZER;CN="Ville de Combourg":MAILTO:communication@combourg.com
END:VEVENT
BEGIN:VEVENT
DTSTART;TZID=Europe/Paris:20240317T170000
DTEND;TZID=Europe/Paris:20240317T183000
DTSTAMP:20260420T121313
CREATED:20240213T113304Z
LAST-MODIFIED:20240213T132324Z
UID:5940-1710694800-1710700200@www.sortiracombourg.fr
SUMMARY:Ciné-docs : Baie du Mont-Saint-Michel
DESCRIPTION:Projection suivie d’un échange en présence du réalisateur Vincent ROBINOT \nIl y a 40 ans le Mt St Michel et sa baie étaient inscrits au patrimoine mondial de l’UNESCO. Dans une étendue d’environ 500 km trône un mont connu de tous. Si l’Archange St Michel pouvait parler\, il conterait 1 000 et 1 histoires… Mais ce joyau qui focalise tous les regards prend sa pleine dimension dès lors qu’il s’insère dans ce trésor qu’est la Baie. La vie y foisonne et on ne peut hélas saisir d’une seule visite toute la diversité de cet environnement extraordinaire. En plongeant dans ses souvenirs d’enfance\, Vincent Robinot veut faire redécouvrir ce cadre où la Merveille St Michel renoue enfin avec son caractère maritime.
URL:https://www.sortiracombourg.fr/evenements/cine-docs-baie-du-mont-saint-michel/
LOCATION:Cinéma Chateaubriand\, Rue de Malouas\, Combourg\, 35270\, France
CATEGORIES:Agenda
ORGANIZER;CN="Cin%C3%A9ma Chateaubriand":MAILTO:cinema.chateaubriand@orange.fr
END:VEVENT
BEGIN:VEVENT
DTSTART;TZID=Europe/Paris:20240322T173000
DTEND;TZID=Europe/Paris:20240322T193000
DTSTAMP:20260420T121313
CREATED:20240208T135624Z
LAST-MODIFIED:20240208T135624Z
UID:5896-1711128600-1711135800@www.sortiracombourg.fr
SUMMARY:Portes ouvertes à l'école Sainte-Anne
DESCRIPTION:Au programme : \n\nVisite de l’école\nRencontre avec l’équipe éducative et les parents de l’APEL\n\nDe 17h30 à 19h30
URL:https://www.sortiracombourg.fr/evenements/portes-ouvertes-a-lecole-sainte-anne/
LOCATION:Ecole Sainte-Anne\, Rue du Linon\, Combourg\, 35270\, France
CATEGORIES:Agenda
ATTACH;FMTTYPE=image/jpeg:https://www.sortiracombourg.fr/wp-content/uploads/2024/02/AFFICHE-PO-scaled.jpg
END:VEVENT
BEGIN:VEVENT
DTSTART;TZID=Europe/Paris:20240322T193000
DTEND;TZID=Europe/Paris:20240322T233000
DTSTAMP:20260420T121313
CREATED:20240213T112547Z
LAST-MODIFIED:20240213T112547Z
UID:5933-1711135800-1711150200@www.sortiracombourg.fr
SUMMARY:Fête de la Saint-Patrick
DESCRIPTION:Combourg Animations organise la première édition de la fête de la Saint-Patrick à Meillac (salle des fêtes). \nDeux concerts de musique irlandaise sont au programme de cette soirée : \n\nMOHER\nCeili Killers.\n\nBuvette et restauration sur place. \n\n10€ avec boisson offerte pour toute préinscription (lien vers la billetterie)\n10€ sur place\n5€ pour les 10 – 17ans\nGratuit pour les – de 10 ans\n\nRéservation en ligne possible sur le site combourganimations.fr
URL:https://www.sortiracombourg.fr/evenements/fete-de-la-saint-patrick/
LOCATION:Salle des fêtes de Meillac\, Meillac
CATEGORIES:Agenda
ATTACH;FMTTYPE=image/png:https://www.sortiracombourg.fr/wp-content/uploads/2024/02/Affiche-Saint-Patrick-22-mars-2024-2.png
ORGANIZER;CN="Combourg Animations":MAILTO:braderie.combourg@hotmail.com
END:VEVENT
BEGIN:VEVENT
DTSTART;VALUE=DATE:20240324
DTEND;VALUE=DATE:20240327
DTSTAMP:20260420T121313
CREATED:20240213T112257Z
LAST-MODIFIED:20240213T112257Z
UID:5930-1711238400-1711497599@www.sortiracombourg.fr
SUMMARY:Le Printemps du cinéma
DESCRIPTION:Le Printemps du Cinéma revient dans tous les cinémas !\nParce que la salle de cinéma est le lieu et l’écrin incomparables pour découvrir ou revoir des films en tous genres\, Le Printemps du Cinéma permet à tous les spectateurs de profiter de l’expérience de la salle de cinéma seul ou à plusieurs\, en famille ou entre amis\, à un tarif réduit et unique qui donne envie de voir plein de films pendant ces 3 jours ! \nTarif unique: 5€.
URL:https://www.sortiracombourg.fr/evenements/le-printemps-du-cinema/
LOCATION:Cinéma Chateaubriand\, Rue de Malouas\, Combourg\, 35270\, France
CATEGORIES:Agenda
ATTACH;FMTTYPE=image/jpeg:https://www.sortiracombourg.fr/wp-content/uploads/2024/02/printemps-cinema.jpg
ORGANIZER;CN="Cin%C3%A9ma Chateaubriand":MAILTO:cinema.chateaubriand@orange.fr
END:VEVENT
END:VCALENDAR