BEGIN:VCALENDAR
VERSION:2.0
PRODID:-//Sortir à Combourg - ECPv6.15.16//NONSGML v1.0//EN
CALSCALE:GREGORIAN
METHOD:PUBLISH
X-WR-CALNAME:Sortir à Combourg
X-ORIGINAL-URL:https://www.sortiracombourg.fr
X-WR-CALDESC:Évènements pour Sortir à Combourg
REFRESH-INTERVAL;VALUE=DURATION:PT1H
X-Robots-Tag:noindex
X-PUBLISHED-TTL:PT1H
BEGIN:VTIMEZONE
TZID:Europe/Paris
BEGIN:DAYLIGHT
TZOFFSETFROM:+0100
TZOFFSETTO:+0200
TZNAME:CEST
DTSTART:20230326T010000
END:DAYLIGHT
BEGIN:STANDARD
TZOFFSETFROM:+0200
TZOFFSETTO:+0100
TZNAME:CET
DTSTART:20231029T010000
END:STANDARD
BEGIN:DAYLIGHT
TZOFFSETFROM:+0100
TZOFFSETTO:+0200
TZNAME:CEST
DTSTART:20240331T010000
END:DAYLIGHT
BEGIN:STANDARD
TZOFFSETFROM:+0200
TZOFFSETTO:+0100
TZNAME:CET
DTSTART:20241027T010000
END:STANDARD
BEGIN:DAYLIGHT
TZOFFSETFROM:+0100
TZOFFSETTO:+0200
TZNAME:CEST
DTSTART:20250330T010000
END:DAYLIGHT
BEGIN:STANDARD
TZOFFSETFROM:+0200
TZOFFSETTO:+0100
TZNAME:CET
DTSTART:20251026T010000
END:STANDARD
END:VTIMEZONE
BEGIN:VEVENT
DTSTART;TZID=Europe/Paris:20240608T080000
DTEND;TZID=Europe/Paris:20240609T170000
DTSTAMP:20260420T083711
CREATED:20240213T111225Z
LAST-MODIFIED:20240405T102517Z
UID:5915-1717833600-1717952400@www.sortiracombourg.fr
SUMMARY:Portes ouvertes de l'école de musique Le SIM
DESCRIPTION:Le SIM – Ecole de musique vous ouvre les portes de son site à Combourg à l’occasion du début de ses inscriptions pour l’année scolaire 2024/2025.\nA cette occasion\, les combourgeois pourront rencontrer l’équipe pédagogique de l’école de musique et essayer les instruments proposés à l’enseignement. Du trombone\, à la guitare en passant par la flûte traversière ou l’accordéon\, ce ne sont pas moins de 25 instruments qui sont proposés à l’enseignement au SIM : Il y en aura pour tous les goûts !\nDes moments musicaux proposés par les élèves de l’école de musique viendront ponctuer la journée\, pour le plus grand plaisir des petits et grands.\nOuvert à tous – Sans réservation.
URL:https://www.sortiracombourg.fr/evenements/portes-ouvertes-de-lecole-de-musique-le-sim/
LOCATION:Cour des Arts\, Parvis de la médiathèque\, Combourg\, 35270\, France
CATEGORIES:Agenda
ATTACH;FMTTYPE=image/jpeg:https://www.sortiracombourg.fr/wp-content/uploads/2024/02/sim.jpg
ORGANIZER;CN="SIM":MAILTO:contact@simecoledemusique.com
END:VEVENT
BEGIN:VEVENT
DTSTART;TZID=Europe/Paris:20240608T200000
DTEND;TZID=Europe/Paris:20240608T220000
DTSTAMP:20260420T083711
CREATED:20240507T133213Z
LAST-MODIFIED:20240507T133213Z
UID:6147-1717876800-1717884000@www.sortiracombourg.fr
SUMMARY:"Du Soleil sur les E - toiles " Spectacle de danse classique
DESCRIPTION:UNIS VERS DANSE en collaboration avec L’Atelier. \n« Du Soleil sur les E – toiles  » Spectacle de danse classique \n8 Juin – 20h00 \nCinéma Chateaubriand – Combourg \n 
URL:https://www.sortiracombourg.fr/evenements/du-soleil-sur-les-e-toiles-spectacle-de-danse-classique/
LOCATION:Cinéma Chateaubriand\, Rue de Malouas\, Combourg\, 35270\, France
CATEGORIES:Agenda
ORGANIZER;CN="univerdanse":MAILTO:unisversdanse@gmail.com
END:VEVENT
BEGIN:VEVENT
DTSTART;TZID=Europe/Paris:20240613T080000
DTEND;TZID=Europe/Paris:20240613T170000
DTSTAMP:20260420T083711
CREATED:20240613T124203Z
LAST-MODIFIED:20240613T124231Z
UID:6180-1718265600-1718298000@www.sortiracombourg.fr
SUMMARY:Semaine olympique et paralympique
DESCRIPTION:Semaine olympique et paralympique\nDu 17 au 23 juin 2024\n\n\n\nToute la semaine prochaine\, de nombreux événements sont organisés dans le cadre des Jeux Olympiques de Paris 2024\n\n\n\nAu programme :\n\nCourse du muscle\nConférence autour du sport et des droits de l’homme\nAnimations sportives dans les écoles\nConférence sur la santé et l’histoire des JO\nSpectacle vivant « QUEEN A MAN »\, dans le cadre de la fête de la musique\nDiffusion de films au cinéma\nJournée internationale de l’Olympisme
URL:https://www.sortiracombourg.fr/evenements/semaine-olympique-et-paralympique/
CATEGORIES:Agenda
ATTACH;FMTTYPE=image/jpeg:https://www.sortiracombourg.fr/wp-content/uploads/2024/06/Flyers-Semaine-olympique-et-Paralympique-1-1-scaled.jpg
END:VEVENT
BEGIN:VEVENT
DTSTART;TZID=Europe/Paris:20240614T080000
DTEND;TZID=Europe/Paris:20240615T170000
DTSTAMP:20260420T083711
CREATED:20240213T111403Z
LAST-MODIFIED:20240412T133036Z
UID:5918-1718352000-1718470800@www.sortiracombourg.fr
SUMMARY:Festival Extension Sauvage
DESCRIPTION:Pour sa 13e édition\, le festival EXTENSION SAUVAGE invite les spectateur·ices à vivre une expérience inédite de plusieurs parcours d’oeuvres chorégraphiques dans le paysage. \nAu programme : \n15h30 : Départ du parcours au QG\n• Autothérapie : Essai 1 à ciel ouvert de Mackenzy Bergile (45’)\n• Pièce distinguée N°45 de La Ribot (40’)\n• Analphabète de Lenio Kaklea (30’) \n19h00 : Soirée conviviale au QG\n• 19h30 / Plateau Radio Univers en direct avec les artistes\n• Festivités au QG du festival\, Cour des arts \nen continu de 10h30 à 23h\n• Point info\, billetterie\, buvette et restauration\, marché des créateurs locaux (friperie\, librairie Le Hareng rouge\, bijoux…)\n• 14h30 : atelier-découverte Hoopdance avec Valérie Simon\n• 21h-23h : fest-noz avec Pao-Bran \n 
URL:https://www.sortiracombourg.fr/evenements/festival-extension-sauvage/
LOCATION:Cour des Arts\, Parvis de la médiathèque\, Combourg\, 35270\, France
CATEGORIES:Agenda
ATTACH;FMTTYPE=image/jpeg:https://www.sortiracombourg.fr/wp-content/uploads/2024/02/CP-Extension-Sauvage-1-copie-scaled.jpg
ORGANIZER;CN="Figure Project":MAILTO:communication@figureproject.com
END:VEVENT
BEGIN:VEVENT
DTSTART;TZID=Europe/Paris:20240616T090000
DTEND;TZID=Europe/Paris:20240616T123000
DTSTAMP:20260420T083711
CREATED:20240412T133656Z
LAST-MODIFIED:20240523T133505Z
UID:6062-1718528400-1718541000@www.sortiracombourg.fr
SUMMARY:Randonnée VTT
DESCRIPTION:Départs libres de 7h30 à 9h30. 6 circuits de 25 à 65 kms.
URL:https://www.sortiracombourg.fr/evenements/randonneevtt/
LOCATION:Camping municipal\, Avenue de Waldmünchen\, Combourg\, France
CATEGORIES:Agenda
ATTACH;FMTTYPE=image/jpeg:https://www.sortiracombourg.fr/wp-content/uploads/2024/04/439253972_122175019010029812_1613302344804473694_n.jpg
ORGANIZER;CN="VTT Combourg / Tint%C3%A9niac":MAILTO:vttcombourgtinteniac@gmail.com
END:VEVENT
BEGIN:VEVENT
DTSTART;TZID=Europe/Paris:20240617T080000
DTEND;TZID=Europe/Paris:20240617T130000
DTSTAMP:20260420T083711
CREATED:20240524T141227Z
LAST-MODIFIED:20240524T141227Z
UID:6165-1718611200-1718629200@www.sortiracombourg.fr
SUMMARY:Don du sang
DESCRIPTION:L’Etablissement Français du Sang vous rappelle qu’une collecte de sang est organisée à COMBOURG le Lundi 17 Juin de 8h30 à 13h à l’Espace Malouas. \n\n\n\n Prise de rendez-vous : https://efs.link/h7xD5
URL:https://www.sortiracombourg.fr/evenements/don-du-sang-9/
LOCATION:Espace Malouas\, Rue de Malouas\, Combourg\, 35270\, France
CATEGORIES:Agenda
ATTACH;FMTTYPE=image/webp:https://www.sortiracombourg.fr/wp-content/uploads/2024/05/affiche_115973_COMBOURG-scaled.webp
END:VEVENT
BEGIN:VEVENT
DTSTART;TZID=Europe/Paris:20240619T183000
DTEND;TZID=Europe/Paris:20240619T200000
DTSTAMP:20260420T083711
CREATED:20240524T134110Z
LAST-MODIFIED:20240524T134110Z
UID:6163-1718821800-1718827200@www.sortiracombourg.fr
SUMMARY:Conférence : « LE SPORT FAIT-IL PROGRESSER LES DROITS HUMAINS ? »
DESCRIPTION:RENCONTRE-CONFÉRENCE AVEC GIOVANNI DI COLA \nDu multiple médaillé d’or Jesse Owens aux Jeux olympiques de Berlin en 1936 au joueur d’échec Bobby Fisher face au soviétique Boris Spassky en 1972\, des poings levés de Tommie Smith et John Carlos aux JO de Mexico en 1968 en soutien aux droits civiques des Afro-américains\, aux polémiques du « Mundial de la honte » de 1978 en Argentine\, le sport pose régulièrement la question des droits humains. Et d’abord : les droits de l’homme s’appliquent-ils au sport et plus généralement au secteur sportif ? Qu’il soit pratiqué à l’échelle locale ou lors des grandes compétitions internationales\, favorise-t-il le progrès ? Le « soft power » incarné par le sport et ses athlètes véhicule-t-il toujours de nobles idées et sert-il de justes causes ? \nÀ quelques jours de l’ouverture des Jeux olympiques de Paris\, la médiathèque Les Sources invite Giovanni Di Cola\, ancien conseiller spécial à l’Organisation internationale du travail (OIT)\, dépendant de l’ONU. À l’appui des nombreuses missions qu’il a pu conduire dans différents pays\, il évoquera le rôle des grandes organisations internationales au service du développement et de la paix\, et expliquera en quoi le sport\, par son rôle unique et fédérateur et par la coopération\, peut permettre d’améliorer les conditions d’existence de tous et toutes. \nDe nationalité italienne\, Giovanni Di Cola a étudié à Rome et à Paris et a servi dans quatre agences des Nations Unies (UNESCO\, UNFPA\, UNICEF et OIT). Tout au long de sa carrière\, il a travaillé sur la programmation stratégique\, la mobilisation des ressources\, le genre\, la coopération technique\, les partenariats et la gestion. Il a représenté l’OIT au sein du groupe de travail des Nations Unies\, a contribué au rapport du Secrétariat général des Nations Unies sur le sport au service du développement et de la paix et a aidé le conseiller spécial des Nations Unies à mobiliser le monde du sport et les agences des Nations Unies. En avril 2015\, Giovanni Di Cola a été nommé conseiller spécial pour les affaires multilatérales au bureau du directeur général adjoint pour les opérations sur le terrain et les partenariats au siège de l’Organisation internationale du Travail (OIT) à Genève\, chargé des questions liées au changement climatique\, aux objectifs de développement durable et aux méga-événements sportifs et au travail décent. \nIl est actuellement en charge d’une entreprise de conseil stratégique pour le développement durable et membre du comité d’éthique de la Confédération européenne de boxe. \nPratique : \nDate : mercredi 19 juin 2024\, 18h30 (durée : 1h15 environ) \nLieu : Médiathèque Les Sources – Gratuit (sur réservation) \nMédiathèque Les Sources / 5 rue du Linon / 35270 Combourg – 02 23 16 47 73 / mediatheque@combourg.com
URL:https://www.sortiracombourg.fr/evenements/conference-le-sport-fait-il-progresser-les-droits-humains/
LOCATION:Médiathèque « Les Sources »\, 5 rue du Linon\, Combourg\, 35270\, France
CATEGORIES:Agenda,Médiathèque
ATTACH;FMTTYPE=image/png:https://www.sortiracombourg.fr/wp-content/uploads/2024/05/di-cola.png
ORGANIZER;CN="M%C3%A9diath%C3%A8que 'Les Sources'":MAILTO:mediatheque@combourg.com
END:VEVENT
BEGIN:VEVENT
DTSTART;TZID=Europe/Paris:20240621T190000
DTEND;TZID=Europe/Paris:20240621T233000
DTSTAMP:20260420T083711
CREATED:20240213T111606Z
LAST-MODIFIED:20240523T133345Z
UID:5921-1718996400-1719012600@www.sortiracombourg.fr
SUMMARY:Fête de la musique
DESCRIPTION:Combourg Animations et plusieurs cafés/restaurants du centre-ville organisent de nombreux concerts tout au long de la soirée. \n– Eglise : Cheese – Live band music\n– Rue Notre-Dame : Michel Flaux – Variétés\n– Place Piquette :\n\n20h00 : Queen a Man – Hommage chorégraphique et sensible à Freddie Mercury\n21h15 : Karamella (chanson française)\n22h45 : Ci git Cale (blues)\n\n– Cour de la Poste :   Leaving Road – Pop-Rock\n– Place Albert Parent : Cartier Libre – Reprises / Jazz Manouche\n– Place des déportés : Mushy Mushy – Rock (1e partie) // Les Nez Rouges – Pop-rock (2e partie)\n– Chat Toqué : One Step – Reggae (1e partie) //  DJ (2e partie)
URL:https://www.sortiracombourg.fr/evenements/fete-de-la-musique-4/
LOCATION:Centre-ville\, Place Albert Parent\, Combourg\, 35270\, France
CATEGORIES:Agenda
ATTACH;FMTTYPE=image/png:https://www.sortiracombourg.fr/wp-content/uploads/2024/02/Affiche-fete-de-la-musique-21062024.png
ORGANIZER;CN="Combourg Animations":MAILTO:braderie.combourg@hotmail.com
END:VEVENT
BEGIN:VEVENT
DTSTART;TZID=Europe/Paris:20240622T140000
DTEND;TZID=Europe/Paris:20240622T170000
DTSTAMP:20260420T083711
CREATED:20240422T133323Z
LAST-MODIFIED:20240422T133323Z
UID:6139-1719064800-1719075600@www.sortiracombourg.fr
SUMMARY:"Les petites chaises" - Croquis en extérieur
DESCRIPTION:Atelier dessin.
URL:https://www.sortiracombourg.fr/evenements/les-petites-chaises-croquis-en-exterieur/
LOCATION:Centre-ville\, Place Albert Parent\, Combourg\, 35270\, France
CATEGORIES:Agenda
ATTACH;FMTTYPE=image/webp:https://www.sortiracombourg.fr/wp-content/uploads/2024/04/affiche-lpc-2024-combourg-1-scaled.webp
ORGANIZER;CN="F%C3%AAt Arts":MAILTO:fetartshede@gmail.com
END:VEVENT
BEGIN:VEVENT
DTSTART;TZID=Europe/Paris:20240625T203000
DTEND;TZID=Europe/Paris:20240625T223000
DTSTAMP:20260420T083711
CREATED:20240613T114202Z
LAST-MODIFIED:20240613T114202Z
UID:6177-1719347400-1719354600@www.sortiracombourg.fr
SUMMARY:Soirée-débat autour du film La Nouvelle Femme et de la pédagogie Montessori.
DESCRIPTION:Le cinéma Le Chateaubriand (Combourg) vous propose le mardi 25 juin une soirée-débat autour du film La Nouvelle Femme et de la pédagogie Montessori. \nLa soirée débutera à 20h30 par la projection du film LA NOUVELLE FEMME (tarifs habituels du cinéma). \nLa séance sera suivie d’un échange avec Marine PHILIPPE\, professeur des écoles en école maternelle publique\, éducatrice Montessori et déléguée départementale de l’association Public Montessori. \nLes sujets suivants seront abordés : \n\nEtat des lieu de la pédagogie Montessori à l’école publique aujourd’hui\nPrésentation succincte de l’association Public Montessori et de ses missions\nCe qu’est vraiment la pédagogie Montessori\nLes combats de Maria Montessori\n\nL’échange sera suivi d’un temps de questions/réponses. \nL’Association Public Montessori mettra à disposition du public des livres à consulter sur place.
URL:https://www.sortiracombourg.fr/evenements/soiree-debat-autour-du-film-la-nouvelle-femme-et-de-la-pedagogie-montessori/
LOCATION:Cinéma Chateaubriand\, Rue de Malouas\, Combourg\, 35270\, France
CATEGORIES:Agenda
ATTACH;FMTTYPE=image/jpeg:https://www.sortiracombourg.fr/wp-content/uploads/2024/06/NouvelleFemme-Aff-copie.jpg
ORGANIZER;CN="Cin%C3%A9ma Chateaubriand":MAILTO:cinema.chateaubriand@orange.fr
END:VEVENT
BEGIN:VEVENT
DTSTART;TZID=Europe/Paris:20240628T210000
DTEND;TZID=Europe/Paris:20240628T233000
DTSTAMP:20260420T083711
CREATED:20240523T133242Z
LAST-MODIFIED:20240523T133242Z
UID:6150-1719608400-1719617400@www.sortiracombourg.fr
SUMMARY:Soirée DJ « Ambiance Plage »
DESCRIPTION:Vendredi 28 juin de 21h à minuit \n‘Soirée DJ’  \nà la Cour des arts à Combourg \n  \nAnimation : \nSoirée DJ « ambiance plage » avec DJ Dimitri de ACSEE de 21h à 00h. \nOuverture des portes à 20h30. \nOuvert à tous\, mineurs sous la responsabilité des parents. \nPlaces disponibles : 250 \n5€ l’entrée avec consommation sur place
URL:https://www.sortiracombourg.fr/evenements/soiree-dj-ambiance-plage/
LOCATION:Cour des Arts\, Parvis de la médiathèque\, Combourg\, 35270\, France
CATEGORIES:Agenda
ATTACH;FMTTYPE=image/jpeg:https://www.sortiracombourg.fr/wp-content/uploads/2024/05/WhatsApp-Image-2024-05-02-at-13.50.24.jpeg
ORGANIZER;CN="Combourg Animations":MAILTO:braderie.combourg@hotmail.com
END:VEVENT
END:VCALENDAR