BEGIN:VCALENDAR
VERSION:2.0
PRODID:-//Sortir à Combourg - ECPv6.15.16//NONSGML v1.0//EN
CALSCALE:GREGORIAN
METHOD:PUBLISH
X-WR-CALNAME:Sortir à Combourg
X-ORIGINAL-URL:https://www.sortiracombourg.fr
X-WR-CALDESC:Évènements pour Sortir à Combourg
REFRESH-INTERVAL;VALUE=DURATION:PT1H
X-Robots-Tag:noindex
X-PUBLISHED-TTL:PT1H
BEGIN:VTIMEZONE
TZID:Europe/Paris
BEGIN:DAYLIGHT
TZOFFSETFROM:+0100
TZOFFSETTO:+0200
TZNAME:CEST
DTSTART:20230326T010000
END:DAYLIGHT
BEGIN:STANDARD
TZOFFSETFROM:+0200
TZOFFSETTO:+0100
TZNAME:CET
DTSTART:20231029T010000
END:STANDARD
BEGIN:DAYLIGHT
TZOFFSETFROM:+0100
TZOFFSETTO:+0200
TZNAME:CEST
DTSTART:20240331T010000
END:DAYLIGHT
BEGIN:STANDARD
TZOFFSETFROM:+0200
TZOFFSETTO:+0100
TZNAME:CET
DTSTART:20241027T010000
END:STANDARD
BEGIN:DAYLIGHT
TZOFFSETFROM:+0100
TZOFFSETTO:+0200
TZNAME:CEST
DTSTART:20250330T010000
END:DAYLIGHT
BEGIN:STANDARD
TZOFFSETFROM:+0200
TZOFFSETTO:+0100
TZNAME:CET
DTSTART:20251026T010000
END:STANDARD
END:VTIMEZONE
BEGIN:VEVENT
DTSTART;TZID=Europe/Paris:20240702T183000
DTEND;TZID=Europe/Paris:20240702T193000
DTSTAMP:20260420T072056
CREATED:20240619T145725Z
LAST-MODIFIED:20240619T145725Z
UID:6188-1719945000-1719948600@www.sortiracombourg.fr
SUMMARY:Audition de la classe de clarinette
DESCRIPTION:Mardi 02 Juillet 2024 à 18H30 : Audition de la classe de clarinette / Salle Jean-Paul CORBINEAU @ Le SIM – Ecole de Musique\, 6 RUE DU LINON 35270 COMBOURG
URL:https://www.sortiracombourg.fr/evenements/audition-de-la-classe-de-clarinette/
LOCATION:Ecole de musique\, Rue du Linon\, Combourg
CATEGORIES:Agenda
ATTACH;FMTTYPE=image/png:https://www.sortiracombourg.fr/wp-content/uploads/2024/06/2024.07.02-Audition-Clarinette.png
ORGANIZER;CN="SIM":MAILTO:contact@simecoledemusique.com
END:VEVENT
BEGIN:VEVENT
DTSTART;TZID=Europe/Paris:20240703T170000
DTEND;TZID=Europe/Paris:20240703T200000
DTSTAMP:20260420T072056
CREATED:20240627T151359Z
LAST-MODIFIED:20240627T151359Z
UID:6195-1720026000-1720036800@www.sortiracombourg.fr
SUMMARY:Mercredis de l'été - Danses africaines
DESCRIPTION:Rendez vous incontournable de l’été ! \nMarché aux producteurs\, créateurs et artisans tous les mercredis de juillet et d’aout de 17h à 20h\, place piquette à Combourg. \nDes concerts (ou animations) gratuites sont prévus chaque mercredi de 18h30 à 20h. \n03/07 : marché de producteurs / créateurs + danses africaines avec Enadonké\n 
URL:https://www.sortiracombourg.fr/evenements/mercredis-de-lete-danses-africaines/
LOCATION:Cour des Arts\, Parvis de la médiathèque\, Combourg\, 35270\, France
CATEGORIES:Agenda
ATTACH;FMTTYPE=image/jpeg:https://www.sortiracombourg.fr/wp-content/uploads/2024/06/Affiche-Mercredis-de-lete-2024-scaled.jpg
ORGANIZER;CN="Combourg Animations":MAILTO:braderie.combourg@hotmail.com
END:VEVENT
BEGIN:VEVENT
DTSTART;TZID=Europe/Paris:20240706T080000
DTEND;TZID=Europe/Paris:20240706T180000
DTSTAMP:20260420T072056
CREATED:20240315T091507Z
LAST-MODIFIED:20240315T091507Z
UID:6003-1720252800-1720288800@www.sortiracombourg.fr
SUMMARY:Vide-grenier - Basket
DESCRIPTION:La Chateaubriand Combourg Basket organise son vide-grenier le samedi 6 juillet. \nA l’Espace Sportif Communal du Châtel\, avenue de Waldmünchen. \nContact : 07 66 25 63 47.
URL:https://www.sortiracombourg.fr/evenements/vide-grenier-basket/
LOCATION:Espace Sportif Communal du Châtel\, Avenue de Waldmünchen\, Combourg\, 35270\, France
CATEGORIES:Agenda
ORGANIZER;CN="Chateaubriand Combourg Basket":MAILTO:lachateaubriandcombourgbasket@gmail.com
END:VEVENT
BEGIN:VEVENT
DTSTART;TZID=Europe/Paris:20240710T080000
DTEND;TZID=Europe/Paris:20240710T170000
DTSTAMP:20260420T072056
CREATED:20240710T150507Z
LAST-MODIFIED:20240710T150507Z
UID:6211-1720598400-1720630800@www.sortiracombourg.fr
SUMMARY:Concours de peinture : Couleurs de Bretagne
DESCRIPTION:COULEURS DE BRETAGNE\, pour la promotion du patrimoine par le dessin et la peinture\nDepuis 30 ans\, Couleurs de Bretagne organise des concours de peinture gratuits et ouverts à tous dans le but de valoriser notre riche patrimoine. \nVilles et villages de Bretagne vous accueillent en toute convivialité pour mettre en valeur ce patrimoine et croquer sur le motif\, dans une journée\, un dessin ou une peinture. Venez poser votre chevalet au pied d’une chapelle ou d’un manoir\, face à la mer ou dans la campagne verdoyante et laissez-vous charmer par la beauté de notre belle région. Des artistes confirmés pourront échanger avec vous et vous conseiller. Rencontres entre artistes et public\, ces journées sont placées sous le sceau de la bonne humeur et du partage. Tous les artistes peuvent participer\, classés dans différentes catégories d’âge pour les enfants\, de technique et de niveau pour les adultes. En fin de journée\, un jury local composé d’artistes\, détermine les lauréats. \nHoraires d’une journée : \n\nDe 8h à 12h : inscriptions\, validation des supports (chaque artiste apporte son matériel)\nDe 8h à 16h : création des œuvres\nDe 15h à 16h : retour des œuvres\nDe 16h à 17h : réunion du jury\nA partir de 17h : exposition des œuvres réalisées dans la journée.\n17h30 – 45 : Remise des prix\n18h : verre de l’amitié\n\nParticipation gratuite. \nChaque peintre peut participer à autant de concours qu’il le souhaite durant la saison et toutes les expressions\, y compris abstraites\, sont acceptées. \nEn fin de saison\, une exposition présente toutes les œuvres sélectionnées lors des concours locaux. Elle aura lieu du 20 au 26 octobre 2024 à Châteaubriant (44). \nPour toute information : 02-97-57-25-19 ou couleurs-de-bretagne@orange.fr \nSite : couleursdebretagne.org
URL:https://www.sortiracombourg.fr/evenements/concours-de-peinture-couleurs-de-bretagne/
CATEGORIES:Agenda
ATTACH;FMTTYPE=image/jpeg:https://www.sortiracombourg.fr/wp-content/uploads/2024/07/2023030291-Affiche-CDB-2023-copie-scaled.jpg
END:VEVENT
BEGIN:VEVENT
DTSTART;TZID=Europe/Paris:20240710T170000
DTEND;TZID=Europe/Paris:20240710T200000
DTSTAMP:20260420T072056
CREATED:20240627T151517Z
LAST-MODIFIED:20240627T151517Z
UID:6197-1720630800-1720641600@www.sortiracombourg.fr
SUMMARY:Mercredis de l'été - Happy Pocket Brass
DESCRIPTION:Rendez vous incontournable de l’été ! \nMarché aux producteurs\, créateurs et artisans tous les mercredis de juillet et d’aout de 17h à 20h\, place piquette à Combourg. \nDes concerts (ou animations) gratuites sont prévus chaque mercredi de 18h30 à 20h. \n10/07 : Happy Pocket Brass : brass band de poche : >écoutez moi<
URL:https://www.sortiracombourg.fr/evenements/mercredis-de-lete-happy-pocket-brass/
LOCATION:Cour des Arts\, Parvis de la médiathèque\, Combourg\, 35270\, France
CATEGORIES:Agenda
ATTACH;FMTTYPE=image/jpeg:https://www.sortiracombourg.fr/wp-content/uploads/2024/06/Affiche-Mercredis-de-lete-2024-scaled.jpg
ORGANIZER;CN="Combourg Animations":MAILTO:braderie.combourg@hotmail.com
END:VEVENT
BEGIN:VEVENT
DTSTART;TZID=Europe/Paris:20240717T170000
DTEND;TZID=Europe/Paris:20240717T200000
DTSTAMP:20260420T072056
CREATED:20240627T151614Z
LAST-MODIFIED:20240627T151614Z
UID:6199-1721235600-1721246400@www.sortiracombourg.fr
SUMMARY:Mercredis de l'été - Ginko Biloka : Jazz créole
DESCRIPTION:Rendez vous incontournable de l’été ! \nMarché aux producteurs\, créateurs et artisans tous les mercredis de juillet et d’aout de 17h à 20h\, place piquette à Combourg. \nDes concerts (ou animations) gratuites sont prévus chaque mercredi de 18h30 à 20h. \n17 /07 : Ginko Biloka : Jazz créole >écoutez moi<
URL:https://www.sortiracombourg.fr/evenements/mercredis-de-lete-ginko-biloka-jazz-creole/
LOCATION:Cour des Arts\, Parvis de la médiathèque\, Combourg\, 35270\, France
CATEGORIES:Agenda
ATTACH;FMTTYPE=image/jpeg:https://www.sortiracombourg.fr/wp-content/uploads/2024/06/Affiche-Mercredis-de-lete-2024-scaled.jpg
ORGANIZER;CN="Combourg Animations":MAILTO:braderie.combourg@hotmail.com
END:VEVENT
BEGIN:VEVENT
DTSTART;TZID=Europe/Paris:20240724T170000
DTEND;TZID=Europe/Paris:20240724T200000
DTSTAMP:20260420T072056
CREATED:20240627T151715Z
LAST-MODIFIED:20240627T151715Z
UID:6201-1721840400-1721851200@www.sortiracombourg.fr
SUMMARY:Mercredis de l'été - Les Poissons Voyageurs : Gypsie bluegrass et Balkan musette
DESCRIPTION:Rendez vous incontournable de l’été ! \nMarché aux producteurs\, créateurs et artisans tous les mercredis de juillet et d’aout de 17h à 20h\, place piquette à Combourg. \nDes concerts (ou animations) gratuites sont prévus chaque mercredi de 18h30 à 20h. \n24/07 : Les Poissons Voyageurs : Gypsie bluegrass et Balkan musette >écoutez moi<
URL:https://www.sortiracombourg.fr/evenements/mercredis-de-lete-les-poissons-voyageurs-gypsie-bluegrass-et-balkan-musette/
LOCATION:Cour des Arts\, Parvis de la médiathèque\, Combourg\, 35270\, France
CATEGORIES:Agenda
ATTACH;FMTTYPE=image/jpeg:https://www.sortiracombourg.fr/wp-content/uploads/2024/06/Affiche-Mercredis-de-lete-2024-scaled.jpg
ORGANIZER;CN="Combourg Animations":MAILTO:braderie.combourg@hotmail.com
END:VEVENT
BEGIN:VEVENT
DTSTART;VALUE=DATE:20240728
DTEND;VALUE=DATE:20240729
DTSTAMP:20260420T072056
CREATED:20240213T111800Z
LAST-MODIFIED:20240724T072317Z
UID:5923-1722124800-1722211199@www.sortiracombourg.fr
SUMMARY:Braderie
DESCRIPTION:MY BROCANTE – Réservations \nLa braderie est réservée uniquement aux particuliers. \nInterdit aux professionnels.  \nToute personne reconnue professionnelle\, ne vendant pas des objets personnels et usagers et non autorisée à exposer se verra refuser l’accès à la braderie ou sera majorée à 40€ du mètre linéaire. \nNous vous rappelons que plusieurs stands de restaurations et boissons seront présents dans le centre-ville. Sur le plan reçu à la fin de votre inscription\, vous trouverez l’emplacement des sanitaires disponibles dans le centre-ville. \nD’autres permanences seront mises en place afin de vous accompagner dans votre inscription.
URL:https://www.sortiracombourg.fr/evenements/braderie-5/
LOCATION:Centre-ville\, Place Albert Parent\, Combourg\, 35270\, France
CATEGORIES:Agenda
ATTACH;FMTTYPE=image/png:https://www.sortiracombourg.fr/wp-content/uploads/2024/02/Braderie-Combourg-2024.png
ORGANIZER;CN="Combourg Animations":MAILTO:braderie.combourg@hotmail.com
END:VEVENT
END:VCALENDAR