BEGIN:VCALENDAR
VERSION:2.0
PRODID:-//Sortir à Combourg - ECPv6.15.16//NONSGML v1.0//EN
CALSCALE:GREGORIAN
METHOD:PUBLISH
X-ORIGINAL-URL:https://www.sortiracombourg.fr
X-WR-CALDESC:Évènements pour Sortir à Combourg
REFRESH-INTERVAL;VALUE=DURATION:PT1H
X-Robots-Tag:noindex
X-PUBLISHED-TTL:PT1H
BEGIN:VTIMEZONE
TZID:Europe/Paris
BEGIN:DAYLIGHT
TZOFFSETFROM:+0100
TZOFFSETTO:+0200
TZNAME:CEST
DTSTART:20230326T010000
END:DAYLIGHT
BEGIN:STANDARD
TZOFFSETFROM:+0200
TZOFFSETTO:+0100
TZNAME:CET
DTSTART:20231029T010000
END:STANDARD
BEGIN:DAYLIGHT
TZOFFSETFROM:+0100
TZOFFSETTO:+0200
TZNAME:CEST
DTSTART:20240331T010000
END:DAYLIGHT
BEGIN:STANDARD
TZOFFSETFROM:+0200
TZOFFSETTO:+0100
TZNAME:CET
DTSTART:20241027T010000
END:STANDARD
BEGIN:DAYLIGHT
TZOFFSETFROM:+0100
TZOFFSETTO:+0200
TZNAME:CEST
DTSTART:20250330T010000
END:DAYLIGHT
BEGIN:STANDARD
TZOFFSETFROM:+0200
TZOFFSETTO:+0100
TZNAME:CET
DTSTART:20251026T010000
END:STANDARD
END:VTIMEZONE
BEGIN:VEVENT
DTSTART;TZID=Europe/Paris:20240807T170000
DTEND;TZID=Europe/Paris:20240807T200000
DTSTAMP:20260420T061637
CREATED:20240627T151812Z
LAST-MODIFIED:20240627T151812Z
UID:6203-1723050000-1723060800@www.sortiracombourg.fr
SUMMARY:Mercredis de l'été - Le Foubon : spectacle burlesque
DESCRIPTION:Rendez vous incontournable de l’été ! \nMarché aux producteurs\, créateurs et artisans tous les mercredis de juillet et d’aout de 17h à 20h\, place piquette à Combourg. \nDes concerts (ou animations) gratuites sont prévus chaque mercredi de 18h30 à 20h. \n07/08 : La Mezanj : musique bretonne >écoutez moi<
URL:https://www.sortiracombourg.fr/evenements/mercredis-de-lete-le-foubon-spectacle-burlesque/
LOCATION:Cour des Arts\, Parvis de la médiathèque\, Combourg\, 35270\, France
CATEGORIES:Agenda
ATTACH;FMTTYPE=image/jpeg:https://www.sortiracombourg.fr/wp-content/uploads/2024/06/Affiche-Mercredis-de-lete-2024-scaled.jpg
ORGANIZER;CN="Combourg Animations":MAILTO:braderie.combourg@hotmail.com
END:VEVENT
BEGIN:VEVENT
DTSTART;TZID=Europe/Paris:20240814T170000
DTEND;TZID=Europe/Paris:20240814T200000
DTSTAMP:20260420T061637
CREATED:20240627T151938Z
LAST-MODIFIED:20240627T151938Z
UID:6205-1723654800-1723665600@www.sortiracombourg.fr
SUMMARY:Mercredis de l'été - Harvest Moon Trio : swing vocal
DESCRIPTION:Rendez vous incontournable de l’été ! \nMarché aux producteurs\, créateurs et artisans tous les mercredis de juillet et d’aout de 17h à 20h\, place piquette à Combourg. \nDes concerts (ou animations) gratuites sont prévus chaque mercredi de 18h30 à 20h. \n14/08 : Harvest Moon Trio : swing vocal >écoutez moi<
URL:https://www.sortiracombourg.fr/evenements/mercredis-de-lete-harvest-moon-trio-swing-vocal/
LOCATION:Cour des Arts\, Parvis de la médiathèque\, Combourg\, 35270\, France
CATEGORIES:Agenda
ATTACH;FMTTYPE=image/jpeg:https://www.sortiracombourg.fr/wp-content/uploads/2024/06/Affiche-Mercredis-de-lete-2024-scaled.jpg
ORGANIZER;CN="Combourg Animations":MAILTO:braderie.combourg@hotmail.com
END:VEVENT
BEGIN:VEVENT
DTSTART;TZID=Europe/Paris:20240819T080000
DTEND;TZID=Europe/Paris:20240819T170000
DTSTAMP:20260420T061637
CREATED:20240819T094949Z
LAST-MODIFIED:20240819T094949Z
UID:6271-1724054400-1724086800@www.sortiracombourg.fr
SUMMARY:Animations médiévales au Château
DESCRIPTION:Journées du patrimoine 21-22 septembre :  \n– De 10h à 18h le samedi et le dimanche. \n– Animations et visites guidées du château : tournoi de chevalerie (chevalerie initiatique)\, musique médiévale (Marotte et les musards)\, jonglerie et magie (Ari Dorion)\, campement et ateliers médiévaux + harpiste (Compagnie Gwesclen) \n– programme détaillé \nTarifs :  \nAccès au parc et aux animations :  \nA partir de 10 ans : 10 euros  \nVisite guidée du château + accès au parc et aux animations : \nAdulte : 15 euros  \nRéduit : 10 euros (étudiant et PSH) \nGratuit pour les moins de 10 ans
URL:https://www.sortiracombourg.fr/evenements/animations-medievales-au-chateau/
CATEGORIES:Agenda
ATTACH;FMTTYPE=image/jpeg:https://www.sortiracombourg.fr/wp-content/uploads/2024/08/Combourg-Journees-du-patrimoine-2024-scaled.jpg
END:VEVENT
BEGIN:VEVENT
DTSTART;TZID=Europe/Paris:20240821T170000
DTEND;TZID=Europe/Paris:20240821T200000
DTSTAMP:20260420T061637
CREATED:20240627T152036Z
LAST-MODIFIED:20240627T152041Z
UID:6207-1724259600-1724270400@www.sortiracombourg.fr
SUMMARY:Mercredis de l'été
DESCRIPTION:Rendez vous incontournable de l’été ! \nMarché aux producteurs\, créateurs et artisans tous les mercredis de juillet et d’aout de 17h à 20h\, place piquette à Combourg. \nDes concerts (ou animations) gratuites sont prévus chaque mercredi de 18h30 à 20h. \n21/08 : marché de producteurs / créateurs + animations sur place
URL:https://www.sortiracombourg.fr/evenements/mercredis-de-lete-2/
LOCATION:Cour des Arts\, Parvis de la médiathèque\, Combourg\, 35270\, France
CATEGORIES:Agenda
ATTACH;FMTTYPE=image/jpeg:https://www.sortiracombourg.fr/wp-content/uploads/2024/06/Affiche-Mercredis-de-lete-2024-scaled.jpg
ORGANIZER;CN="Combourg Animations":MAILTO:braderie.combourg@hotmail.com
END:VEVENT
BEGIN:VEVENT
DTSTART;VALUE=DATE:20240823
DTEND;VALUE=DATE:20240825
DTSTAMP:20260420T061637
CREATED:20240213T111842Z
LAST-MODIFIED:20240726T085119Z
UID:5925-1724371200-1724543999@www.sortiracombourg.fr
SUMMARY:Festival de la Lanterne
DESCRIPTION:Si la BRETAGNE et sa culture sont à l’honneur le Dimanche\, le festival fait la part belle aux Musiques du Monde le Samedi avec une soirée de concerts festifs aux couleurs des BALKANS. \nSamedi 24 août 2024 de 10h à minuit : \nDanses et musique du monde et des BALKANS \n\n– Marché de producteurs\n– Marché de créateurs\n– Brasseurs bretons\n– Jeux bretons\n– Conférence et expositions\n– Animations et Concerts de 12h00 à Minuit : YANPANA / MANIVEL SWING / spectacle LES PERCHEES par la Cie Artoutaï / Chorale du Monde « LA VOYAGEUSE » / Batucada SANDOBA / Collectif VOLKANIK / LES TARAFIKANTS\n\nLe Dimanche 25 août 2024 de 10h à 20h00 \nDanses et musique de BRETAGNE \n\n– Marché de producteurs\n– Marché de créateurs\n– Brasseurs bretons\n– Jeux bretons\n– Conférence et expositions\n– Maquillage artistique avec LES DECOIFFEES DU PINCEAU\n– Animations et Concerts de 11h à 19h30 : BAGAD AN HANTERNOZ (Dol de Bretagne) / initiation et démonstration de danses bretonnes avec le Cercle ENDERIOL de Miniac Morvan / Contes de Bretagne avec Fabienne Morel / Chants de Marins MOBY DICK / grand Fest-Deiz avec DIGABESTR / MOREL-BASLE / ERIS.\n\nEntrée payante : 10€ (adulte) / 5€ (12 à 17 ans) / Gratuit pour les moins de 12 ans. \nPass 2 jours : 15€ adultes \n  \nEspace buvette et restauration sur place. \nFood truck. \nProgramme et informations sur notre site : combourganimations.fr
URL:https://www.sortiracombourg.fr/evenements/festival-de-la-lanterne-4/
LOCATION:Stade du Moulin Madame\, Rue du Moulin Madame\, Combourg
CATEGORIES:Agenda
ATTACH;FMTTYPE=image/png:https://www.sortiracombourg.fr/wp-content/uploads/2024/02/Festival-de-la-Lanterne-2024-1.png
ORGANIZER;CN="Combourg Animations":MAILTO:braderie.combourg@hotmail.com
END:VEVENT
END:VCALENDAR