BEGIN:VCALENDAR
VERSION:2.0
PRODID:-//Sortir à Combourg - ECPv6.15.16//NONSGML v1.0//EN
CALSCALE:GREGORIAN
METHOD:PUBLISH
X-WR-CALNAME:Sortir à Combourg
X-ORIGINAL-URL:https://www.sortiracombourg.fr
X-WR-CALDESC:Évènements pour Sortir à Combourg
REFRESH-INTERVAL;VALUE=DURATION:PT1H
X-Robots-Tag:noindex
X-PUBLISHED-TTL:PT1H
BEGIN:VTIMEZONE
TZID:Europe/Paris
BEGIN:DAYLIGHT
TZOFFSETFROM:+0100
TZOFFSETTO:+0200
TZNAME:CEST
DTSTART:20230326T010000
END:DAYLIGHT
BEGIN:STANDARD
TZOFFSETFROM:+0200
TZOFFSETTO:+0100
TZNAME:CET
DTSTART:20231029T010000
END:STANDARD
BEGIN:DAYLIGHT
TZOFFSETFROM:+0100
TZOFFSETTO:+0200
TZNAME:CEST
DTSTART:20240331T010000
END:DAYLIGHT
BEGIN:STANDARD
TZOFFSETFROM:+0200
TZOFFSETTO:+0100
TZNAME:CET
DTSTART:20241027T010000
END:STANDARD
BEGIN:DAYLIGHT
TZOFFSETFROM:+0100
TZOFFSETTO:+0200
TZNAME:CEST
DTSTART:20250330T010000
END:DAYLIGHT
BEGIN:STANDARD
TZOFFSETFROM:+0200
TZOFFSETTO:+0100
TZNAME:CET
DTSTART:20251026T010000
END:STANDARD
END:VTIMEZONE
BEGIN:VEVENT
DTSTART;VALUE=DATE:20240901
DTEND;VALUE=DATE:20240902
DTSTAMP:20260420T050738
CREATED:20240412T133337Z
LAST-MODIFIED:20240726T131843Z
UID:6056-1725148800-1725235199@www.sortiracombourg.fr
SUMMARY:Journée Cycliste de l'Angevine
DESCRIPTION:Randonnée cyclo le matin\, au départ du camping.\nCourses cyclistes l’après-midi (13h00 et 15h30).
URL:https://www.sortiracombourg.fr/evenements/journee-cycliste-de-langevine/
LOCATION:Avenue de Waldmünchen\, Avenue de Waldmünchen\, Combourg
CATEGORIES:Agenda
ATTACH;FMTTYPE=image/webp:https://www.sortiracombourg.fr/wp-content/uploads/2024/04/flyer-internet-angevine-scaled.webp
ORGANIZER;CN="Amicale Cyclotouriste Combourgeoise":MAILTO:patriceneveucyclo@orange.fr
END:VEVENT
BEGIN:VEVENT
DTSTART;TZID=Europe/Paris:20240907T090000
DTEND;TZID=Europe/Paris:20240907T160000
DTSTAMP:20260420T050738
CREATED:20240213T132515Z
LAST-MODIFIED:20240726T132507Z
UID:5945-1725699600-1725724800@www.sortiracombourg.fr
SUMMARY:Forum des associations
DESCRIPTION:La municipalité renouvelle cette année encore ce rendez-vous incontournable. Vitrine du dynamisme associatif Combourgeois\, le forum des associations rassemble plus de 70 associations de la commune et des alentours. \nDes représentants de chaque structure seront présents pour discuter et pour vous renseigner sur leur activité. En flânant dans les allées du Complexe Sportif (et non de l’Espace Malouas !)\, vous découvrirez ainsi qu’à Combourg on peut faire du sport dans une vingtaine de disciplines différentes\, élargir ses horizons culturels\, s’investir dans l’humanitaire… \n 
URL:https://www.sortiracombourg.fr/evenements/forum-des-associations-4/
LOCATION:Complexe sportif de la Bretagne romantique\, Avenue des Acacias\, Combourg\, 35270\, France
CATEGORIES:Agenda
ATTACH;FMTTYPE=image/jpeg:https://www.sortiracombourg.fr/wp-content/uploads/2024/02/affiche-forum-des-associations-scaled.jpg
ORGANIZER;CN="Ville de Combourg":MAILTO:communication@combourg.com
END:VEVENT
BEGIN:VEVENT
DTSTART;TZID=Europe/Paris:20240920T190000
DTEND;TZID=Europe/Paris:20240920T203000
DTSTAMP:20260420T050738
CREATED:20240828T145440Z
LAST-MODIFIED:20240828T145440Z
UID:6280-1726858800-1726864200@www.sortiracombourg.fr
SUMMARY:Conférence : Lobbying et institutions européennes
DESCRIPTION:avec Sylvain Laurens.\nDirecteur d’études à l’EHESS\, Sylvain Laurens est spécialiste des questions liées au lobbying\, lequel\, par nature\, reste toujours assez secret.\nCette rencontre vise donc à éclaircir les liens qui unissent institutions et parlementaires européens aux groupes d’intérêt : sont-ils nécessaires ? Vertueux ? Courent-ils le risque de possibles dérapages et\, dans ce cas\, pour quelles conséquences sur la politique de l’Union européenne ? \nGratuit – Tout public – Sur réservation (nombre de places limité).
URL:https://www.sortiracombourg.fr/evenements/conference-lobbying-et-institutions-europeennes/
LOCATION:Médiathèque « Les Sources »\, 5 rue du Linon\, Combourg\, 35270\, France
CATEGORIES:Agenda
ATTACH;FMTTYPE=image/jpeg:https://www.sortiracombourg.fr/wp-content/uploads/2024/08/SylvainLaurens.jpg
ORGANIZER;CN="M%C3%A9diath%C3%A8que 'Les Sources'":MAILTO:mediatheque@combourg.com
END:VEVENT
BEGIN:VEVENT
DTSTART;VALUE=DATE:20240921
DTEND;VALUE=DATE:20240923
DTSTAMP:20260420T050738
CREATED:20240215T134404Z
LAST-MODIFIED:20240819T093925Z
UID:5983-1726876800-1727049599@www.sortiracombourg.fr
SUMMARY:Journées Européennes du Patrimoine
DESCRIPTION:A l’occasion des Journées Européennes du Patrimoine\, plusieurs acteurs culturels et touristiques combourgeois se sont réunis pour vous proposer un week-end riche en événements : \nPièce de théâtre – Billetterie en ligne.
URL:https://www.sortiracombourg.fr/evenements/journees-europeennes-du-patrimoine-2/
LOCATION:Centre-ville\, Place Albert Parent\, Combourg\, 35270\, France
CATEGORIES:Agenda
ATTACH;FMTTYPE=image/jpeg:https://www.sortiracombourg.fr/wp-content/uploads/2024/02/Affiche-JEP.jpg
ORGANIZER;CN="Ville de Combourg":MAILTO:communication@combourg.com
END:VEVENT
BEGIN:VEVENT
DTSTART;TZID=Europe/Paris:20240921T100000
DTEND;TZID=Europe/Paris:20240921T180000
DTSTAMP:20260420T050738
CREATED:20240716T123759Z
LAST-MODIFIED:20240716T123759Z
UID:6224-1726912800-1726941600@www.sortiracombourg.fr
SUMMARY:Démonstrations de savoir-faire
DESCRIPTION:Démonstrations de métiers d’art. \nDurant deux jours\, un vitrailliste\, un tourneur sur terre\, un souffleur de verre\, une tisserande\, une céramiste et un sculpteur sur métal vous présentent leur savoir-faire.\nUne occasion unique d’échanger avec les artisans qui se font un plaisir de vous faire découvrir leurs créations. \nEn parallèle\, une exposition sur le thème « Libre et créatrice » vous est proposée. \nDans le cadre des Journées du Patrimoine.
URL:https://www.sortiracombourg.fr/evenements/demonstrations-de-savoir-faire/
LOCATION:Maison de la Lanterne\, 23\, rue Notre-Dame\, Combourg
CATEGORIES:Agenda
ATTACH;FMTTYPE=image/jpeg:https://www.sortiracombourg.fr/wp-content/uploads/2024/07/DSC06083-scaled.jpg
ORGANIZER;CN="Ville de Combourg":MAILTO:communication@combourg.com
END:VEVENT
BEGIN:VEVENT
DTSTART;TZID=Europe/Paris:20240921T100000
DTEND;TZID=Europe/Paris:20240922T173000
DTSTAMP:20260420T050738
CREATED:20240716T123919Z
LAST-MODIFIED:20240716T123919Z
UID:6227-1726912800-1727026200@www.sortiracombourg.fr
SUMMARY:Découverte des maisons à pan de bois
DESCRIPTION:Découverte de l’architecture en pan de bois de manière ludique avec des ateliers à la Parenthèse. \nDe courtes visites (gratuites\, sans inscription) seront proposées :\n• le samedi 21 à 10h30 et à 14h30\n• le dimanche 22 à 10h30. \nAction organisée par la Région Bretagne dans le cadre d’un inventaire des maisons à pan de bois. \nDans le cadre des Journées du Patrimoine.
URL:https://www.sortiracombourg.fr/evenements/decouverte-des-maisons-a-pan-de-bois/
LOCATION:Espace culturel « La Parenthèse »\, place piquette\, combourg
CATEGORIES:Agenda
ATTACH;FMTTYPE=image/jpeg:https://www.sortiracombourg.fr/wp-content/uploads/2024/07/finie-scaled.jpg
ORGANIZER;CN="Ville de Combourg":MAILTO:communication@combourg.com
END:VEVENT
BEGIN:VEVENT
DTSTART;TZID=Europe/Paris:20240921T100000
DTEND;TZID=Europe/Paris:20240922T180000
DTSTAMP:20260420T050738
CREATED:20240828T145229Z
LAST-MODIFIED:20240828T145229Z
UID:6277-1726912800-1727028000@www.sortiracombourg.fr
SUMMARY:Tournoi de chevalerie - Journées du patrimoine
DESCRIPTION:Samedi 21 et dimanche 22 septembre\, de 10h à 18h. \nVisite guidée du château + animations dans le parc : \n\nGrand Tournoi de Chevalerie\,\nTroupe de musique médiévale\,\nCracheur de feu\,\nJongleur\,\nCampement et ateliers médiévaux\n\nEntrée payante. \nRestauration possible sur place. \nProgramme détaillé des animations et les modalités de visite : https://www.chateau-combourg.com/evenements \n 
URL:https://www.sortiracombourg.fr/evenements/tournoi-de-chevalerie-journees-du-patrimoine/
CATEGORIES:Agenda
ATTACH;FMTTYPE=image/jpeg:https://www.sortiracombourg.fr/wp-content/uploads/2024/08/Combourg-Journees-du-patrimoine-2024-1-scaled.jpg
END:VEVENT
BEGIN:VEVENT
DTSTART;TZID=Europe/Paris:20240921T150000
DTEND;TZID=Europe/Paris:20240921T163000
DTSTAMP:20260420T050738
CREATED:20240716T124024Z
LAST-MODIFIED:20240716T124223Z
UID:6230-1726930800-1726936200@www.sortiracombourg.fr
SUMMARY:Conférence sur la libération de Combourg
DESCRIPTION:Dans le cadre du 80e anniversaire de la libération de la commune\, la société historique et patrimoniale de la Bretagne romantique propose une conférence. Vincent Piot retracera l’histoire de cet événement historique. \nDans le cadre des Journées du Patrimoine.
URL:https://www.sortiracombourg.fr/evenements/conference-sur-la-liberation-de-combourg/
LOCATION:Médiathèque « Les Sources »\, 5 rue du Linon\, Combourg\, 35270\, France
CATEGORIES:Agenda
ATTACH;FMTTYPE=image/jpeg:https://www.sortiracombourg.fr/wp-content/uploads/2024/07/068-1944-08-02a-combourg.jpg
ORGANIZER;CN="SHPCC":MAILTO:vincent.1008@free.fr
END:VEVENT
BEGIN:VEVENT
DTSTART;TZID=Europe/Paris:20240922T120000
DTEND;TZID=Europe/Paris:20240922T170000
DTSTAMP:20260420T050738
CREATED:20240716T124608Z
LAST-MODIFIED:20240716T124608Z
UID:6233-1727006400-1727024400@www.sortiracombourg.fr
SUMMARY:Classe 4
DESCRIPTION:Toutes les personnes nées dans les années 4 sont conviées à participer à la rencontre des classes 4. \nProgramme : \n\n12h00 : photo sur le parvis de la mairie\n12h30 : vin d’honneur et repas à l’Espace Malouas (réservation obligatoire)\n\nContact : Adeline CHAUVIN (06.26.65.39.38) ou Ingrid CORVAISIER (06.32.70.38.28).
URL:https://www.sortiracombourg.fr/evenements/classe-4/
LOCATION:Espace Malouas\, Rue de Malouas\, Combourg\, 35270\, France
CATEGORIES:Agenda
ATTACH;FMTTYPE=image/png:https://www.sortiracombourg.fr/wp-content/uploads/2024/07/classe-4.png
END:VEVENT
BEGIN:VEVENT
DTSTART;TZID=Europe/Paris:20240922T163000
DTEND;TZID=Europe/Paris:20240922T173000
DTSTAMP:20260420T050738
CREATED:20240716T123619Z
LAST-MODIFIED:20240724T100854Z
UID:6221-1727022600-1727026200@www.sortiracombourg.fr
SUMMARY:Pièce de théâtre "Vous n'aurez pas la Bretagne"
DESCRIPTION:Le destin de la Bretagne s’est joué à la fin du Moyen-Âge\, dans la confrontation entre Anne de France et Anne de Bretagne. La première\, fille de Louis XI\, voulait la soumettre\, la seconde a lutté toute sa vie pour son indépendance\, même après avoir été sacrée reine de France. Cette pièce est l’histoire de ce duel passé qui résonne encore au présent. \nProposée la compagnie Ici & Là. \nBilletterie en ligne sur le site www.saint-malo-tourisme.com. \nTarifs : Adulte : 15 € / – 18 ans : 10 € \nDans le cadre des Journées du Patrimoine.
URL:https://www.sortiracombourg.fr/evenements/piece-de-theatre-vous-naurez-pas-la-bretagne/
LOCATION:Cinéma Chateaubriand\, Rue de Malouas\, Combourg\, 35270\, France
CATEGORIES:Agenda
ATTACH;FMTTYPE=image/jpeg:https://www.sortiracombourg.fr/wp-content/uploads/2024/07/affiche-theatre-scaled.jpg
ORGANIZER;CN="Ville de Combourg":MAILTO:communication@combourg.com
END:VEVENT
END:VCALENDAR