BEGIN:VCALENDAR
VERSION:2.0
PRODID:-//Sortir à Combourg - ECPv6.15.16//NONSGML v1.0//EN
CALSCALE:GREGORIAN
METHOD:PUBLISH
X-ORIGINAL-URL:https://www.sortiracombourg.fr
X-WR-CALDESC:Évènements pour Sortir à Combourg
REFRESH-INTERVAL;VALUE=DURATION:PT1H
X-Robots-Tag:noindex
X-PUBLISHED-TTL:PT1H
BEGIN:VTIMEZONE
TZID:Europe/Paris
BEGIN:DAYLIGHT
TZOFFSETFROM:+0100
TZOFFSETTO:+0200
TZNAME:CEST
DTSTART:20230326T010000
END:DAYLIGHT
BEGIN:STANDARD
TZOFFSETFROM:+0200
TZOFFSETTO:+0100
TZNAME:CET
DTSTART:20231029T010000
END:STANDARD
BEGIN:DAYLIGHT
TZOFFSETFROM:+0100
TZOFFSETTO:+0200
TZNAME:CEST
DTSTART:20240331T010000
END:DAYLIGHT
BEGIN:STANDARD
TZOFFSETFROM:+0200
TZOFFSETTO:+0100
TZNAME:CET
DTSTART:20241027T010000
END:STANDARD
BEGIN:DAYLIGHT
TZOFFSETFROM:+0100
TZOFFSETTO:+0200
TZNAME:CEST
DTSTART:20250330T010000
END:DAYLIGHT
BEGIN:STANDARD
TZOFFSETFROM:+0200
TZOFFSETTO:+0100
TZNAME:CET
DTSTART:20251026T010000
END:STANDARD
END:VTIMEZONE
BEGIN:VEVENT
DTSTART;TZID=Europe/Paris:20241006T150000
DTEND;TZID=Europe/Paris:20241006T170000
DTSTAMP:20260420T035811
CREATED:20240923T134517Z
LAST-MODIFIED:20240923T134517Z
UID:6322-1728226800-1728234000@www.sortiracombourg.fr
SUMMARY:Moby Dick fête ses 20 ans !
DESCRIPTION:
URL:https://www.sortiracombourg.fr/evenements/moby-dick-fete-ses-20-ans/
LOCATION:Espace Malouas\, Rue de Malouas\, Combourg\, 35270\, France
CATEGORIES:Agenda
ATTACH;FMTTYPE=image/jpeg:https://www.sortiracombourg.fr/wp-content/uploads/2024/09/Mobydick-affiche-20-ans.jpg
END:VEVENT
BEGIN:VEVENT
DTSTART;TZID=Europe/Paris:20241008T190000
DTEND;TZID=Europe/Paris:20241008T203000
DTSTAMP:20260420T035811
CREATED:20240828T145654Z
LAST-MODIFIED:20240828T145654Z
UID:6283-1728414000-1728419400@www.sortiracombourg.fr
SUMMARY:Conférence : Silence dans les champs
DESCRIPTION:avec Nicolas Legendre.\nReporter et écrivain\, Nicolas Legendre a reçu\, en 2023\, le prestigieux prix Albert Londres pour son récit d’enquête « Silence dans les champs » (éditions Arthaud).\nIl évoquera ce milieu agricole au sein duquel il a navigué durant plusieurs années\, notamment en Bretagne\, «où les paysans disparaissent peu à peu pour céder la place aux salariés de l’agroalimentaire\, dans un système qui fait naître des empires transnationaux et des baronnies locales». Et nous\, que savons-nous de ce monde paysan d’aujourd’hui ? \nGratuit – Tout public – Sur réservation (nombre de places limité).
URL:https://www.sortiracombourg.fr/evenements/conference-silence-dans-les-champs/
LOCATION:Médiathèque « Les Sources »\, 5 rue du Linon\, Combourg\, 35270\, France
CATEGORIES:Agenda
ATTACH;FMTTYPE=image/jpeg:https://www.sortiracombourg.fr/wp-content/uploads/2024/08/NicolasLegendre2.jpg
ORGANIZER;CN="M%C3%A9diath%C3%A8que 'Les Sources'":MAILTO:mediatheque@combourg.com
END:VEVENT
BEGIN:VEVENT
DTSTART;TZID=Europe/Paris:20241012T100000
DTEND;TZID=Europe/Paris:20241012T110000
DTSTAMP:20260420T035811
CREATED:20240828T145743Z
LAST-MODIFIED:20240930T100221Z
UID:6286-1728727200-1728730800@www.sortiracombourg.fr
SUMMARY:Prix Combourg-Chateaubriand
DESCRIPTION:Conférence – Débat\nL’académie Chateaubriand a attribué le prix Combourg / Chateaubriand 2024 à l’écrivain Sylvain TESSON\, pour son livre Avec les fées paru aux éditions Equateurs.\nUne conférence sera organisée le samedi matin\, de 10h à 11h dans la grande salle de la Parenthèse.
URL:https://www.sortiracombourg.fr/evenements/prix-combourg-chateaubriand/
LOCATION:Espace culturel « La Parenthèse »\, place piquette\, combourg
CATEGORIES:Agenda
ATTACH;FMTTYPE=image/jpeg:https://www.sortiracombourg.fr/wp-content/uploads/2024/08/affiche-prix-combourg.jpg
ORGANIZER;CN="Ville de Combourg":MAILTO:communication@combourg.com
END:VEVENT
BEGIN:VEVENT
DTSTART;TZID=Europe/Paris:20241012T140000
DTEND;TZID=Europe/Paris:20241012T170000
DTSTAMP:20260420T035811
CREATED:20240215T134450Z
LAST-MODIFIED:20240926T141746Z
UID:5985-1728741600-1728752400@www.sortiracombourg.fr
SUMMARY:Randonnée Rose
DESCRIPTION:Action organisée par le Rotary Combourg / Dol \n\nFooting : départ à 14h00\nRandonnée : départ à 14h30\n\nInscription possible sur place.
URL:https://www.sortiracombourg.fr/evenements/randonnee-rose-5/
LOCATION:Espace Malouas\, Rue de Malouas\, Combourg\, 35270\, France
CATEGORIES:Agenda
ATTACH;FMTTYPE=image/jpeg:https://www.sortiracombourg.fr/wp-content/uploads/2024/02/460961388_840632611528661_5636088246506733484_n.jpg
ORGANIZER;CN="Rotary Club":MAILTO:pirome@orange.fr
END:VEVENT
BEGIN:VEVENT
DTSTART;TZID=Europe/Paris:20241019T180000
DTEND;TZID=Europe/Paris:20241019T193000
DTSTAMP:20260420T035811
CREATED:20240828T145842Z
LAST-MODIFIED:20241002T085609Z
UID:6289-1729360800-1729366200@www.sortiracombourg.fr
SUMMARY:«De musique et de poésie» : Une voix ukrainienne
DESCRIPTION:Jeune poétesse née à Kiev\, Anna Malihon fait usage pacifique des mots pour révéler des images de son pays\, l’Ukraine\, et d’une situation où le courage\, la sensibilité et l’espoir font face à la folie de la guerre. Actuellement résidente à Paris\, elle est autrice de plusieurs recueils\, d’un roman et d’un récit-conte. Ses œuvres ont été traduits en bulgare\, polonais\, tchèque\, géorgien\, anglais\, français\, notamment. Musicien rennais\, Yann Barreaud lui tendra les cordes de sa guitare pour cheminer avec elle\, en mélodies\, sur la voie poétique qui décidément ne connait aucune frontière. \nGratuit – Tout public – Sur réservation.
URL:https://www.sortiracombourg.fr/evenements/de-musique-et-de-poesie-une-voix-ukrainienne/
LOCATION:Médiathèque « Les Sources »\, 5 rue du Linon\, Combourg\, 35270\, France
CATEGORIES:Agenda
ATTACH;FMTTYPE=image/jpeg:https://www.sortiracombourg.fr/wp-content/uploads/2024/08/Anna-Malihon1.jpeg
ORGANIZER;CN="M%C3%A9diath%C3%A8que 'Les Sources'":MAILTO:mediatheque@combourg.com
END:VEVENT
BEGIN:VEVENT
DTSTART;TZID=Europe/Paris:20241027T100000
DTEND;TZID=Europe/Paris:20241027T180000
DTSTAMP:20260420T035811
CREATED:20240828T150051Z
LAST-MODIFIED:20241007T123850Z
UID:6292-1730023200-1730052000@www.sortiracombourg.fr
SUMMARY:Halloween au Château
DESCRIPTION:Le Château de Combourg déroule le tapis noir pour un Halloween inoubliable ! Célébrez la magie automnale avec une myriade d’animations familiales dans l’enceinte mystique du parc. Frissons garantis! \nLa Féerie des Hauteurs\nLa compagnie Tisseurs de Brume dévoile ses spectacles déambulatoires « Le rêve d’Orée » et « Kalyoumkha ». Échassiers féeriques\, faune envoûtant et dryade mystique vous plongeront dans un univers où la magie se mêle aux légendes anciennes. Laissez-vous transporter par leurs récits envoûtants sur les créatures fantastiques de mondes lointains\, si toutefois\, vous parvenez à déchiffrer leur langage. \nLes Passeurs de Légendes\nSes quatre déesses et leur grognard de fantôme vous feront frémir de plaisir de leur présence délicieusement horrifique. Elles vous apprendront à célébrer comme il se doit\, Samain\, que l’on appelle désormais: Halloween. \nEmbruns d’Acier\nAssistez à des combats épiques où chevaliers et guerrières\, bretteuses et mages s’affrontent dans des duels spectaculaires. Épées\, dagues et potions virevolteront à travers les âges et les mondes mysterieux. \nCracheur de Feu \nLa crème des cracheurs de feu\, Éric Toffin\, alias Dragonn (dragon en breton) envoutera avec ses flammes de plusieurs mètres de haut et ses boules de feu ! \nLes Duels Enfantins\nSous l’égide des Animations GoPlay\, participez à des combats d’épées magiques animés par des vampires et morts vivants. En garde\, petits aventuriers ! \nAtelier des Frissons\nLa Compagnie Gwesclen vous invite à un voyage ludique et pédagogique à travers les âges\, découvrant le bestiaire médiéval et les superstitions d’antan. Licornes\, loup-garous\, sorcières\, démons…le Moyen-Âge révèle ses secrets ! \nMaquillage qui fait peur \nDevenez la créature de vos cauchemars grâce aux talents de Cathy Maquillage et Animaloups. Sorcières\, fées ou démons\, leurs pinceaux transformeront votre visage en véritable œuvre d’art fantastique. Bouh! \nRires et Sortilèges\nL’artiste burlesque\, Ari Dorion\, apportera une touche de fantaisie et d’humour à l’événement en déambulant à travers le parc. Ses jongleries burlesques et ses tours de magie diaboliques sauront amuser petits et grands ! \nVisites Guidées Fascinantes\nLes guides costumés conterons les soirées terrifiantes du jeune François-René de Chateaubriand dans ce château hanté. Découvrez le style néo-gothique\, influencé par Eugène Viollet-le-Duc\, de la forteresse imprégnée de spectres et de légendes… \nContes et Pyrotechnie\nEn fin de journée\, laissez vous captiver par le conteur de la compagnie Tisseurs de Brume avec son spectacle « Ankou ». Cette balade contée originale vous fera voyager à travers les légendes de la mort\, pour vous mener jusqu’à un final spectaculaire de feu et de pyrotechnie devant le château. Une conclusion enflammée à ne pas manquer\, si les cieux sont cléments ! \nGourmandises Hallucinantes\nGaillards food truck sandwiches briochés garnis copieusement et boissons originales ainsi que des bières artisanales. \nL’Authentique MG food truck galettes saucisses\, hot dogs revisités\, crêpes\, et gaufres de Liège. \nPâtiss & Créa des gâteaux fait maison sur la terrasse du Voyageur Café. \nInfos Pratiques \nLe dimanche 27 octobre \n\nde 10h à 18h30 (Dernière entrée vers 16h30)\nEntrée payante\nBillets non remboursables ni échangeables\nLa visite guidée du château n’est pas accessible en fauteuil roulant.\nPour la visite guidée du château + l’accès au parc\, les billets sont à prendre sur place.\nRéservation en ligne ou achat de billets sur place pour les animations dans le parc.
URL:https://www.sortiracombourg.fr/evenements/halloween-au-chateau-2/
LOCATION:Château de Combourg\, Rue des Princes\, Combourg
CATEGORIES:Agenda
ATTACH;FMTTYPE=image/webp:https://www.sortiracombourg.fr/wp-content/uploads/2024/08/Affiche-Halloween-Combourg-2024-scaled.webp
ORGANIZER;CN="Ch%C3%A2teau de Combourg":MAILTO:info@chateau-combourg.com
END:VEVENT
END:VCALENDAR