BEGIN:VCALENDAR
VERSION:2.0
PRODID:-//Sortir à Combourg - ECPv6.15.16//NONSGML v1.0//EN
CALSCALE:GREGORIAN
METHOD:PUBLISH
X-WR-CALNAME:Sortir à Combourg
X-ORIGINAL-URL:https://www.sortiracombourg.fr
X-WR-CALDESC:Évènements pour Sortir à Combourg
REFRESH-INTERVAL;VALUE=DURATION:PT1H
X-Robots-Tag:noindex
X-PUBLISHED-TTL:PT1H
BEGIN:VTIMEZONE
TZID:Europe/Paris
BEGIN:DAYLIGHT
TZOFFSETFROM:+0100
TZOFFSETTO:+0200
TZNAME:CEST
DTSTART:20230326T010000
END:DAYLIGHT
BEGIN:STANDARD
TZOFFSETFROM:+0200
TZOFFSETTO:+0100
TZNAME:CET
DTSTART:20231029T010000
END:STANDARD
BEGIN:DAYLIGHT
TZOFFSETFROM:+0100
TZOFFSETTO:+0200
TZNAME:CEST
DTSTART:20240331T010000
END:DAYLIGHT
BEGIN:STANDARD
TZOFFSETFROM:+0200
TZOFFSETTO:+0100
TZNAME:CET
DTSTART:20241027T010000
END:STANDARD
BEGIN:DAYLIGHT
TZOFFSETFROM:+0100
TZOFFSETTO:+0200
TZNAME:CEST
DTSTART:20250330T010000
END:DAYLIGHT
BEGIN:STANDARD
TZOFFSETFROM:+0200
TZOFFSETTO:+0100
TZNAME:CET
DTSTART:20251026T010000
END:STANDARD
END:VTIMEZONE
BEGIN:VEVENT
DTSTART;TZID=Europe/Paris:20241114T203000
DTEND;TZID=Europe/Paris:20241114T223000
DTSTAMP:20260420T024452
CREATED:20241011T073252Z
LAST-MODIFIED:20241011T073252Z
UID:6344-1731616200-1731623400@www.sortiracombourg.fr
SUMMARY:Cinéma-débat autour des thématiques de l’agriculture et de l’alimentation
DESCRIPTION:Dans le cadre de l’élaboration de son Projet Agricole Alimentaire Territorial et du festival ALIMENTERRE\, la Communauté de communes Bretagne romantique propose un cinéma-débat autour des thématiques de l’agriculture et de l’alimentation.\nEntrée gratuite et libre – Tout public \nLes habitants sont invités à venir réfléchir et échanger sur l’agriculture et l’alimentation de demain en Bretagne romantique. \n\n20h30 : projection du film « La Théorie du Boxeur »\n22h00 : débat et échanges\, en présence du Vice-Président en charge de l’environnement\, de la transition écologique et énergétique\, du transport et de la mobilité\, Sébastien Delabroise et d’acteurs locaux notamment des agriculteurs du territoire.
URL:https://www.sortiracombourg.fr/evenements/cinema-debat-autour-des-thematiques-de-lagriculture-et-de-lalimentation/
LOCATION:Cinéma Chateaubriand\, Rue de Malouas\, Combourg\, 35270\, France
CATEGORIES:Agenda
ATTACH;FMTTYPE=image/png:https://www.sortiracombourg.fr/wp-content/uploads/2024/10/cine_debat_paat_novembre_2024.png
ORGANIZER;CN="Communaut%C3%A9 de communes Bretagne romantique":MAILTO:accueil@bretagneromantique.fr
END:VEVENT
BEGIN:VEVENT
DTSTART;TZID=Europe/Paris:20241115T180000
DTEND;TZID=Europe/Paris:20241115T200000
DTSTAMP:20260420T024452
CREATED:20241031T103028Z
LAST-MODIFIED:20241031T103739Z
UID:6349-1731693600-1731700800@www.sortiracombourg.fr
SUMMARY:Dédicace Maryse Burgot
DESCRIPTION:La journaliste Maryse BURGOT\, née à Combourg\, viendra dédicacer son livre « Loin de chez moi\, grand reporter et fille de paysans »\, le\n\nvendredi 15 novembre\nà 18h00\nLibrairie Tournez la page\n\nRien ne prédestinait Maryse Burgot\, fille d’agriculteurs bretons\, à sillonner le monde au péril de sa vie. Les directs et les reportages de cette évadée de son milieu social\, sont\, depuis les années 1990\, des rendez-vous incontournables des téléspectateurs de France 2. Avec sa voix singulière et son approche de l’information\, elle s’est définitivement installées dans nos salons tous les soirs à 20h00. Des Balkans à l’Ukraine en passant par l’Afghanistan\, l’Irak\, la Syrie et le conflit israélo-palestinien\, Maryse Burgot a couvert les plus grands conflits de notre époque. Correspondante de France Télévision à Londres\, puis Washington\, pour concilier ses aspirations familiales et professionnelles\, Maryse Burgot montre aussi l’espoir qui résiste au cœur des catastrophes et nous fait vivre le grand reportage dans son versant le plus noble.
URL:https://www.sortiracombourg.fr/evenements/dedicace-maryse-burgot/
LOCATION:Librairie Tournez la Page\, 8 rue Notre Dame\, Combourg\, France
CATEGORIES:Agenda
ATTACH;FMTTYPE=image/jpeg:https://www.sortiracombourg.fr/wp-content/uploads/2024/10/Maryse-Burgot-Librairie-Tournez-La-Page-15.11-scaled.jpg
END:VEVENT
BEGIN:VEVENT
DTSTART;TZID=Europe/Paris:20241116T100000
DTEND;TZID=Europe/Paris:20241116T110000
DTSTAMP:20260420T024452
CREATED:20240828T150159Z
LAST-MODIFIED:20240828T150159Z
UID:6295-1731751200-1731754800@www.sortiracombourg.fr
SUMMARY:Spectacle pour enfants : Un loup dans les choux
DESCRIPTION:Wilson le loup entend à la radio qu’il faut manger des fruits et des légumes. Il quitte sa maison où cette nourriture est bannie et rencontre d’autres animaux qui lui font découvrir de nouveaux mets. Un monde insoupçonné s’ouvre à lui ! Ils feront même ensemble un jardin partagé avec carottes\, courgettes\, aubergines\, tomates\, navets… et choux bien sûr !\nProposée la compagnie Blablabla et Tralala. \nUne histoire pour sensibiliser les plus jeunes au «bien-manger»\, dans le cadre du « Pleins feux » organisé par la médiathèque Les Sources sur le thème du loup. \nGratuit – Sur réservation – Pour les 0-3 ans.
URL:https://www.sortiracombourg.fr/evenements/spectacle-pour-enfants-un-loup-dans-les-choux/
LOCATION:Espace culturel « La Parenthèse »\, place piquette\, combourg
CATEGORIES:Agenda
ATTACH;FMTTYPE=image/jpeg:https://www.sortiracombourg.fr/wp-content/uploads/2024/08/UnLoupDansLesChoux1.jpg
ORGANIZER;CN="M%C3%A9diath%C3%A8que 'Les Sources'":MAILTO:mediatheque@combourg.com
END:VEVENT
BEGIN:VEVENT
DTSTART;TZID=Europe/Paris:20241122T190000
DTEND;TZID=Europe/Paris:20241122T203000
DTSTAMP:20260420T024452
CREATED:20240828T150400Z
LAST-MODIFIED:20240828T150400Z
UID:6298-1732302000-1732307400@www.sortiracombourg.fr
SUMMARY:Conférence : A la découverte des loups
DESCRIPTION:avec Raphaël Gamand\nRaphaël Gamand travaille depuis longtemps sur les loups\, dont il observe régulièrement le comportement dans leur milieu naturel. Alors que l’animal a progressivement réinvesti différentes parties du territoire français\, beaucoup d’idées fausses et de préjugés demeurent. Comme il l’avait fait autour des insectes pollinisateurs à l’occasion d’une conférence remarquée\, Raphaël Gamand se propose d’éclairer le public sur le loup\, mammifère fascinant et encore mystérieux.\nUne rencontre organisée dans le cadre du « Pleins feux » organisé par la médiathèque sur le thème des loups. \nGratuit – Tout public – Sur réservation (nombre de places limité).
URL:https://www.sortiracombourg.fr/evenements/conference-a-la-decouverte-des-loups/
LOCATION:Médiathèque « Les Sources »\, 5 rue du Linon\, Combourg\, 35270\, France
CATEGORIES:Agenda
ATTACH;FMTTYPE=image/jpeg:https://www.sortiracombourg.fr/wp-content/uploads/2024/08/RaphaelGamandLoup.jpg
ORGANIZER;CN="M%C3%A9diath%C3%A8que 'Les Sources'":MAILTO:mediatheque@combourg.com
END:VEVENT
BEGIN:VEVENT
DTSTART;TZID=Europe/Paris:20241123T190000
DTEND;TZID=Europe/Paris:20241123T190000
DTSTAMP:20260420T024452
CREATED:20240726T145222Z
LAST-MODIFIED:20240726T145248Z
UID:6265-1732388400-1732388400@www.sortiracombourg.fr
SUMMARY:Soirée Diner/Karaoké "Années 80"
DESCRIPTION:Anim le Donc vous propose à l’Espace Malouas\, un dîner-karaoké sur le thème des « Années 80s ». \nRéservation obligatoire.
URL:https://www.sortiracombourg.fr/evenements/soiree-diner-karaoke-annees-80/
LOCATION:Espace Malouas\, Rue de Malouas\, Combourg\, 35270\, France
CATEGORIES:Agenda
ATTACH;FMTTYPE=image/png:https://www.sortiracombourg.fr/wp-content/uploads/2024/07/diner.png
ORGANIZER;CN="Anim Le Don":MAILTO:animledon@gmail.com
END:VEVENT
END:VCALENDAR