BEGIN:VCALENDAR
VERSION:2.0
PRODID:-//Sortir à Combourg - ECPv6.15.16//NONSGML v1.0//EN
CALSCALE:GREGORIAN
METHOD:PUBLISH
X-WR-CALNAME:Sortir à Combourg
X-ORIGINAL-URL:https://www.sortiracombourg.fr
X-WR-CALDESC:Évènements pour Sortir à Combourg
REFRESH-INTERVAL;VALUE=DURATION:PT1H
X-Robots-Tag:noindex
X-PUBLISHED-TTL:PT1H
BEGIN:VTIMEZONE
TZID:Europe/Paris
BEGIN:DAYLIGHT
TZOFFSETFROM:+0100
TZOFFSETTO:+0200
TZNAME:CEST
DTSTART:20230326T010000
END:DAYLIGHT
BEGIN:STANDARD
TZOFFSETFROM:+0200
TZOFFSETTO:+0100
TZNAME:CET
DTSTART:20231029T010000
END:STANDARD
BEGIN:DAYLIGHT
TZOFFSETFROM:+0100
TZOFFSETTO:+0200
TZNAME:CEST
DTSTART:20240331T010000
END:DAYLIGHT
BEGIN:STANDARD
TZOFFSETFROM:+0200
TZOFFSETTO:+0100
TZNAME:CET
DTSTART:20241027T010000
END:STANDARD
BEGIN:DAYLIGHT
TZOFFSETFROM:+0100
TZOFFSETTO:+0200
TZNAME:CEST
DTSTART:20250330T010000
END:DAYLIGHT
BEGIN:STANDARD
TZOFFSETFROM:+0200
TZOFFSETTO:+0100
TZNAME:CET
DTSTART:20251026T010000
END:STANDARD
END:VTIMEZONE
BEGIN:VEVENT
DTSTART;VALUE=DATE:20241214
DTEND;VALUE=DATE:20241216
DTSTAMP:20260420T013507
CREATED:20240828T150538Z
LAST-MODIFIED:20241112T160945Z
UID:6301-1734134400-1734307199@www.sortiracombourg.fr
SUMMARY:Marché et animations de Noël
DESCRIPTION:Plus de 60 exposants vous donnent rendez-vous sur la place Piquette\, l’espace culturel «La Parenthèse» et la cour des arts.\nA quelques jours de Noël\, ce marché sera l’occasion idéale pour dénicher vos derniers cadeaux\, décorer votre table du réveillon et trouver des bons produits locaux pour passer de belles fêtes «made in Combourg» ! Présence du Père Noël pendant ces deux jours ! \nPlusieurs animations se dérouleront tout au long du week-end (Battucada Brésilienne\, spectacle de bulles\, maquillage pour enfants…)\, dont L’Hivernale\, l’exposition de véhicules anciens organisée par Combourg Animations. Gratuit – Ouvert à tous.
URL:https://www.sortiracombourg.fr/evenements/marche-et-animations-de-noel-2/
LOCATION:Place Piquette\, Place Piquette\, Combourg
CATEGORIES:Agenda
ATTACH;FMTTYPE=image/jpeg:https://www.sortiracombourg.fr/wp-content/uploads/2024/08/marche-de-noel.jpg
ORGANIZER;CN="UCIAPL":MAILTO:uciapl35270@gmail.com
END:VEVENT
BEGIN:VEVENT
DTSTART;TZID=Europe/Paris:20241215T093000
DTEND;TZID=Europe/Paris:20241215T170000
DTSTAMP:20260420T013507
CREATED:20240828T150740Z
LAST-MODIFIED:20241014T151443Z
UID:6303-1734255000-1734282000@www.sortiracombourg.fr
SUMMARY:L’Hivernale
DESCRIPTION:Vous avez un camion\, une voiture ou une moto de plus de 30 ans ? Inscrivez vous à cette journée en contactant Combourg Animations. \nAu programme : \n\nExposition de 200 véhicules (de 9h30 à 12h30 et de 14h00 à 17h00)\nAnimations toute la journée.\nBaptêmes au profit du Téléthon (3€).\nBalades autour de Combourg.\n\nEntrée gratuite.
URL:https://www.sortiracombourg.fr/evenements/lhivernale-2/
LOCATION:Centre-ville\, Place Albert Parent\, Combourg\, 35270\, France
CATEGORIES:Agenda
ATTACH;FMTTYPE=image/webp:https://www.sortiracombourg.fr/wp-content/uploads/2024/08/Hivernale-2024-HD-scaled.webp
ORGANIZER;CN="Combourg Animations":MAILTO:braderie.combourg@hotmail.com
END:VEVENT
BEGIN:VEVENT
DTSTART;TZID=Europe/Paris:20241218T143000
DTEND;TZID=Europe/Paris:20241218T153000
DTSTAMP:20260420T013507
CREATED:20241112T161413Z
LAST-MODIFIED:20241121T163052Z
UID:6368-1734532200-1734535800@www.sortiracombourg.fr
SUMMARY:Spectacle de Noël de la ville
DESCRIPTION:Comme tous les ans avant les fêtes\, la mairie organise son spectacle de Noël\, ouvert à tous. \nCette année\, les enfants pourront découvrir le spectacle « Caroline fête Noël ».
URL:https://www.sortiracombourg.fr/evenements/spectacle-de-noel-de-la-ville-2/
LOCATION:Espace Malouas\, Rue de Malouas\, Combourg\, 35270\, France
CATEGORIES:Agenda
ATTACH;FMTTYPE=image/jpeg:https://www.sortiracombourg.fr/wp-content/uploads/2024/11/affiche-noel-24-scaled.jpg
ORGANIZER;CN="Ville de Combourg":MAILTO:communication@combourg.com
END:VEVENT
BEGIN:VEVENT
DTSTART;TZID=Europe/Paris:20241222T150000
DTEND;TZID=Europe/Paris:20241222T170000
DTSTAMP:20260420T013507
CREATED:20240828T150831Z
LAST-MODIFIED:20240828T150831Z
UID:6306-1734879600-1734886800@www.sortiracombourg.fr
SUMMARY:Concert de Noël de la chorale Sainte-Cécile
DESCRIPTION:Fidèle à sa tradition\, la chorale Ste Cécile de Combourg proposera son concert de Noël le dimanche 22 décembre à 15h00 en l’église Notre-Dame de Combourg. Le programme comprendra des chants de Noël issus de mélodies classiques (Marc-Antoine Charpentier\, Camille Saint-Saëns\, Louis-Claude Daquin\, Michaël Praetorius…)\, des noëls d’Europe et des noëls traditionnels.\nUne invitation à venir vivre un moment privilégié pour aborder les fêtes de fin d’année. \nLibre participation.
URL:https://www.sortiracombourg.fr/evenements/concert-de-noel-de-la-chorale-sainte-cecile-3/
LOCATION:Eglise Notre-Dame\, Place Saint-Gilduin\, Combourg\, 35270\, France
CATEGORIES:Agenda
ATTACH;FMTTYPE=image/jpeg:https://www.sortiracombourg.fr/wp-content/uploads/2024/08/IMG-20240814-WA0002.jpg
END:VEVENT
END:VCALENDAR