BEGIN:VCALENDAR
VERSION:2.0
PRODID:-//Sortir à Combourg - ECPv6.15.16//NONSGML v1.0//EN
CALSCALE:GREGORIAN
METHOD:PUBLISH
X-ORIGINAL-URL:https://www.sortiracombourg.fr
X-WR-CALDESC:Évènements pour Sortir à Combourg
REFRESH-INTERVAL;VALUE=DURATION:PT1H
X-Robots-Tag:noindex
X-PUBLISHED-TTL:PT1H
BEGIN:VTIMEZONE
TZID:Europe/Paris
BEGIN:DAYLIGHT
TZOFFSETFROM:+0100
TZOFFSETTO:+0200
TZNAME:CEST
DTSTART:20240331T010000
END:DAYLIGHT
BEGIN:STANDARD
TZOFFSETFROM:+0200
TZOFFSETTO:+0100
TZNAME:CET
DTSTART:20241027T010000
END:STANDARD
BEGIN:DAYLIGHT
TZOFFSETFROM:+0100
TZOFFSETTO:+0200
TZNAME:CEST
DTSTART:20250330T010000
END:DAYLIGHT
BEGIN:STANDARD
TZOFFSETFROM:+0200
TZOFFSETTO:+0100
TZNAME:CET
DTSTART:20251026T010000
END:STANDARD
BEGIN:DAYLIGHT
TZOFFSETFROM:+0100
TZOFFSETTO:+0200
TZNAME:CEST
DTSTART:20260329T010000
END:DAYLIGHT
BEGIN:STANDARD
TZOFFSETFROM:+0200
TZOFFSETTO:+0100
TZNAME:CET
DTSTART:20261025T010000
END:STANDARD
END:VTIMEZONE
BEGIN:VEVENT
DTSTART;TZID=Europe/Paris:20250503T100000
DTEND;TZID=Europe/Paris:20250504T180000
DTSTAMP:20260419T192819
CREATED:20250121T102431Z
LAST-MODIFIED:20250411T101113Z
UID:6423-1746266400-1746381600@www.sortiracombourg.fr
SUMMARY:Fête médiévale fantastique
DESCRIPTION:Quand l’Histoire se mêle au merveilleux… \nLe Château de Combourg et l’association Vikings et Chevaliers vous invitent à un voyage hors du temps\, entre épopée historique et légendes enchantées. Fort du succès de sa première édition\, la Fête Médiévale revient les 3 et 4 mai 2025\, enrichie cette année d’une dimension fantastique. Pendant deux jours\, le parc de la célèbre forteresse romantique se métamorphose en un royaume peuplé de chevaliers\, vikings\, artisans magiques et créatures légendaires. \nVoyagez à travers les âges dans les campements médiévaux et scandinaves : démonstrations de forge et de combats\, artisanats anciens\, savoirs oubliés\, récits merveilleux et initiation aux armes pour petits et grands. \nFlânez dans un marché féerique rassemblant plus de 40 artisans venus partager leur passion : bijoux païens\, vêtements d’aventuriers\, poteries elfiques\, objets en cuir\, livres fantasy\, herboristerie\, décorations inspirées du merveilleux… autant de trésors dans un cadre d’exception. \nVibrez au rythme des spectacles : musiques anciennes\, jongleries de feu\, jeux épiques\, contes pour enfants et adultes\, escape game grandeur nature\, parcours du petit chevalier… Une fête vivante\, joyeuse et immersive. \nCostumes bienvenus\, capes et cottes de mailles encouragées\, imagination libre et joyeuse attendue ! \nINFOS PRATIQUES\nLe samedi 3 et dimanche 4 mai 2025 \n(de 10h à 18h) \n*Entrée payante. Les billets sont non remboursables \n*Réservation en ligne ou achat de billets sur place \nTARIFS (Accès au Parc + Animations)\n*Achat en avance jusqu’au 2 mai 23h59 \n\n6 € Adulte\n10€ Adulte (Pass pour 2 jours)\nGratuit Enfant (moins de 16 ans)\n\n*Achat le jour de l’évènement \n\n8 € Adulte\n14€ Adulte (Pass pour 2 jours)\nGratuit Enfant (moins de 16 ans)\n*Visite guidée de l’interieure du Chateau (supplément à prendre sur place)\n\nGOURMANDISES\nLa Cabane du Lapin Magique restauration médiévale \nLa Taverne du Dragon restauration médiévale \nLes Délices de Lolo food truck galettes et crêpes artisanales avec produits locaux \nGaillards food truck sandwiches briochés garnis copieusement et boissons originales ainsi que des bières artisanales \nL’Authentique MG food truck galettes saucisses\, crêpes\, gaufres de Liège \nElsa Gourmandises des gâteaux fait maison sur la terrasse du Voyageur Café \nANIMATIONS ATELIERS SPECTACLES\nAl Qafilah – La Caravane d’Orient. Plongez dans l’univers chatoyant de l’Orient médiéval à travers un authentique campement nomade : tente berbère dressée au cœur du site\, senteurs d’épices et d’aliments rares\, secrets des médecines anciennes venues du Croissant fertile\, et présentation d’armes d’époque maniées avec adresse. Jeux traditionnels orientaux et étoffes précieuses viendront compléter ce voyage sensoriel sur les routes de la Soie. \nFabulore – Les Contes de Will Boffin.Sous la tente ou à la lueur des flambeaux\, Will Boffin\, ménestrel des Terres du Milieu\, contera les légendes des Seigneurs des Anneaux. Un voyage enchanté où dragons\, anneaux magiques et peuples mythiques reprennent vie dans le souffle du conte. \nL’Archanteur – Musique Médiévale Vivante. Le rebec chante\, l’épinette tinte\, et les percussions rythment le pas : l’Archanteur évoque l’âme musicale du Moyen Âge à travers des instruments d’époque et des airs oubliés\, portés par l’écho des siècles. \nLes Chevaliers de l’Oust. Campement médiéval vivant\, ces seigneurs de l’Oust dévoilent les secrets de la vie quotidienne au fil du temps : tenues civiles et militaires\, équipements variés\, démonstrations de systèmes de combat (épée/bouclier\, lance\, dague\, armes à deux mains) et initiation pour petits et grands. Découvrez aussi les coiffes à travers les âges et bien d’autres artefacts de la vie seigneuriale. \nLe Clan d’Ivar – Les Hommes du Nord. Établi dans un camp viking du IXe siècle\, le Clan d’Ivar ressuscite la Scandinavie d’antan : tentes historiques\, ateliers d’artisanat ancien (teinture\, tissage\, forge\, cuisine au feu)\, contes païens et jeux nordiques. Combat viking encadré et initiations aux armes\, tournoi de touche et échanges passionnés sur les liens entre Francie\, Bretagne et mondes du Nord. \nLe Clan d’Yggdrasil. Campement viking du IXe au Xe siècle\, forges à double soufflets résonnant comme au Valhalla\, artisans au travail\, râteliers d’armes affûtées et évocation du projet de reconstitution du navire de Gislinge. Guerriers et artisans vous invitent à entrer dans la saga nordique. \nLes Contes de Mélusine – L’Éveil des Petits Chevaliers. Au détour d’un chemin\, entrez dans le monde enchanté de Mélusine : jeux médiévaux pour enfants\, parcours initiatique du petit chevalier (5 épreuves\, remise de diplôme)\, tir de machines de guerre (couillard et bricole)\, et 30 jeux en bois en libre accès pour toute la famille. Une aventure ludique au cœur de la chevalerie. \nLes Ritournelles du Kuzdhul – Escape Game Médiéval Fantastique. Une quête mystérieuse s’empare du domaine : partez à l’aventure dans un escape game grandeur nature inspiré des légendes du *Seigneur des Anneaux*. Sur tout le site\, énigmes et rencontres vous guideront vers votre destinée. \nLe Temps d’un Camp – Lumière sur la Scriptorium. Découvrez l’art noble de la calligraphie et de l’enluminure dans ce campement vivant : exposition de matériaux anciens\, initiation à l’écriture gothique et à l’art de l’enluminure\, cuisine médiévale au feu de bois. Une immersion dans la beauté du geste et la patience des copistes. \nMarotte et les Musards – Ménestrels et Magiciens du Verbe. Spectacle musical ambulant : chants du XIIIe siècle\, jongleries enflammées et instruments d’époque. Laissez-vous emporter par ces troubadours modernes qui font revivre l’éclat et la féerie des fêtes médiévales. \nTrollball – Le Sport des Héros. Dans l’arène\, deux équipes s’affrontent avec épées en mousse pour rapporter une tête de troll dans leur camp. Sous l’œil vigilant du maître de jeu Rico\, honneur\, stratégie et éclats de rire garantis. Jeu participatif pour tous les âges. \nARTISANS\nLakshmi Shop créatrice de talismans en wire wrapping d’inspiration nordique \nLa Malle de Galica le cuir féerique \nBreizh Clichés Photographie sortie instantanée de photos en 10×15 et 15×20\, possibilité d’agrandissement sur commandes + gravures laser personnalisables sur ardoise\, toiles et verre \nTous fils\, toutes époques création costumes\, personnages crochet\, inspiration fantastique\, médiévale et nature \nL’Animalirium de Sophie Gerl peintures fantastiques \nLa Voix des Vikings tirage de runes \nMord’encre dessins fantastiques \nPierre des Elfs bougies ésotériques \nAtelier L’oiseau sur la branche mobiles \nHerboristerie de la Baie thés et tisanes artisanales \nSmog Veine de Bois objets décoratif en bois recyclé \nLe petit rond magique figurines\, petites créatures en terrarium \nMétal Art Shop couteaux forgés \nKorsaire rhums arrangés réalisés à base de fruits locaux\, épices du monde et plantes \nEditions Fantasy-Parc livres fantasy \nEllil trux\, bijoux pour livres\, décorations d’intérieurs \nD’une main de fée pyrogravure sur bois brut \nLe Voyage de Twiga bijoux en macramé \nTerre d’Endor poterie et sculpture céramique \nArtiVika Design décorations en cuivre \nL’atelier de Kernunnos Menhir sculpture et peinture \nNimuaé bijoux \nSomuko Jeux et Création jeux et livres jeunesse \nBeccos Runos hypocras \nPeschard Edouard livres fantasy \nEglantine Faun illustrations illustratrice univers fantastique\, mythologie nordique et celtique \nLes gâteaux à la broche spécialité Occitane \nL’imaginarium de Sandragon bijoux et décorations fantasy/steampunk \nLe loup des ases bijoux pagan \nL’échoppe magique des douceurs miel et savon \nXylocoop tournage sur bois \nL’échoppe de Damanyès vêtements médiévaux\, vikings\, pirates \nMarlo linogravure \nLes cuirs du Rohan créateur du cuir spécialisé en médiévale fantastique \nLe Petit monde de Fossette petits figurines en pâte polymère \nAldavlore Créations artisanat cuir \nJoueizh ! jeux de cartes-lettres \nFilix Silva sorcière verte
URL:https://www.sortiracombourg.fr/evenements/fete-et-marche-medievaux-et-fantastiques/
LOCATION:Parc du Château\, Rue des Princes\, Combourg\, 35270\, France
CATEGORIES:Agenda
ATTACH;FMTTYPE=image/webp:https://www.sortiracombourg.fr/wp-content/uploads/2025/01/Fete-Medievale-Fantastique-Affiche-20251-scaled.webp
ORGANIZER;CN="Ch%C3%A2teau de Combourg":MAILTO:info@chateau-combourg.com
END:VEVENT
BEGIN:VEVENT
DTSTART;TZID=Europe/Paris:20250516T190000
DTEND;TZID=Europe/Paris:20250516T203000
DTSTAMP:20260419T192819
CREATED:20250404T101601Z
LAST-MODIFIED:20250404T101601Z
UID:6534-1747422000-1747427400@www.sortiracombourg.fr
SUMMARY:Conférence : les océans et le climat
DESCRIPTION:Changement climatique et océan par Paul Tréguer\, océanographe\, professeur émérite à l’Institut Universitaire Européen de la Mer\, Brest \nLe changement climatique est en cours\, affectant la vie sur la planète Terre. Jusqu’à présent\, l’océan régule le climat\, en absorbant une bonne part de la chaleur et des émissions de gaz carbonique engendrées par les activités humaines. Mais l’océan est déjà sévèrement impacté par ce changement. Pour l’atténuer\, il nous faut changer de cap et mettre fin à l’utilisation des énergies fossiles. Pour cela\, nous pouvons bénéficier du fort potentiel des énergies marines renouvelables. Des géo-ingénieurs\, inspirés par Prométhée\, rêvent de soumettre Neptune. Faut-il les suivre et manipuler l’océan pour qu’il absorbe davantage de gaz à effet de serre? \nA l’issue de la conférence\, Paul Tréguer dédicacera son ouvrage L’Océan est-il le maître du climat (Apogée).
URL:https://www.sortiracombourg.fr/evenements/conference-les-oceans-et-le-climat/
LOCATION:Médiathèque « Les Sources »\, 5 rue du Linon\, Combourg\, 35270\, France
CATEGORIES:Agenda
ATTACH;FMTTYPE=image/webp:https://www.sortiracombourg.fr/wp-content/uploads/2025/04/L1060833.webp
ORGANIZER;CN="M%C3%A9diath%C3%A8que 'Les Sources'":MAILTO:mediatheque@combourg.com
END:VEVENT
BEGIN:VEVENT
DTSTART;VALUE=DATE:20250517
DTEND;VALUE=DATE:20250519
DTSTAMP:20260419T192819
CREATED:20250402T122959Z
LAST-MODIFIED:20250403T144343Z
UID:6525-1747440000-1747612799@www.sortiracombourg.fr
SUMMARY:Il y a 80 ans\, Combourg fêtait la paix retrouvée
DESCRIPTION:Dans le cadre des cérémonies commémoratives de la fin de la Seconde Guerre Mondiale\, deux jours d’animations sont organisées. \n\nCamp militaire\, avec plus de 60 véhicules civils et militaires et plus de 100 participants en tenue d’époque. Samedi\, de 14h à 19h et dimanche de 14h à 17h\, dans la prairie de l’Angevine.\nBalade à bicyclette uniquement en tenues d’époque. Ouvert à tous. Départ à 14h30 de la prairie de l’Angevine.\nConcert «Madeeson & Co» (musique des années 40’s-50s). Samedi à 20h30 sur la chaussée de Durfort\nCérémonies commémoratives\, le dimanche à 10h30 sur la place Louis Lefrançois puis à 11h10 sur la place des Déportés.\nDémonstrations de véhicules amphibies sur le Lac Tranquille. Dimanche à 15h00.\n\nEt de nombreuses autres animations. Restauration et buvettes sur place. \nGratuit. Ouvert à tous.
URL:https://www.sortiracombourg.fr/evenements/il-y-a-80-ans-combourg-fetait-la-paix-retrouvee/
LOCATION:Prairie de l’Angevine\, Route de Rennes\, Combourg\, 35270\, France
CATEGORIES:Agenda
ATTACH;FMTTYPE=image/webp:https://www.sortiracombourg.fr/wp-content/uploads/2025/04/329th-BUCKSHOT_FlyerA5-1.webp
ORGANIZER;CN="329th Buckshot":MAILTO:329th-buckshot@orange.fr
END:VEVENT
BEGIN:VEVENT
DTSTART;TZID=Europe/Paris:20250518T163000
DTEND;TZID=Europe/Paris:20250518T173000
DTSTAMP:20260419T192819
CREATED:20250402T121745Z
LAST-MODIFIED:20250402T121745Z
UID:6515-1747585800-1747589400@www.sortiracombourg.fr
SUMMARY:Concert : le SIM invite le Brass Band de Lorient – Bretagne Sud !
DESCRIPTION:SC#6 – Brass Band de Lorient \nLe 3BS\, né en 2010\, regroupe les élèves et leurs professeurs des classes de cuivres et de percussions des écoles de musique et conservatoires du pays de Lorient ainsi que des musiciens amateurs d’excellent niveau. Récemment désignés Champions de France en troisième division du concours de Brass Band national\, à Metz en février dernier\, les musiciens du 3BS vous réserve un moment musical d’exception ! \nCette formation travaille dans la pure tradition des brass band anglais n’hésitant pas\, depuis sa création\, à inviter des chefs et solistes prestigieux : Florent Didier\, Claude Kaesmaker\, Glenn Van Looy\, Anthony Galinier… \nLes musiciens du 3Bs interprètent avec passion un répertoire éclectique\, accessible à tous les publics\, allant d’œuvres originales à des arrangements de musique classique\, de film et de variété. \nL’action pédagogique du 3Bs auprès du jeune public contribue vivement au développement des classes de cuivres et de percussions de la région Bretagne. Étant un outil privilégié d’apprentissage et d’épanouissement\, il permet l’accès aux pratiques collectives des élèves de second et de troisième cycle des classes de Cuivres et de Percussions du Conservatoire à Rayonnement Départemental de Lorient. \nAvec la participation de l’ensemble de cuivres (trompette\, trombone et tuba) du SIM \nEn partenariat avec la mairie de Combourg et les associations « Pas à Pas » et « Open Music »
URL:https://www.sortiracombourg.fr/evenements/concert-le-sim-invite-le-brass-band-de-lorient-bretagne-sud/
LOCATION:Espace Malouas\, Rue de Malouas\, Combourg\, 35270\, France
CATEGORIES:Agenda
ATTACH;FMTTYPE=image/webp:https://www.sortiracombourg.fr/wp-content/uploads/2025/04/2025.05.18-SC6-3BS.webp
ORGANIZER;CN="SIM":MAILTO:contact@simecoledemusique.com
END:VEVENT
BEGIN:VEVENT
DTSTART;TZID=Europe/Paris:20250525T090000
DTEND;TZID=Europe/Paris:20250525T200000
DTSTAMP:20260419T192819
CREATED:20250121T102535Z
LAST-MODIFIED:20250411T101342Z
UID:6426-1748163600-1748203200@www.sortiracombourg.fr
SUMMARY:Les Floréales
DESCRIPTION:Les Floréales de Combourg représentent une occasion unique de se plonger dans la beauté de la nature et de revivre l’histoire fascinante de la Bretagne à travers les yeux de Chateaubriand dans le parc du Château de Combourg. C’est un rendez-vous incontournable pour tous ceux qui souhaitent célébrer la flore et l’histoire dans un cadre exceptionnel. \nGrande fête des plantes et du jardin\, les Floréales sont plus qu’une simple exposition florale. Elles constituent une véritable célébration de la nature\, du jardinage et de l’artisanat. \nCette année\, le 25 mai sera également le jour de la Fête de la Bretagne\, l’occasion pour les Floréales de se mettre aux couleurs locales et de promouvoir en particulier les associations et partenaires qui font vivre la culture et les langues bretonnes : Jeux traditionnels bretons\, initiations aux langues\, parrain breton\, Fest noz pour clôturer l’événement\,… \nPlus de 200 exposants seront présents pour le plaisir de milliers de visiteurs : horticulteurs\, pépiniéristes\, et artisans présenteront une vaste gamme de plantes\, d’arbustes\, de fleurs rares et de produits pour le jardin. Nous accueillerons également des créateurs qui proposeront bijoux\, décorations\, chapeaux\, idées cadeaux\,… toujours sur le thème des fleurs et de la nature. \nDe nombreuses activités seront proposées:  conférences\, concerts\, danses bretonnes\, musiques traditionnelles\, animations sur stands\, jeux pour les enfants… \nComme tous les ans\, le baptême de l’arbre de Chateaubriand aura lieu dans la matinée et cette année nous aurons la joie d’accueillir notre parrain Bob Escoffier. \nA partir de 18h30 un fest noz clôturera la journée dans le parc du Château. \nUn menu sera proposé le midi sur réservation par mail à coordination.combourganimations@gmail.com. \n\nMenu à 15€ : Kir\, jambon à l’os avec frites\, fromage\, tarte aux pommes\, café.\nMenu enfant ( moins de 10 ans) à 7€ : jambon à l’os et frites\, jus d’orange\, cookie ( menu – 10 ans).\nFormule menu adulte + billet d’entrée à 18€ au lieu de 20€.\n\n Rendez-vous le dimanche 25 mai 2025\, de 9h à 20h\n Entrée 5€\, gratuit moins de 16 ans\n Buvette et restauration sur place
URL:https://www.sortiracombourg.fr/evenements/floreales-romantiques-5/
LOCATION:Parc du Château\, Rue des Princes\, Combourg\, 35270\, France
CATEGORIES:Agenda
ATTACH;FMTTYPE=image/webp:https://www.sortiracombourg.fr/wp-content/uploads/2025/01/Floreales-romantiques-Affiche-scaled.webp
ORGANIZER;CN="Combourg Animations":MAILTO:braderie.combourg@hotmail.com
END:VEVENT
BEGIN:VEVENT
DTSTART;TZID=Europe/Paris:20250525T093000
DTEND;TZID=Europe/Paris:20250525T163000
DTSTAMP:20260419T192819
CREATED:20250507T071225Z
LAST-MODIFIED:20250507T071225Z
UID:6631-1748165400-1748190600@www.sortiracombourg.fr
SUMMARY:Fête du Yoga
DESCRIPTION:Une 3ème fête pour le Yoga Combourg \n » L’association “Yoga Combourg” organise sa 3e « Fête du yoga ». Tout au long de la journée\, elle propose de faire découvrir\, aux adhérents et aux personnes extérieures\, la pratique du yoga sous des formes différentes: Yoga doux\, yoga dynamique\, Méthode de Gasquet\, yoga Nidra\, Yin yoga… \nCette année\, en plus des cours de yoga\, se tiendra un atelier danse\, intitulé « Danser l’instant ». « Il ne s’agit plus d’exiger du corps ce que le mental lui ordonne\, mais de mettre le mental à l’écoute du mouvement que le corps souhaite exprimer dans l’instant ». \nDe 10 h 45 à 11 h 15\, vous aurez le plaisir d’écouter un concert du Trio Palamakia\, chant et musique\, « qui nous fera voyager en Grèce. » \nFête du yoga dimanche 25 mai 2025 de 9 h 30 à 16 h 30\, qui aura lieu dans l’enceinte sportive du Châtel.\nyogacombourg@gmail.com
URL:https://www.sortiracombourg.fr/evenements/fete-du-yoga-2/
LOCATION:Espace Sportif Communal du Châtel\, Avenue de Waldmünchen\, Combourg\, 35270\, France
CATEGORIES:Agenda
ATTACH;FMTTYPE=image/jpeg:https://www.sortiracombourg.fr/wp-content/uploads/2025/05/fete-du-yoga-2025-1-rotated.jpg
ORGANIZER;CN="Yoga Combourg":MAILTO:yogacombourg@gmail.com
END:VEVENT
END:VCALENDAR