BEGIN:VCALENDAR
VERSION:2.0
PRODID:-//Sortir à Combourg - ECPv6.15.16//NONSGML v1.0//EN
CALSCALE:GREGORIAN
METHOD:PUBLISH
X-ORIGINAL-URL:https://www.sortiracombourg.fr
X-WR-CALDESC:Évènements pour Sortir à Combourg
REFRESH-INTERVAL;VALUE=DURATION:PT1H
X-Robots-Tag:noindex
X-PUBLISHED-TTL:PT1H
BEGIN:VTIMEZONE
TZID:Europe/Paris
BEGIN:DAYLIGHT
TZOFFSETFROM:+0100
TZOFFSETTO:+0200
TZNAME:CEST
DTSTART:20240331T010000
END:DAYLIGHT
BEGIN:STANDARD
TZOFFSETFROM:+0200
TZOFFSETTO:+0100
TZNAME:CET
DTSTART:20241027T010000
END:STANDARD
BEGIN:DAYLIGHT
TZOFFSETFROM:+0100
TZOFFSETTO:+0200
TZNAME:CEST
DTSTART:20250330T010000
END:DAYLIGHT
BEGIN:STANDARD
TZOFFSETFROM:+0200
TZOFFSETTO:+0100
TZNAME:CET
DTSTART:20251026T010000
END:STANDARD
BEGIN:DAYLIGHT
TZOFFSETFROM:+0100
TZOFFSETTO:+0200
TZNAME:CEST
DTSTART:20260329T010000
END:DAYLIGHT
BEGIN:STANDARD
TZOFFSETFROM:+0200
TZOFFSETTO:+0100
TZNAME:CET
DTSTART:20261025T010000
END:STANDARD
END:VTIMEZONE
BEGIN:VEVENT
DTSTART;TZID=Europe/Paris:20250806T180000
DTEND;TZID=Europe/Paris:20250806T203000
DTSTAMP:20260419T153423
CREATED:20250411T121246Z
LAST-MODIFIED:20250625T074843Z
UID:6621-1754503200-1754512200@www.sortiracombourg.fr
SUMMARY:Mercredis de l’été - Concerts et marché de producteurs
DESCRIPTION:Les Mercredis de l’été\, fil rouge de la saison estivale\n\n\n\n\nDepuis 2021\, Les Mercredis de l’Été animent la place Piquette et la Cour des Arts à Combourg\, mettant à l’honneur un marché d’artisans/créateurs et producteurs locaux et une scène qui accueille des groupes de musique professionnels régionaux. \nL’événement invite chaque mercredi à une découverte culturelle présentant des styles musicaux variés pour une programmation éclectique et conviviale. \nL’événement met en avant également l’art et l’artisanat\, avec un marché de créateurs\, et met en valeur le travail de producteurs locaux ravis de vous proposer leurs fruits et légumes\, pain\, fromages et boissons…  produits du terroir et spécialités régionales. Fort de son succès\, le marché a pris de l’ampleur puisqu’il réunit désormais plus de 25 exposants. \nVous pourrez également profiter\, outre d’une buvette rafraîchissante\, d’une offre gourmande avec des food trucks\, gaufres\, glaces et la traditionnelle galette-saucisse. \nCe rendez-vous estival est devenu un incontournable pour les habitants de Combourg et des environs\, ainsi que pour les visiteurs en quête d’une expérience culturelle authentique. Chaque mercredi d’été\, petits et grands se retrouvent pour partager un moment de convivialité\, échanger avec des artisans passionnés\, savourer des spécialités locales et profiter de concerts live en plein air. \nHoraires :\nMarché : 18h – 20h30\nConcert : 19h – 20h30 \nProgrammation musicale 2025 \n\n09/07 : Silly Boggers (Irlande)\n16/07 : ST Ann (Reggae Acoustique)\n23/07 : Dear John (Folk Bluegrass)\n30/07 : Pretty Old Soul (Swing Crooner)\n06/08 : Mouv n’Brass (Fanfare Désarticulée)\n13/08 : Dominique Carré Trio (Jazz manouche)\n20/08 : Two Roots (Blues)\n27/08 : Elefante (Brésil)\n\nUn festival où la culture\, l’artisanat\, la musique se rencontrent pour créer une expérience unique ! Venez nombreux flâner\, profiter de ces soirées d’été gourmandes\, découvrir et vibrer au rythme des Mercredis de l’Été !
URL:https://www.sortiracombourg.fr/evenements/mercredis-de-lete-concerts-et-marche-de-producteurs-5/
LOCATION:Cour des Arts\, Parvis de la médiathèque\, Combourg\, 35270\, France
CATEGORIES:Agenda
ATTACH;FMTTYPE=image/png:https://www.sortiracombourg.fr/wp-content/uploads/2025/04/merc-ete-2025-Version-definitive-.png
ORGANIZER;CN="Combourg Animations":MAILTO:braderie.combourg@hotmail.com
END:VEVENT
BEGIN:VEVENT
DTSTART;TZID=Europe/Paris:20250806T200000
DTEND;TZID=Europe/Paris:20250806T230000
DTSTAMP:20260419T153423
CREATED:20250121T103700Z
LAST-MODIFIED:20250723T115715Z
UID:6436-1754510400-1754521200@www.sortiracombourg.fr
SUMMARY:Critérium cycliste - Le Kritos Romantic
DESCRIPTION:Le Kritos Romantic débarque à Combourg ! \n\nC’est officiel : la toute première édition du Kritos Romantic s’annonce SPECTACULAIRE !\nRendez-vous mercredi 6 août à 20h pour une soirée vélo-spectacle au plus haut niveau amateur !Sur un circuit ultra-dynamique de 2\,81 km à parcourir 32 fois\, les 100 coureurs ELITE de la région et d’ailleurs vont enflammer les rues de Combourg ! \n\nAu programme : 90 km de course explosive 2 lignes de primes et de nombreuses récompenses Course diffusée en LIVE sur 2 écrans géants et sur YouTube Concert d’Alee après la course Buvette & restauration sur place Plus de 3 000 spectateurs attendus pour vibrer ensemble !\n\nENTRÉE LIBRE – Ambiance garantie !\nQue vous soyez passionné de vélo ou curieux de découvrir l’ambiance d’une grande course\, venez vivre l’expérience avec nous !\nPour les coureurs : Ouverture des inscriptions jeudi 12 juin 2025 à 18h !\n Attention\, les places sont limitées\, inscrivez vous rapidement pour vivre cette première édition qui s’annonce exceptionnelle !\nPlus d’informations sur le parcours ici : https://www.openrunner.com/route-details/20273774\n\nAttention : la circulation et le stationnement seront fortement perturbés en centre-ville à partir de 14h00.
URL:https://www.sortiracombourg.fr/evenements/criterium-cycliste/
LOCATION:Centre-ville\, Place Albert Parent\, Combourg\, 35270\, France
CATEGORIES:Agenda
ATTACH;FMTTYPE=image/jpeg:https://www.sortiracombourg.fr/wp-content/uploads/2025/01/kritos.jpg
END:VEVENT
BEGIN:VEVENT
DTSTART;TZID=Europe/Paris:20250813T180000
DTEND;TZID=Europe/Paris:20250813T203000
DTSTAMP:20260419T153423
CREATED:20250411T121331Z
LAST-MODIFIED:20250625T074830Z
UID:6623-1755108000-1755117000@www.sortiracombourg.fr
SUMMARY:Mercredis de l’été - Concerts et marché de producteurs
DESCRIPTION:Les Mercredis de l’été\, fil rouge de la saison estivale\n\n\n\n\nDepuis 2021\, Les Mercredis de l’Été animent la place Piquette et la Cour des Arts à Combourg\, mettant à l’honneur un marché d’artisans/créateurs et producteurs locaux et une scène qui accueille des groupes de musique professionnels régionaux. \nL’événement invite chaque mercredi à une découverte culturelle présentant des styles musicaux variés pour une programmation éclectique et conviviale. \nL’événement met en avant également l’art et l’artisanat\, avec un marché de créateurs\, et met en valeur le travail de producteurs locaux ravis de vous proposer leurs fruits et légumes\, pain\, fromages et boissons…  produits du terroir et spécialités régionales. Fort de son succès\, le marché a pris de l’ampleur puisqu’il réunit désormais plus de 25 exposants. \nVous pourrez également profiter\, outre d’une buvette rafraîchissante\, d’une offre gourmande avec des food trucks\, gaufres\, glaces et la traditionnelle galette-saucisse. \nCe rendez-vous estival est devenu un incontournable pour les habitants de Combourg et des environs\, ainsi que pour les visiteurs en quête d’une expérience culturelle authentique. Chaque mercredi d’été\, petits et grands se retrouvent pour partager un moment de convivialité\, échanger avec des artisans passionnés\, savourer des spécialités locales et profiter de concerts live en plein air. \nHoraires :\nMarché : 18h – 20h30\nConcert : 19h – 20h30 \nProgrammation musicale 2025 \n\n09/07 : Silly Boggers (Irlande)\n16/07 : ST Ann (Reggae Acoustique)\n23/07 : Dear John (Folk Bluegrass)\n30/07 : Pretty Old Soul (Swing Crooner)\n06/08 : Mouv n’Brass (Fanfare Désarticulée)\n13/08 : Dominique Carré Trio (Jazz manouche)\n20/08 : Two Roots (Blues)\n27/08 : Elefante (Brésil)\n\nUn festival où la culture\, l’artisanat\, la musique se rencontrent pour créer une expérience unique ! Venez nombreux flâner\, profiter de ces soirées d’été gourmandes\, découvrir et vibrer au rythme des Mercredis de l’Été !
URL:https://www.sortiracombourg.fr/evenements/mercredis-de-lete-concerts-et-marche-de-producteurs-6/
LOCATION:Cour des Arts\, Parvis de la médiathèque\, Combourg\, 35270\, France
CATEGORIES:Agenda
ATTACH;FMTTYPE=image/png:https://www.sortiracombourg.fr/wp-content/uploads/2025/04/merc-ete-2025-Version-definitive-.png
ORGANIZER;CN="Combourg Animations":MAILTO:braderie.combourg@hotmail.com
END:VEVENT
BEGIN:VEVENT
DTSTART;TZID=Europe/Paris:20250820T180000
DTEND;TZID=Europe/Paris:20250820T203000
DTSTAMP:20260419T153423
CREATED:20250411T121424Z
LAST-MODIFIED:20250625T074820Z
UID:6625-1755712800-1755721800@www.sortiracombourg.fr
SUMMARY:Mercredis de l’été - Concerts et marché de producteurs
DESCRIPTION:Les Mercredis de l’été\, fil rouge de la saison estivale\n\n\n\n\nDepuis 2021\, Les Mercredis de l’Été animent la place Piquette et la Cour des Arts à Combourg\, mettant à l’honneur un marché d’artisans/créateurs et producteurs locaux et une scène qui accueille des groupes de musique professionnels régionaux. \nL’événement invite chaque mercredi à une découverte culturelle présentant des styles musicaux variés pour une programmation éclectique et conviviale. \nL’événement met en avant également l’art et l’artisanat\, avec un marché de créateurs\, et met en valeur le travail de producteurs locaux ravis de vous proposer leurs fruits et légumes\, pain\, fromages et boissons…  produits du terroir et spécialités régionales. Fort de son succès\, le marché a pris de l’ampleur puisqu’il réunit désormais plus de 25 exposants. \nVous pourrez également profiter\, outre d’une buvette rafraîchissante\, d’une offre gourmande avec des food trucks\, gaufres\, glaces et la traditionnelle galette-saucisse. \nCe rendez-vous estival est devenu un incontournable pour les habitants de Combourg et des environs\, ainsi que pour les visiteurs en quête d’une expérience culturelle authentique. Chaque mercredi d’été\, petits et grands se retrouvent pour partager un moment de convivialité\, échanger avec des artisans passionnés\, savourer des spécialités locales et profiter de concerts live en plein air. \nHoraires :\nMarché : 18h – 20h30\nConcert : 19h – 20h30 \nProgrammation musicale 2025 \n\n09/07 : Silly Boggers (Irlande)\n16/07 : ST Ann (Reggae Acoustique)\n23/07 : Dear John (Folk Bluegrass)\n30/07 : Pretty Old Soul (Swing Crooner)\n06/08 : Mouv n’Brass (Fanfare Désarticulée)\n13/08 : Dominique Carré Trio (Jazz manouche)\n20/08 : Two Roots (Blues)\n27/08 : Elefante (Brésil)\n\nUn festival où la culture\, l’artisanat\, la musique se rencontrent pour créer une expérience unique ! Venez nombreux flâner\, profiter de ces soirées d’été gourmandes\, découvrir et vibrer au rythme des Mercredis de l’Été !
URL:https://www.sortiracombourg.fr/evenements/mercredis-de-lete-concerts-et-marche-de-producteursv/
LOCATION:Cour des Arts\, Parvis de la médiathèque\, Combourg\, 35270\, France
CATEGORIES:Agenda
ATTACH;FMTTYPE=image/png:https://www.sortiracombourg.fr/wp-content/uploads/2025/04/merc-ete-2025-Version-definitive-.png
ORGANIZER;CN="Combourg Animations":MAILTO:braderie.combourg@hotmail.com
END:VEVENT
BEGIN:VEVENT
DTSTART;TZID=Europe/Paris:20250823T190000
DTEND;TZID=Europe/Paris:20250823T233000
DTSTAMP:20260419T153423
CREATED:20250121T103854Z
LAST-MODIFIED:20250411T102608Z
UID:6439-1755975600-1755991800@www.sortiracombourg.fr
SUMMARY:Festival de la Lanterne
DESCRIPTION:Le Festival de la Lanterne fait son grand retour en centre-ville de Combourg. De 19h à minuit\, pas moins de six scènes animeront le cœur de ville\, accueillant plus de dix groupes aux styles variés.\nFidèle à son esprit éclectique\, le festival met à l’honneur des artistes et groupes locaux aux influences multiples\, proposant une programmation riche et diversifiée : rock\, rap\, folk\, électro\, musiques du monde… et bien sûr\, l’incontournable Fest-Noz\, avec 2 groupes qui se produiront sur la place Albert Parent. Nous aurons également le plaisir d’accueillir la Fanfare de Waldmünchen\, qui reviendra jouer sur la place de la Poste. \nOrganisé par Combourg Animations\, cet événement est l’un des plus importants festivals « gratuits » de Bretagne. Attachée à cette tradition\, l’association met tout en œuvre pour le maintenir tous les deux ans dans le centre-ville de Combourg. \nGratuit. Restauration et buvette sur place
URL:https://www.sortiracombourg.fr/evenements/festival-de-la-lanterne-5/
LOCATION:Centre-ville\, Place Albert Parent\, Combourg\, 35270\, France
CATEGORIES:Agenda
ATTACH;FMTTYPE=image/png:https://www.sortiracombourg.fr/wp-content/uploads/2025/01/lanterne-2025-version-definitive-.png
ORGANIZER;CN="Combourg Animations":MAILTO:braderie.combourg@hotmail.com
END:VEVENT
BEGIN:VEVENT
DTSTART;TZID=Europe/Paris:20250827T180000
DTEND;TZID=Europe/Paris:20250827T203000
DTSTAMP:20260419T153423
CREATED:20250411T121518Z
LAST-MODIFIED:20250625T074804Z
UID:6627-1756317600-1756326600@www.sortiracombourg.fr
SUMMARY:Mercredis de l’été - Concerts et marché de producteurs
DESCRIPTION:Les Mercredis de l’été\, fil rouge de la saison estivale\n\n\n\n\nDepuis 2021\, Les Mercredis de l’Été animent la place Piquette et la Cour des Arts à Combourg\, mettant à l’honneur un marché d’artisans/créateurs et producteurs locaux et une scène qui accueille des groupes de musique professionnels régionaux. \nL’événement invite chaque mercredi à une découverte culturelle présentant des styles musicaux variés pour une programmation éclectique et conviviale. \nL’événement met en avant également l’art et l’artisanat\, avec un marché de créateurs\, et met en valeur le travail de producteurs locaux ravis de vous proposer leurs fruits et légumes\, pain\, fromages et boissons…  produits du terroir et spécialités régionales. Fort de son succès\, le marché a pris de l’ampleur puisqu’il réunit désormais plus de 25 exposants. \nVous pourrez également profiter\, outre d’une buvette rafraîchissante\, d’une offre gourmande avec des food trucks\, gaufres\, glaces et la traditionnelle galette-saucisse. \nCe rendez-vous estival est devenu un incontournable pour les habitants de Combourg et des environs\, ainsi que pour les visiteurs en quête d’une expérience culturelle authentique. Chaque mercredi d’été\, petits et grands se retrouvent pour partager un moment de convivialité\, échanger avec des artisans passionnés\, savourer des spécialités locales et profiter de concerts live en plein air. \nHoraires :\nMarché : 18h – 20h30\nConcert : 19h – 20h30 \nProgrammation musicale 2025 \n\n09/07 : Silly Boggers (Irlande)\n16/07 : ST Ann (Reggae Acoustique)\n23/07 : Dear John (Folk Bluegrass)\n30/07 : Pretty Old Soul (Swing Crooner)\n06/08 : Mouv n’Brass (Fanfare Désarticulée)\n13/08 : Dominique Carré Trio (Jazz manouche)\n20/08 : Two Roots (Blues)\n27/08 : Elefante (Brésil)\n\nUn festival où la culture\, l’artisanat\, la musique se rencontrent pour créer une expérience unique ! Venez nombreux flâner\, profiter de ces soirées d’été gourmandes\, découvrir et vibrer au rythme des Mercredis de l’Été !
URL:https://www.sortiracombourg.fr/evenements/mercredis-de-lete-concerts-et-marche-de-producteurs-7/
LOCATION:Cour des Arts\, Parvis de la médiathèque\, Combourg\, 35270\, France
CATEGORIES:Agenda
ATTACH;FMTTYPE=image/png:https://www.sortiracombourg.fr/wp-content/uploads/2025/04/merc-ete-2025-Version-definitive-.png
ORGANIZER;CN="Combourg Animations":MAILTO:braderie.combourg@hotmail.com
END:VEVENT
BEGIN:VEVENT
DTSTART;VALUE=DATE:20250831
DTEND;VALUE=DATE:20250901
DTSTAMP:20260419T153423
CREATED:20250411T102900Z
LAST-MODIFIED:20250721T144957Z
UID:6610-1756598400-1756684799@www.sortiracombourg.fr
SUMMARY:Courses cyclistes de l'Angevine
DESCRIPTION:Deux courses cyclistes à 13h30 (U17) et 15h30 (Open).
URL:https://www.sortiracombourg.fr/evenements/courses-cyclistes-de-langevine-4/
LOCATION:Avenue de Waldmünchen\, Avenue de Waldmünchen\, Combourg
CATEGORIES:Agenda
ATTACH;FMTTYPE=image/webp:https://www.sortiracombourg.fr/wp-content/uploads/2025/04/page-internet-2025-weba.webp
ORGANIZER;CN="Amicale Cyclotouriste Combourgeoise":MAILTO:patriceneveucyclo@orange.fr
END:VEVENT
END:VCALENDAR