BEGIN:VCALENDAR
VERSION:2.0
PRODID:-//Sortir à Combourg - ECPv6.15.16//NONSGML v1.0//EN
CALSCALE:GREGORIAN
METHOD:PUBLISH
X-WR-CALNAME:Sortir à Combourg
X-ORIGINAL-URL:https://www.sortiracombourg.fr
X-WR-CALDESC:Évènements pour Sortir à Combourg
REFRESH-INTERVAL;VALUE=DURATION:PT1H
X-Robots-Tag:noindex
X-PUBLISHED-TTL:PT1H
BEGIN:VTIMEZONE
TZID:Europe/Paris
BEGIN:DAYLIGHT
TZOFFSETFROM:+0100
TZOFFSETTO:+0200
TZNAME:CEST
DTSTART:20230326T010000
END:DAYLIGHT
BEGIN:STANDARD
TZOFFSETFROM:+0200
TZOFFSETTO:+0100
TZNAME:CET
DTSTART:20231029T010000
END:STANDARD
BEGIN:DAYLIGHT
TZOFFSETFROM:+0100
TZOFFSETTO:+0200
TZNAME:CEST
DTSTART:20240331T010000
END:DAYLIGHT
BEGIN:STANDARD
TZOFFSETFROM:+0200
TZOFFSETTO:+0100
TZNAME:CET
DTSTART:20241027T010000
END:STANDARD
BEGIN:DAYLIGHT
TZOFFSETFROM:+0100
TZOFFSETTO:+0200
TZNAME:CEST
DTSTART:20250330T010000
END:DAYLIGHT
BEGIN:STANDARD
TZOFFSETFROM:+0200
TZOFFSETTO:+0100
TZNAME:CET
DTSTART:20251026T010000
END:STANDARD
END:VTIMEZONE
BEGIN:VEVENT
DTSTART;TZID=Europe/Paris:20240110T203000
DTEND;TZID=Europe/Paris:20240110T220000
DTSTAMP:20260420T153525
CREATED:20240117T145403Z
LAST-MODIFIED:20240117T145403Z
UID:5856-1704918600-1704924000@www.sortiracombourg.fr
SUMMARY:Projection du film : Si seulement je pouvais hiberner
DESCRIPTION:Projection suivie d’un échange en présence de l’association Routes Nomades.\nUlzii\, un adolescent d’un quartier défavorisé d’Oulan-Bator\, est déterminé à gagner un concours de sciences pour obtenir une bourse d’étude. Sa mère\, illettrée\, trouve un emploi à la campagne les abandonnant lui\, son frère et sa sœur\, en dépit de la dureté de l’hiver. Déchiré entre la nécessité de s’occuper de sa fratrie et sa volonté d’étudier pour le concours\, Ulzii n’a pas le choix : il doit accepter de se mettre en danger pour subvenir aux besoins de sa famille. \nTarifs habituels du cinéma.
URL:https://www.sortiracombourg.fr/evenements/projection-du-film-si-seulement-je-pouvais-hiberner/
LOCATION:Cinéma Chateaubriand\, Rue de Malouas\, Combourg\, 35270\, France
CATEGORIES:Agenda
ATTACH;FMTTYPE=image/jpeg:https://www.sortiracombourg.fr/wp-content/uploads/2024/01/telechargement.jpg
ORGANIZER;CN="Cin%C3%A9ma Chateaubriand":MAILTO:cinema.chateaubriand@orange.fr
END:VEVENT
END:VCALENDAR