BEGIN:VCALENDAR
VERSION:2.0
PRODID:-//Sortir à Combourg - ECPv6.15.16//NONSGML v1.0//EN
CALSCALE:GREGORIAN
METHOD:PUBLISH
X-WR-CALNAME:Sortir à Combourg
X-ORIGINAL-URL:https://www.sortiracombourg.fr
X-WR-CALDESC:Évènements pour Sortir à Combourg
REFRESH-INTERVAL;VALUE=DURATION:PT1H
X-Robots-Tag:noindex
X-PUBLISHED-TTL:PT1H
BEGIN:VTIMEZONE
TZID:Europe/Paris
BEGIN:DAYLIGHT
TZOFFSETFROM:+0100
TZOFFSETTO:+0200
TZNAME:CEST
DTSTART:20230326T010000
END:DAYLIGHT
BEGIN:STANDARD
TZOFFSETFROM:+0200
TZOFFSETTO:+0100
TZNAME:CET
DTSTART:20231029T010000
END:STANDARD
BEGIN:DAYLIGHT
TZOFFSETFROM:+0100
TZOFFSETTO:+0200
TZNAME:CEST
DTSTART:20240331T010000
END:DAYLIGHT
BEGIN:STANDARD
TZOFFSETFROM:+0200
TZOFFSETTO:+0100
TZNAME:CET
DTSTART:20241027T010000
END:STANDARD
BEGIN:DAYLIGHT
TZOFFSETFROM:+0100
TZOFFSETTO:+0200
TZNAME:CEST
DTSTART:20250330T010000
END:DAYLIGHT
BEGIN:STANDARD
TZOFFSETFROM:+0200
TZOFFSETTO:+0100
TZNAME:CET
DTSTART:20251026T010000
END:STANDARD
END:VTIMEZONE
BEGIN:VEVENT
DTSTART;TZID=Europe/Paris:20240119T190000
DTEND;TZID=Europe/Paris:20240119T203000
DTSTAMP:20260420T153628
CREATED:20240103T075531Z
LAST-MODIFIED:20240103T075531Z
UID:5837-1705690800-1705696200@www.sortiracombourg.fr
SUMMARY:Nuit de la lecture
DESCRIPTION:Pour la deuxième fois\, la médiathèque participe aux Nuits de la lecture organisées par le Centre national du livre. Cette année\, le thème choisi est… le corps. Alors en long\, en large et en travers\, le corps en sensations\, le corps en suspension\, le corps prison ou le corps maison\, le corps qui fait rire ou le corps qui chavire… Autant de surprises\, de découvertes et de plaisirs de lecture que nous vous proposons de partager. \nPremière séance (enfants) de 19h à 19h35. Deuxième séance (ados et adultes) de 19h45 à 20h30. \nSur réservation uniquement (bouton ci-dessus ou par téléphone au 02 23 16 47 73).
URL:https://www.sortiracombourg.fr/evenements/nuit-de-la-lecture-2/
LOCATION:Médiathèque « Les Sources »\, 5 rue du Linon\, Combourg\, 35270\, France
CATEGORIES:Agenda,Médiathèque
ATTACH;FMTTYPE=image/jpeg:https://www.sortiracombourg.fr/wp-content/uploads/2024/01/thumb.jpg
ORGANIZER;CN="M%C3%A9diath%C3%A8que 'Les Sources'":MAILTO:mediatheque@combourg.com
END:VEVENT
END:VCALENDAR