BEGIN:VCALENDAR
VERSION:2.0
PRODID:-//Sortir à Combourg - ECPv6.15.16//NONSGML v1.0//EN
CALSCALE:GREGORIAN
METHOD:PUBLISH
X-WR-CALNAME:Sortir à Combourg
X-ORIGINAL-URL:https://www.sortiracombourg.fr
X-WR-CALDESC:Évènements pour Sortir à Combourg
REFRESH-INTERVAL;VALUE=DURATION:PT1H
X-Robots-Tag:noindex
X-PUBLISHED-TTL:PT1H
BEGIN:VTIMEZONE
TZID:Europe/Paris
BEGIN:DAYLIGHT
TZOFFSETFROM:+0100
TZOFFSETTO:+0200
TZNAME:CEST
DTSTART:20230326T010000
END:DAYLIGHT
BEGIN:STANDARD
TZOFFSETFROM:+0200
TZOFFSETTO:+0100
TZNAME:CET
DTSTART:20231029T010000
END:STANDARD
BEGIN:DAYLIGHT
TZOFFSETFROM:+0100
TZOFFSETTO:+0200
TZNAME:CEST
DTSTART:20240331T010000
END:DAYLIGHT
BEGIN:STANDARD
TZOFFSETFROM:+0200
TZOFFSETTO:+0100
TZNAME:CET
DTSTART:20241027T010000
END:STANDARD
BEGIN:DAYLIGHT
TZOFFSETFROM:+0100
TZOFFSETTO:+0200
TZNAME:CEST
DTSTART:20250330T010000
END:DAYLIGHT
BEGIN:STANDARD
TZOFFSETFROM:+0200
TZOFFSETTO:+0100
TZNAME:CET
DTSTART:20251026T010000
END:STANDARD
END:VTIMEZONE
BEGIN:VEVENT
DTSTART;TZID=Europe/Paris:20240206T190000
DTEND;TZID=Europe/Paris:20240206T203000
DTSTAMP:20260420T143238
CREATED:20240117T143607Z
LAST-MODIFIED:20240206T083754Z
UID:5853-1707246000-1707251400@www.sortiracombourg.fr
SUMMARY:Projection du film : Marcher la France
DESCRIPTION:Projection suivie d’un échange en présence du réalisateur Constant Pelhate.\nDe la Catalogne à la Bretagne\, des Pyrénées au Mont Saint Michel\, de la Méditerranée à la Manche\, ce court-métrage retrace une aventure à pied de 96 jours et 2063 kilomètres.\nCe film vous emmène dans la traversée de 18 départements dans un émerveillement constant de l’itinérance\, à dormir sur les chemins\, à MARCHER LA FRANCE ! \nGratuit.
URL:https://www.sortiracombourg.fr/evenements/projection-du-film-marcher-la-france/
LOCATION:Cinéma Chateaubriand\, Rue de Malouas\, Combourg\, 35270\, France
CATEGORIES:Agenda
ATTACH;FMTTYPE=image/jpeg:https://www.sortiracombourg.fr/wp-content/uploads/2024/01/MARCHER-LA-FRANCE.jpg
ORGANIZER;CN="Cin%C3%A9ma Chateaubriand":MAILTO:cinema.chateaubriand@orange.fr
END:VEVENT
END:VCALENDAR