BEGIN:VCALENDAR
VERSION:2.0
PRODID:-//Sortir à Combourg - ECPv6.15.16//NONSGML v1.0//EN
CALSCALE:GREGORIAN
METHOD:PUBLISH
X-WR-CALNAME:Sortir à Combourg
X-ORIGINAL-URL:https://www.sortiracombourg.fr
X-WR-CALDESC:Évènements pour Sortir à Combourg
REFRESH-INTERVAL;VALUE=DURATION:PT1H
X-Robots-Tag:noindex
X-PUBLISHED-TTL:PT1H
BEGIN:VTIMEZONE
TZID:Europe/Paris
BEGIN:DAYLIGHT
TZOFFSETFROM:+0100
TZOFFSETTO:+0200
TZNAME:CEST
DTSTART:20230326T010000
END:DAYLIGHT
BEGIN:STANDARD
TZOFFSETFROM:+0200
TZOFFSETTO:+0100
TZNAME:CET
DTSTART:20231029T010000
END:STANDARD
BEGIN:DAYLIGHT
TZOFFSETFROM:+0100
TZOFFSETTO:+0200
TZNAME:CEST
DTSTART:20240331T010000
END:DAYLIGHT
BEGIN:STANDARD
TZOFFSETFROM:+0200
TZOFFSETTO:+0100
TZNAME:CET
DTSTART:20241027T010000
END:STANDARD
BEGIN:DAYLIGHT
TZOFFSETFROM:+0100
TZOFFSETTO:+0200
TZNAME:CEST
DTSTART:20250330T010000
END:DAYLIGHT
BEGIN:STANDARD
TZOFFSETFROM:+0200
TZOFFSETTO:+0100
TZNAME:CET
DTSTART:20251026T010000
END:STANDARD
END:VTIMEZONE
BEGIN:VEVENT
DTSTART;TZID=Europe/Paris:20240225T120000
DTEND;TZID=Europe/Paris:20240225T170000
DTSTAMP:20260420T144045
CREATED:20240117T145613Z
LAST-MODIFIED:20240119T145247Z
UID:5859-1708862400-1708880400@www.sortiracombourg.fr
SUMMARY:Repas festif au profit du Téléthon
DESCRIPTION:L’association Anim’le Don propose un repas avec animation dansante au profit du Téléthon.\nL’occasion idéale pour partager un moment convivial autour d’un repas\, le tout pour la bonne cause.\nRepas avec apéritif et ses toasts\, couscous royal\, fromage\, dessert flan pâtissier maison et café. Sur place ou à emporter.\nRéservation avant le 17 février : \n\nsur Hello Asso\,\npar téléphone (06.89.88.61.95)\nou par mail (animledon@gmail.com).\n\nTarif : 25 euros.
URL:https://www.sortiracombourg.fr/evenements/soiree-dansante-au-profit-du-telethon/
LOCATION:Espace Malouas\, Rue de Malouas\, Combourg\, 35270\, France
CATEGORIES:Agenda
ATTACH;FMTTYPE=image/jpeg:https://www.sortiracombourg.fr/wp-content/uploads/2024/01/REPAS-COUSOUS.jpg
ORGANIZER;CN="Anim Le Don":MAILTO:animledon@gmail.com
END:VEVENT
END:VCALENDAR