BEGIN:VCALENDAR
VERSION:2.0
PRODID:-//Sortir à Combourg - ECPv6.15.16//NONSGML v1.0//EN
CALSCALE:GREGORIAN
METHOD:PUBLISH
X-WR-CALNAME:Sortir à Combourg
X-ORIGINAL-URL:https://www.sortiracombourg.fr
X-WR-CALDESC:Évènements pour Sortir à Combourg
REFRESH-INTERVAL;VALUE=DURATION:PT1H
X-Robots-Tag:noindex
X-PUBLISHED-TTL:PT1H
BEGIN:VTIMEZONE
TZID:Europe/Paris
BEGIN:DAYLIGHT
TZOFFSETFROM:+0100
TZOFFSETTO:+0200
TZNAME:CEST
DTSTART:20230326T010000
END:DAYLIGHT
BEGIN:STANDARD
TZOFFSETFROM:+0200
TZOFFSETTO:+0100
TZNAME:CET
DTSTART:20231029T010000
END:STANDARD
BEGIN:DAYLIGHT
TZOFFSETFROM:+0100
TZOFFSETTO:+0200
TZNAME:CEST
DTSTART:20240331T010000
END:DAYLIGHT
BEGIN:STANDARD
TZOFFSETFROM:+0200
TZOFFSETTO:+0100
TZNAME:CET
DTSTART:20241027T010000
END:STANDARD
BEGIN:DAYLIGHT
TZOFFSETFROM:+0100
TZOFFSETTO:+0200
TZNAME:CEST
DTSTART:20250330T010000
END:DAYLIGHT
BEGIN:STANDARD
TZOFFSETFROM:+0200
TZOFFSETTO:+0100
TZNAME:CET
DTSTART:20251026T010000
END:STANDARD
END:VTIMEZONE
BEGIN:VEVENT
DTSTART;TZID=Europe/Paris:20240228T133000
DTEND;TZID=Europe/Paris:20240228T183000
DTSTAMP:20260420T132324
CREATED:20240122T131419Z
LAST-MODIFIED:20240122T140752Z
UID:5869-1709127000-1709145000@www.sortiracombourg.fr
SUMMARY:Sortie West Park
DESCRIPTION:Sortie West Park à La Richardais : départ à 13h30 et retour à 18h30 – RDV au parking du Linon à Combourg\, transport en car. \n15€ par personne – 50 places \nPrévoir une gourde et un goûter. \nChaque jeune fera une partie de Bowling\, de Laser Game et de Trampoline. \nInscription : www.combourganimations.fr
URL:https://www.sortiracombourg.fr/evenements/sortie-west-park/
LOCATION:Parking du Linon\, Parking du Linon\, Combourg\, 35270\, France
CATEGORIES:Agenda,Jeunesse
ORGANIZER;CN="Combourg Animations (section Jeunesse et Culture)":MAILTO:combourganimations@gmail.com
END:VEVENT
END:VCALENDAR