BEGIN:VCALENDAR
VERSION:2.0
PRODID:-//Sortir à Combourg - ECPv6.15.16//NONSGML v1.0//EN
CALSCALE:GREGORIAN
METHOD:PUBLISH
X-WR-CALNAME:Sortir à Combourg
X-ORIGINAL-URL:https://www.sortiracombourg.fr
X-WR-CALDESC:Évènements pour Sortir à Combourg
REFRESH-INTERVAL;VALUE=DURATION:PT1H
X-Robots-Tag:noindex
X-PUBLISHED-TTL:PT1H
BEGIN:VTIMEZONE
TZID:Europe/Paris
BEGIN:DAYLIGHT
TZOFFSETFROM:+0100
TZOFFSETTO:+0200
TZNAME:CEST
DTSTART:20230326T010000
END:DAYLIGHT
BEGIN:STANDARD
TZOFFSETFROM:+0200
TZOFFSETTO:+0100
TZNAME:CET
DTSTART:20231029T010000
END:STANDARD
BEGIN:DAYLIGHT
TZOFFSETFROM:+0100
TZOFFSETTO:+0200
TZNAME:CEST
DTSTART:20240331T010000
END:DAYLIGHT
BEGIN:STANDARD
TZOFFSETFROM:+0200
TZOFFSETTO:+0100
TZNAME:CET
DTSTART:20241027T010000
END:STANDARD
BEGIN:DAYLIGHT
TZOFFSETFROM:+0100
TZOFFSETTO:+0200
TZNAME:CEST
DTSTART:20250330T010000
END:DAYLIGHT
BEGIN:STANDARD
TZOFFSETFROM:+0200
TZOFFSETTO:+0100
TZNAME:CET
DTSTART:20251026T010000
END:STANDARD
END:VTIMEZONE
BEGIN:VEVENT
DTSTART;TZID=Europe/Paris:20240322T173000
DTEND;TZID=Europe/Paris:20240322T193000
DTSTAMP:20260420T132422
CREATED:20240208T135624Z
LAST-MODIFIED:20240208T135624Z
UID:5896-1711128600-1711135800@www.sortiracombourg.fr
SUMMARY:Portes ouvertes à l'école Sainte-Anne
DESCRIPTION:Au programme : \n\nVisite de l’école\nRencontre avec l’équipe éducative et les parents de l’APEL\n\nDe 17h30 à 19h30
URL:https://www.sortiracombourg.fr/evenements/portes-ouvertes-a-lecole-sainte-anne/
LOCATION:Ecole Sainte-Anne\, Rue du Linon\, Combourg\, 35270\, France
CATEGORIES:Agenda
ATTACH;FMTTYPE=image/jpeg:https://www.sortiracombourg.fr/wp-content/uploads/2024/02/AFFICHE-PO-scaled.jpg
END:VEVENT
BEGIN:VEVENT
DTSTART;TZID=Europe/Paris:20240322T193000
DTEND;TZID=Europe/Paris:20240322T233000
DTSTAMP:20260420T132422
CREATED:20240213T112547Z
LAST-MODIFIED:20240213T112547Z
UID:5933-1711135800-1711150200@www.sortiracombourg.fr
SUMMARY:Fête de la Saint-Patrick
DESCRIPTION:Combourg Animations organise la première édition de la fête de la Saint-Patrick à Meillac (salle des fêtes). \nDeux concerts de musique irlandaise sont au programme de cette soirée : \n\nMOHER\nCeili Killers.\n\nBuvette et restauration sur place. \n\n10€ avec boisson offerte pour toute préinscription (lien vers la billetterie)\n10€ sur place\n5€ pour les 10 – 17ans\nGratuit pour les – de 10 ans\n\nRéservation en ligne possible sur le site combourganimations.fr
URL:https://www.sortiracombourg.fr/evenements/fete-de-la-saint-patrick/
LOCATION:Salle des fêtes de Meillac\, Meillac
CATEGORIES:Agenda
ATTACH;FMTTYPE=image/png:https://www.sortiracombourg.fr/wp-content/uploads/2024/02/Affiche-Saint-Patrick-22-mars-2024-2.png
ORGANIZER;CN="Combourg Animations":MAILTO:braderie.combourg@hotmail.com
END:VEVENT
END:VCALENDAR