BEGIN:VCALENDAR
VERSION:2.0
PRODID:-//Sortir à Combourg - ECPv6.15.16//NONSGML v1.0//EN
CALSCALE:GREGORIAN
METHOD:PUBLISH
X-ORIGINAL-URL:https://www.sortiracombourg.fr
X-WR-CALDESC:Évènements pour Sortir à Combourg
REFRESH-INTERVAL;VALUE=DURATION:PT1H
X-Robots-Tag:noindex
X-PUBLISHED-TTL:PT1H
BEGIN:VTIMEZONE
TZID:Europe/Paris
BEGIN:DAYLIGHT
TZOFFSETFROM:+0100
TZOFFSETTO:+0200
TZNAME:CEST
DTSTART:20230326T010000
END:DAYLIGHT
BEGIN:STANDARD
TZOFFSETFROM:+0200
TZOFFSETTO:+0100
TZNAME:CET
DTSTART:20231029T010000
END:STANDARD
BEGIN:DAYLIGHT
TZOFFSETFROM:+0100
TZOFFSETTO:+0200
TZNAME:CEST
DTSTART:20240331T010000
END:DAYLIGHT
BEGIN:STANDARD
TZOFFSETFROM:+0200
TZOFFSETTO:+0100
TZNAME:CET
DTSTART:20241027T010000
END:STANDARD
BEGIN:DAYLIGHT
TZOFFSETFROM:+0100
TZOFFSETTO:+0200
TZNAME:CEST
DTSTART:20250330T010000
END:DAYLIGHT
BEGIN:STANDARD
TZOFFSETFROM:+0200
TZOFFSETTO:+0100
TZNAME:CET
DTSTART:20251026T010000
END:STANDARD
END:VTIMEZONE
BEGIN:VEVENT
DTSTART;TZID=Europe/Paris:20240406T143000
DTEND;TZID=Europe/Paris:20240406T163000
DTSTAMP:20260420T121808
CREATED:20240213T112743Z
LAST-MODIFIED:20240213T112743Z
UID:5937-1712413800-1712421000@www.sortiracombourg.fr
SUMMARY:Dédicace et atelier illustration avec Jeanne Macaigne
DESCRIPTION:Après des études de lettres modernes et les Arts décoratifs de Paris\, Jeanne Macaigne dessine pour la presse et l’édition. Elle est également l’auteure de plusieurs albums pour enfants où l’illustration flirte volontiers avec la BD.\nEn marge du Salon Lir’A Dol auquel elle est invitée\, Jeanne Macaigne propose aux petits et grands de participer à son atelier « illustration & dessin » à la médiathèque Les Sources. \nGratuit – Tout public.\nSur inscription.
URL:https://www.sortiracombourg.fr/evenements/dedicace-et-atelier-illustration-avec-jeanne-macaigne/
LOCATION:Médiathèque « Les Sources »\, 5 rue du Linon\, Combourg\, 35270\, France
CATEGORIES:Agenda
ATTACH;FMTTYPE=image/jpeg:https://www.sortiracombourg.fr/wp-content/uploads/2024/02/JeanneMacaigne.jpg
ORGANIZER;CN="M%C3%A9diath%C3%A8que 'Les Sources'":MAILTO:mediatheque@combourg.com
END:VEVENT
BEGIN:VEVENT
DTSTART;TZID=Europe/Paris:20240406T190000
DTEND;TZID=Europe/Paris:20240406T233000
DTSTAMP:20260420T121808
CREATED:20240328T151916Z
LAST-MODIFIED:20240328T151916Z
UID:6018-1712430000-1712446200@www.sortiracombourg.fr
SUMMARY:Soirée - Jeunesse Combourgeoise
DESCRIPTION:La Jeunesse combourgeoise organise une soirée le 6 avril 2024 à l’Espace Malouas. \nVenez vous déhancher sur la musique des années 80\, 90\, 2000. \nRestauration et buvette sur place. Pas de réservation. \n6€/ personne\, ouvert à tous.
URL:https://www.sortiracombourg.fr/evenements/soiree-jeunesse-combourgeoise/
LOCATION:Espace Malouas\, Rue de Malouas\, Combourg\, 35270\, France
CATEGORIES:Agenda
ATTACH;FMTTYPE=image/jpeg:https://www.sortiracombourg.fr/wp-content/uploads/2024/03/419240434_817737050157020_1161604737275324935_n.jpg
ORGANIZER;CN="Jeunesse Combourgeoise":MAILTO:jeunessecombourgeoise35@gmail.com
END:VEVENT
END:VCALENDAR