BEGIN:VCALENDAR
VERSION:2.0
PRODID:-//Sortir à Combourg - ECPv6.15.16//NONSGML v1.0//EN
CALSCALE:GREGORIAN
METHOD:PUBLISH
X-WR-CALNAME:Sortir à Combourg
X-ORIGINAL-URL:https://www.sortiracombourg.fr
X-WR-CALDESC:Évènements pour Sortir à Combourg
REFRESH-INTERVAL;VALUE=DURATION:PT1H
X-Robots-Tag:noindex
X-PUBLISHED-TTL:PT1H
BEGIN:VTIMEZONE
TZID:Europe/Paris
BEGIN:DAYLIGHT
TZOFFSETFROM:+0100
TZOFFSETTO:+0200
TZNAME:CEST
DTSTART:20230326T010000
END:DAYLIGHT
BEGIN:STANDARD
TZOFFSETFROM:+0200
TZOFFSETTO:+0100
TZNAME:CET
DTSTART:20231029T010000
END:STANDARD
BEGIN:DAYLIGHT
TZOFFSETFROM:+0100
TZOFFSETTO:+0200
TZNAME:CEST
DTSTART:20240331T010000
END:DAYLIGHT
BEGIN:STANDARD
TZOFFSETFROM:+0200
TZOFFSETTO:+0100
TZNAME:CET
DTSTART:20241027T010000
END:STANDARD
BEGIN:DAYLIGHT
TZOFFSETFROM:+0100
TZOFFSETTO:+0200
TZNAME:CEST
DTSTART:20250330T010000
END:DAYLIGHT
BEGIN:STANDARD
TZOFFSETFROM:+0200
TZOFFSETTO:+0100
TZNAME:CET
DTSTART:20251026T010000
END:STANDARD
END:VTIMEZONE
BEGIN:VEVENT
DTSTART;TZID=Europe/Paris:20240408T141500
DTEND;TZID=Europe/Paris:20240408T153000
DTSTAMP:20260420T121552
CREATED:20240213T132414Z
LAST-MODIFIED:20240213T132414Z
UID:5943-1712585700-1712590200@www.sortiracombourg.fr
SUMMARY:Ciné-docs : Lisbonne
DESCRIPTION:Projection suivie d’un échange en présence du réalisateur Olivier BERTHELOT. \nCapitale du Portugal\, Lisbonne en est aussi un haut lieu culturel. Une ville historique qui ne perd rien de son charme malgré les nombreux éléments qui l’ont affecté. L’auteur nous y amène dans une flânerie particulièrement adaptée aux surprises et aux secrets d’une Lisbonne haute en couleur : rencontres humaines et artistiques\, détours insolites des vieux quartiers\, plongeon dans la richesse historique et architecturale à travers un séduisant paysage urbain. Un magnifique film\, tout en finesse.
URL:https://www.sortiracombourg.fr/evenements/cine-docs-lisbonne/
LOCATION:Cinéma Chateaubriand\, Rue de Malouas\, Combourg\, 35270\, France
CATEGORIES:Agenda
ORGANIZER;CN="Cin%C3%A9ma Chateaubriand":MAILTO:cinema.chateaubriand@orange.fr
END:VEVENT
END:VCALENDAR