BEGIN:VCALENDAR
VERSION:2.0
PRODID:-//Sortir à Combourg - ECPv6.15.16//NONSGML v1.0//EN
CALSCALE:GREGORIAN
METHOD:PUBLISH
X-WR-CALNAME:Sortir à Combourg
X-ORIGINAL-URL:https://www.sortiracombourg.fr
X-WR-CALDESC:Évènements pour Sortir à Combourg
REFRESH-INTERVAL;VALUE=DURATION:PT1H
X-Robots-Tag:noindex
X-PUBLISHED-TTL:PT1H
BEGIN:VTIMEZONE
TZID:Europe/Paris
BEGIN:DAYLIGHT
TZOFFSETFROM:+0100
TZOFFSETTO:+0200
TZNAME:CEST
DTSTART:20230326T010000
END:DAYLIGHT
BEGIN:STANDARD
TZOFFSETFROM:+0200
TZOFFSETTO:+0100
TZNAME:CET
DTSTART:20231029T010000
END:STANDARD
BEGIN:DAYLIGHT
TZOFFSETFROM:+0100
TZOFFSETTO:+0200
TZNAME:CEST
DTSTART:20240331T010000
END:DAYLIGHT
BEGIN:STANDARD
TZOFFSETFROM:+0200
TZOFFSETTO:+0100
TZNAME:CET
DTSTART:20241027T010000
END:STANDARD
BEGIN:DAYLIGHT
TZOFFSETFROM:+0100
TZOFFSETTO:+0200
TZNAME:CEST
DTSTART:20250330T010000
END:DAYLIGHT
BEGIN:STANDARD
TZOFFSETFROM:+0200
TZOFFSETTO:+0100
TZNAME:CET
DTSTART:20251026T010000
END:STANDARD
END:VTIMEZONE
BEGIN:VEVENT
DTSTART;TZID=Europe/Paris:20240414T073000
DTEND;TZID=Europe/Paris:20240414T183000
DTSTAMP:20260420T121642
CREATED:20240215T134252Z
LAST-MODIFIED:20240215T134252Z
UID:5980-1713079800-1713119400@www.sortiracombourg.fr
SUMMARY:Vide-grenier de l'APE des écoles publiques
DESCRIPTION:Tarif  : 2€ le ml \n\nPermanence de réservation dans le hall de l’école élémentaire : \n\nsamedi 16 mars de 9h à 11h\nlundi 18 mars de 16h45 à 18h\nsamedi 23 mars de 9h à 11h\nmardi 2 avril de 16h45 à 18h\n\n\nRestauration et buvette sur place.
URL:https://www.sortiracombourg.fr/evenements/vide-grenier-de-lape-des-ecoles-publiques/
LOCATION:Avenue des Palmiers\, Avenue des Palmiers\, Combourg
CATEGORIES:Agenda
ATTACH;FMTTYPE=image/png:https://www.sortiracombourg.fr/wp-content/uploads/2024/02/Capture-decran-2024-02-15-144158.png
ORGANIZER;CN="APE Ecoles publiques":MAILTO:apecombourg@gmail.com
END:VEVENT
END:VCALENDAR