BEGIN:VCALENDAR
VERSION:2.0
PRODID:-//Sortir à Combourg - ECPv6.15.16//NONSGML v1.0//EN
CALSCALE:GREGORIAN
METHOD:PUBLISH
X-WR-CALNAME:Sortir à Combourg
X-ORIGINAL-URL:https://www.sortiracombourg.fr
X-WR-CALDESC:Évènements pour Sortir à Combourg
REFRESH-INTERVAL;VALUE=DURATION:PT1H
X-Robots-Tag:noindex
X-PUBLISHED-TTL:PT1H
BEGIN:VTIMEZONE
TZID:Europe/Paris
BEGIN:DAYLIGHT
TZOFFSETFROM:+0100
TZOFFSETTO:+0200
TZNAME:CEST
DTSTART:20230326T010000
END:DAYLIGHT
BEGIN:STANDARD
TZOFFSETFROM:+0200
TZOFFSETTO:+0100
TZNAME:CET
DTSTART:20231029T010000
END:STANDARD
BEGIN:DAYLIGHT
TZOFFSETFROM:+0100
TZOFFSETTO:+0200
TZNAME:CEST
DTSTART:20240331T010000
END:DAYLIGHT
BEGIN:STANDARD
TZOFFSETFROM:+0200
TZOFFSETTO:+0100
TZNAME:CET
DTSTART:20241027T010000
END:STANDARD
BEGIN:DAYLIGHT
TZOFFSETFROM:+0100
TZOFFSETTO:+0200
TZNAME:CEST
DTSTART:20250330T010000
END:DAYLIGHT
BEGIN:STANDARD
TZOFFSETFROM:+0200
TZOFFSETTO:+0100
TZNAME:CET
DTSTART:20251026T010000
END:STANDARD
END:VTIMEZONE
BEGIN:VEVENT
DTSTART;TZID=Europe/Paris:20240421T083000
DTEND;TZID=Europe/Paris:20240421T113000
DTSTAMP:20260420T121626
CREATED:20240402T102817Z
LAST-MODIFIED:20240402T102817Z
UID:6022-1713688200-1713699000@www.sortiracombourg.fr
SUMMARY:Marche solidaire
DESCRIPTION:Marche solidaire organisée par l’association l’AmySpin dans le but de collecter des fonds pour aider Baptiste atteint d’une amyotrophie spinale. \n\nDate : Dimanche 21 avril 2024\nModalités d’inscription : Sur place ou en ligne. Participation libre\nDépart : Salle municipale de Trémeheuc à 9h30 (accueil à partir de 8h45)\nParcours : Proposition de 2 parcours (7 ou 13 km) à faire en marchant ou en courant. Allure libre sans\nchronomètre. Passage par les communes de Combourg et Cuguen.
URL:https://www.sortiracombourg.fr/evenements/marche-solidaire-2/
LOCATION:Départ de Trémeheuc\, Tréméheuc
CATEGORIES:Agenda
ATTACH;FMTTYPE=image/jpeg:https://www.sortiracombourg.fr/wp-content/uploads/2024/04/2024.04.-AFFICHE-marche-solidaire.jpg
ORGANIZER;CN="L'Amy Spin":MAILTO:clara_poirier@yahoo.fr
END:VEVENT
END:VCALENDAR