BEGIN:VCALENDAR
VERSION:2.0
PRODID:-//Sortir à Combourg - ECPv6.15.16//NONSGML v1.0//EN
CALSCALE:GREGORIAN
METHOD:PUBLISH
X-WR-CALNAME:Sortir à Combourg
X-ORIGINAL-URL:https://www.sortiracombourg.fr
X-WR-CALDESC:Évènements pour Sortir à Combourg
REFRESH-INTERVAL;VALUE=DURATION:PT1H
X-Robots-Tag:noindex
X-PUBLISHED-TTL:PT1H
BEGIN:VTIMEZONE
TZID:Europe/Paris
BEGIN:DAYLIGHT
TZOFFSETFROM:+0100
TZOFFSETTO:+0200
TZNAME:CEST
DTSTART:20230326T010000
END:DAYLIGHT
BEGIN:STANDARD
TZOFFSETFROM:+0200
TZOFFSETTO:+0100
TZNAME:CET
DTSTART:20231029T010000
END:STANDARD
BEGIN:DAYLIGHT
TZOFFSETFROM:+0100
TZOFFSETTO:+0200
TZNAME:CEST
DTSTART:20240331T010000
END:DAYLIGHT
BEGIN:STANDARD
TZOFFSETFROM:+0200
TZOFFSETTO:+0100
TZNAME:CET
DTSTART:20241027T010000
END:STANDARD
BEGIN:DAYLIGHT
TZOFFSETFROM:+0100
TZOFFSETTO:+0200
TZNAME:CEST
DTSTART:20250330T010000
END:DAYLIGHT
BEGIN:STANDARD
TZOFFSETFROM:+0200
TZOFFSETTO:+0100
TZNAME:CET
DTSTART:20251026T010000
END:STANDARD
END:VTIMEZONE
BEGIN:VEVENT
DTSTART;TZID=Europe/Paris:20240427T173000
DTEND;TZID=Europe/Paris:20240427T193000
DTSTAMP:20260420T121651
CREATED:20240405T102857Z
LAST-MODIFIED:20240405T102857Z
UID:6043-1714239000-1714246200@www.sortiracombourg.fr
SUMMARY:Rétrospective sur la fête des fleurs
DESCRIPTION:Grâce aux films d’archives de M. André Hervé\, une rétrospective sur la fête des fleurs vous est proposée au cinéma Le Chateaubriand.\nVenez vous remémorer cet événement qui aura marqué l’histoire de notre commune pendant plusieurs décennies. Défilé de chars\, concerts\, spectacles…\, la fête des fleurs rassemblait plus de 40 000 personnes à la mi-mai de chaque année. \nGratuit. Film d’1h30-2h00\, réalisé par M. André Hervé. \nOrganisateur : André Hervé / Etienne Serrand \nRenseignements : 06.63.54.77.72
URL:https://www.sortiracombourg.fr/evenements/retrospective-sur-la-fete-des-fleurs/
LOCATION:Cinéma Chateaubriand\, Rue de Malouas\, Combourg\, 35270\, France
CATEGORIES:Agenda
ATTACH;FMTTYPE=image/jpeg:https://www.sortiracombourg.fr/wp-content/uploads/2024/04/38.jpg
END:VEVENT
END:VCALENDAR