BEGIN:VCALENDAR
VERSION:2.0
PRODID:-//Sortir à Combourg - ECPv6.15.16//NONSGML v1.0//EN
CALSCALE:GREGORIAN
METHOD:PUBLISH
X-WR-CALNAME:Sortir à Combourg
X-ORIGINAL-URL:https://www.sortiracombourg.fr
X-WR-CALDESC:Évènements pour Sortir à Combourg
REFRESH-INTERVAL;VALUE=DURATION:PT1H
X-Robots-Tag:noindex
X-PUBLISHED-TTL:PT1H
BEGIN:VTIMEZONE
TZID:Europe/Paris
BEGIN:DAYLIGHT
TZOFFSETFROM:+0100
TZOFFSETTO:+0200
TZNAME:CEST
DTSTART:20230326T010000
END:DAYLIGHT
BEGIN:STANDARD
TZOFFSETFROM:+0200
TZOFFSETTO:+0100
TZNAME:CET
DTSTART:20231029T010000
END:STANDARD
BEGIN:DAYLIGHT
TZOFFSETFROM:+0100
TZOFFSETTO:+0200
TZNAME:CEST
DTSTART:20240331T010000
END:DAYLIGHT
BEGIN:STANDARD
TZOFFSETFROM:+0200
TZOFFSETTO:+0100
TZNAME:CET
DTSTART:20241027T010000
END:STANDARD
BEGIN:DAYLIGHT
TZOFFSETFROM:+0100
TZOFFSETTO:+0200
TZNAME:CEST
DTSTART:20250330T010000
END:DAYLIGHT
BEGIN:STANDARD
TZOFFSETFROM:+0200
TZOFFSETTO:+0100
TZNAME:CET
DTSTART:20251026T010000
END:STANDARD
END:VTIMEZONE
BEGIN:VEVENT
DTSTART;TZID=Europe/Paris:20240504T100000
DTEND;TZID=Europe/Paris:20240505T180000
DTSTAMP:20260420T110508
CREATED:20240327T132642Z
LAST-MODIFIED:20240327T132642Z
UID:6013-1714816800-1714932000@www.sortiracombourg.fr
SUMMARY:Fête et Marché Médiévaux
DESCRIPTION:Embarquez pour une aventure médiévale au Château de Combourg les 4 et 5 mai ! \nLe Château de Combourg et l’association Vikings et Chevaliers organisent pour la premiere fois une grande fête et un marché medieval dans le parc de la forteresse. Un cadre magnifique pour faire revivre l’époque de nos ancêtres. \nUn trésor d’artisanat avec une selection d’exposants qui vous feront découvrir leurs bijoux romantiques\, maroquineries réveuses\, livres fantasy\, poteries céramiques\, vêtements d’antan… \nUne épopée des campements médiévaux où vikings et chevaliers reconstituront leurs époques avec des démonstrations de forge et de combats pour raviver les flammes de l’aventure. L’adresse des archers et la flamboyance des cracheurs de feu vous divertiront au rythme de mélodies et les démonstrations d’armes. \nUn rendez-vous à ne pas manquer pour un voyage enchanté dans les profondeurs de l’histoire ! \nINFOS PRATIQUES\nLe samedi 4 et dimanche 5 mai\, de 10h à 18h \n*Entrée payante. Les billets sont non remboursables \n*Réservation en ligne ou achat de billets sur place \nTARIFS \nAccès au Parc + Animations \n\n6 € Adulte\n2 € Réduit (de 10 à 18 ans\, Etudiant avec carte et personne en situation de handicap)\nGratuit Enfant (moins de 10 ans)\n\nGOURMANDISES\n\nGaillards food truck sandwiches briochés garnis copieusement et boissons originales ainsi que des bières artisanales\nL’Authentique MG food truck galettes saucisses\, crêpes\, gaufres de Liège\nLes Délices de Lolo food truck galettes et crêpes\nMaison Cœur chariot à glaces artisanales\nPâtiss & Créa des gâteaux fait maison sur la terrasse du Voyageur Café\n\nANIMATIONS & ATELIERS\n\nAssociation Les Compagnons du Rivallon médiévistes du 12ème au 15ème siècle\, combats\, camp hospitalier/templier\, archerie\nAssociation Le Clan d’Yggdrasil compagnie de reconstitution historique Viking\nAssociation La Confrérie médiévale de l’Escurays la vie et la culture médiévale du 13ème au 15ème siècle dans un but pédagogique\nAssociation Les Fous Gèrent animations à caractère historique\nLe Ragnarök des Loups médiévistes\, reconstitutions historiques avec des jeux de l’autre temps\nCompagnie Soñj groupe de musique médiévale entre Orient et Occident\nDragonn Animateur artistique cracheur de feu\nLe Foubon clown\, saltimbanque\nOrion conteur d’aventures médiévales\nAnouk et son cheval Optimus démonstrations équestres\n\nARTISANS\n\nEditions Fantasy-Parc livres fantasy\nEllil trux\, bijoux pour livres\, décorations d’intérieurs\nLa Betroccitane sculpture papier\nD’une main de fée pyrogravure sur bois brut\nLe Voyage de Twiga bijoux en macramé\nTerre d’Endor poterie et sculpture céramique\nEditions Fantasy-Parc livres fantasy\nMédiefictions écrivain\nArtiVika Design décorations en cuivre\nL’atelier de Kernunnos Menhir sculpture et peinture\nNimuaé bijoux\nSomuko Jeux et Création jeux et livres jeunesse\nBeccos Runos hypocras\nPeschard Edouard livres fantasy\nEglantine Faun illustrations mythologie nordique et celtique\nLes gâteaux à la broche spécialité Occitane\nL’imaginarium de Sandragon bijoux et décorations fantasy/steampunk\nV.Lion Photographie photos\nScultomatrix sculpture sur bois et bijoux dans le genre magique\nLe loup des ases bijoux pagan\nL’accordeur de rêve instruments musique\, graveur sur handpan\nFée du bien land art\n2000 lieues sous les perles bijoux romantique\, médiéval\nL’atelier de Sam maroquinerie rêveuse\nL’échoppe magique des douceurs miel et savon\nXylocoop bois\nL’échoppe de Damanyès vêtements médiévaux\, vikings\, pirates\nAtelier Margolino linogravure\nLes cuirs du Rohan créateur du cuir spécialisé en médiévale fantastique\nYann Jacob écrivain fantasy\nLe Petit monde de Fossette petits figurines en pâte polymère\nAldavlore Créations cuir\nLes pigments de Petit Panda prothèses fantastiques et masques SFX\nBanquises et Comêtes romans d’aventures\nFilix Silva sorcière vert
URL:https://www.sortiracombourg.fr/evenements/fete-et-marche-medievaux/
LOCATION:Parc du Château\, Rue des Princes\, Combourg\, 35270\, France
CATEGORIES:Agenda
ATTACH;FMTTYPE=image/jpeg:https://www.sortiracombourg.fr/wp-content/uploads/2024/03/fete-medievale-scaled.jpg
ORGANIZER;CN="Ch%C3%A2teau de Combourg":MAILTO:info@chateau-combourg.com
END:VEVENT
BEGIN:VEVENT
DTSTART;TZID=Europe/Paris:20240505T090000
DTEND;TZID=Europe/Paris:20240505T180000
DTSTAMP:20260420T110508
CREATED:20240213T105657Z
LAST-MODIFIED:20240213T110510Z
UID:5908-1714899600-1714932000@www.sortiracombourg.fr
SUMMARY:Vide-grenier de la Jeunesse Combourgeoise
DESCRIPTION:Ouvert aux particuliers.\nTarif : 5€ les deux mètres.\n250 emplacements.\nBuvette et restauration sur place.\n\nRéservations et renseignements :\n\nMme HAMELIN Anne et Mme FERRE Karine\nTél : 06.62.21.75.64\nMail
URL:https://www.sortiracombourg.fr/evenements/vide-grenier-de-la-jeunesse-combourgeoise/
LOCATION:Route de Lourmais – Terrain d’honneur\, Route de Lourmais\, Combourg\, 35270
CATEGORIES:Agenda
ATTACH;FMTTYPE=image/jpeg:https://www.sortiracombourg.fr/wp-content/uploads/2024/02/418857454_817338623530196_6724806413300581185_n.jpg
ORGANIZER;CN="Jeunesse Combourgeoise":MAILTO:jeunessecombourgeoise35@gmail.com
END:VEVENT
END:VCALENDAR