BEGIN:VCALENDAR
VERSION:2.0
PRODID:-//Sortir à Combourg - ECPv6.15.16//NONSGML v1.0//EN
CALSCALE:GREGORIAN
METHOD:PUBLISH
X-ORIGINAL-URL:https://www.sortiracombourg.fr
X-WR-CALDESC:Évènements pour Sortir à Combourg
REFRESH-INTERVAL;VALUE=DURATION:PT1H
X-Robots-Tag:noindex
X-PUBLISHED-TTL:PT1H
BEGIN:VTIMEZONE
TZID:Europe/Paris
BEGIN:DAYLIGHT
TZOFFSETFROM:+0100
TZOFFSETTO:+0200
TZNAME:CEST
DTSTART:20230326T010000
END:DAYLIGHT
BEGIN:STANDARD
TZOFFSETFROM:+0200
TZOFFSETTO:+0100
TZNAME:CET
DTSTART:20231029T010000
END:STANDARD
BEGIN:DAYLIGHT
TZOFFSETFROM:+0100
TZOFFSETTO:+0200
TZNAME:CEST
DTSTART:20240331T010000
END:DAYLIGHT
BEGIN:STANDARD
TZOFFSETFROM:+0200
TZOFFSETTO:+0100
TZNAME:CET
DTSTART:20241027T010000
END:STANDARD
BEGIN:DAYLIGHT
TZOFFSETFROM:+0100
TZOFFSETTO:+0200
TZNAME:CEST
DTSTART:20250330T010000
END:DAYLIGHT
BEGIN:STANDARD
TZOFFSETFROM:+0200
TZOFFSETTO:+0100
TZNAME:CET
DTSTART:20251026T010000
END:STANDARD
END:VTIMEZONE
BEGIN:VEVENT
DTSTART;TZID=Europe/Paris:20240512T103000
DTEND;TZID=Europe/Paris:20240512T120000
DTSTAMP:20260420T110757
CREATED:20240422T152235Z
LAST-MODIFIED:20240422T152235Z
UID:6143-1715509800-1715515200@www.sortiracombourg.fr
SUMMARY:Concert Saxissimo
DESCRIPTION:Concert de restitution du jumelage avec les saxophonistes belges \nDimanche 12 Mai 2024 à 10H30 \nParc du château de Combourg \n23 Rue des Princes\n35270 COMBOURG \nLes saxophonistes de la Bretagne Romantique invitent leurs homologues dinantais ! \n\, pratique collective proposée par le SIM – Ecole de musique\, est un ensemble de saxophones qui regroupe une quinzaine de saxophonistes du département autour d’un répertoire éclectique allant de la musique classique à la musique de film en passant par le jazz. En novembre 2022\, l’ensemble \, partait en voyage pour la Belgique sur les pas d’Adolphe Sax\, créateur du saxophone. La ville de  en Belgique est reconnue comme la capitale du saxophone : Sax étant l’un des citoyens dinantais les plus illustres. La ville est aujourd’hui jalonnée d’arrêts faisant référence à ses inventions ou au personnage qu’il fut. \nDe ce voyage est née une joyeuse rencontre entre les saxophonistes de la Bretagne Romantique et les saxophonistes du conservatoire Adolphe Sax de Dinant. Ainsi\, cette année les bretons ont le plaisir d’accueillir leurs collègues belges à Combourg ! Ce concert de restitution du   –  dans le parc du château de Combourg vous réserve un joyeux moment musical ! \nDirection : Marjolaine VERPOORTEN\, Arnaud SCUTNAIRE\, Delphine TUBIERE \nJumelage entre : Le SIM – Ecole de Musique & le Conservatoire Adolphe Sax de Dinant (BE) \nAvec le partenariat du château de Combourg \nEntrée du parc 4€70 / Gratuit – 12ans\n02 99 73 22 95\nwww.chateau-combourg.com\nwww.simecoledemusique.com \nEvènement Facebook 
URL:https://www.sortiracombourg.fr/evenements/concert-saxissimo/
LOCATION:Parc du Château\, Rue des Princes\, Combourg\, 35270\, France
CATEGORIES:Agenda
ATTACH;FMTTYPE=image/jpeg:https://www.sortiracombourg.fr/wp-content/uploads/2024/04/2024.05.12-Concert-Sax.jpg
ORGANIZER;CN="SIM":MAILTO:contact@simecoledemusique.com
END:VEVENT
END:VCALENDAR