BEGIN:VCALENDAR
VERSION:2.0
PRODID:-//Sortir à Combourg - ECPv6.15.16//NONSGML v1.0//EN
CALSCALE:GREGORIAN
METHOD:PUBLISH
X-WR-CALNAME:Sortir à Combourg
X-ORIGINAL-URL:https://www.sortiracombourg.fr
X-WR-CALDESC:Évènements pour Sortir à Combourg
REFRESH-INTERVAL;VALUE=DURATION:PT1H
X-Robots-Tag:noindex
X-PUBLISHED-TTL:PT1H
BEGIN:VTIMEZONE
TZID:Europe/Paris
BEGIN:DAYLIGHT
TZOFFSETFROM:+0100
TZOFFSETTO:+0200
TZNAME:CEST
DTSTART:20230326T010000
END:DAYLIGHT
BEGIN:STANDARD
TZOFFSETFROM:+0200
TZOFFSETTO:+0100
TZNAME:CET
DTSTART:20231029T010000
END:STANDARD
BEGIN:DAYLIGHT
TZOFFSETFROM:+0100
TZOFFSETTO:+0200
TZNAME:CEST
DTSTART:20240331T010000
END:DAYLIGHT
BEGIN:STANDARD
TZOFFSETFROM:+0200
TZOFFSETTO:+0100
TZNAME:CET
DTSTART:20241027T010000
END:STANDARD
BEGIN:DAYLIGHT
TZOFFSETFROM:+0100
TZOFFSETTO:+0200
TZNAME:CEST
DTSTART:20250330T010000
END:DAYLIGHT
BEGIN:STANDARD
TZOFFSETFROM:+0200
TZOFFSETTO:+0100
TZNAME:CET
DTSTART:20251026T010000
END:STANDARD
END:VTIMEZONE
BEGIN:VEVENT
DTSTART;TZID=Europe/Paris:20240519T100000
DTEND;TZID=Europe/Paris:20240519T180000
DTSTAMP:20260420T110515
CREATED:20240213T110848Z
LAST-MODIFIED:20240412T131640Z
UID:5911-1716112800-1716141600@www.sortiracombourg.fr
SUMMARY:Floréales Romantiques
DESCRIPTION:Chaque année\, cet évènement à succès rassemble de nombreux producteurs et pépiniéristes sélectionnés\, des exposants en lien avec l’environnement\, la nature\, l’aménagement et la mise en valeur de nos jardins ainsi que des artistes et artisans dans des domaines variés. \nAu programme : \n\nMarché aux plantes avec plusieurs producteurs\, pépinières\, horticulteurs …\nMarché d’artisans et créateurs autour du jardin\, l’environnement et de la santé\nAnimations par des professionnels et associations sur le thème de la nature\nConcert dans le parc du château\nConférences\, animations\, démonstrations\nEspace pour les enfants (jeux en bois\, animations et activités divers)\nRestauration et buvette sur place\nApéro-concert à partir de 18h30\netc.\n\nVous souhaitez exposer ? Lien d’inscription
URL:https://www.sortiracombourg.fr/evenements/floreales-romantiques-4/
LOCATION:Parc du Château\, Rue des Princes\, Combourg\, 35270\, France
CATEGORIES:Agenda
ATTACH;FMTTYPE=image/jpeg:https://www.sortiracombourg.fr/wp-content/uploads/2024/02/floreales.jpg
ORGANIZER;CN="Combourg Animations":MAILTO:braderie.combourg@hotmail.com
END:VEVENT
END:VCALENDAR