BEGIN:VCALENDAR
VERSION:2.0
PRODID:-//Sortir à Combourg - ECPv6.15.16//NONSGML v1.0//EN
CALSCALE:GREGORIAN
METHOD:PUBLISH
X-WR-CALNAME:Sortir à Combourg
X-ORIGINAL-URL:https://www.sortiracombourg.fr
X-WR-CALDESC:Évènements pour Sortir à Combourg
REFRESH-INTERVAL;VALUE=DURATION:PT1H
X-Robots-Tag:noindex
X-PUBLISHED-TTL:PT1H
BEGIN:VTIMEZONE
TZID:Europe/Paris
BEGIN:DAYLIGHT
TZOFFSETFROM:+0100
TZOFFSETTO:+0200
TZNAME:CEST
DTSTART:20230326T010000
END:DAYLIGHT
BEGIN:STANDARD
TZOFFSETFROM:+0200
TZOFFSETTO:+0100
TZNAME:CET
DTSTART:20231029T010000
END:STANDARD
BEGIN:DAYLIGHT
TZOFFSETFROM:+0100
TZOFFSETTO:+0200
TZNAME:CEST
DTSTART:20240331T010000
END:DAYLIGHT
BEGIN:STANDARD
TZOFFSETFROM:+0200
TZOFFSETTO:+0100
TZNAME:CET
DTSTART:20241027T010000
END:STANDARD
BEGIN:DAYLIGHT
TZOFFSETFROM:+0100
TZOFFSETTO:+0200
TZNAME:CEST
DTSTART:20250330T010000
END:DAYLIGHT
BEGIN:STANDARD
TZOFFSETFROM:+0200
TZOFFSETTO:+0100
TZNAME:CET
DTSTART:20251026T010000
END:STANDARD
END:VTIMEZONE
BEGIN:VEVENT
DTSTART;TZID=Europe/Paris:20240617T080000
DTEND;TZID=Europe/Paris:20240617T130000
DTSTAMP:20260420T100823
CREATED:20240524T141227Z
LAST-MODIFIED:20240524T141227Z
UID:6165-1718611200-1718629200@www.sortiracombourg.fr
SUMMARY:Don du sang
DESCRIPTION:L’Etablissement Français du Sang vous rappelle qu’une collecte de sang est organisée à COMBOURG le Lundi 17 Juin de 8h30 à 13h à l’Espace Malouas. \n\n\n\n Prise de rendez-vous : https://efs.link/h7xD5
URL:https://www.sortiracombourg.fr/evenements/don-du-sang-9/
LOCATION:Espace Malouas\, Rue de Malouas\, Combourg\, 35270\, France
CATEGORIES:Agenda
ATTACH;FMTTYPE=image/webp:https://www.sortiracombourg.fr/wp-content/uploads/2024/05/affiche_115973_COMBOURG-scaled.webp
END:VEVENT
END:VCALENDAR