BEGIN:VCALENDAR
VERSION:2.0
PRODID:-//Sortir à Combourg - ECPv6.15.16//NONSGML v1.0//EN
CALSCALE:GREGORIAN
METHOD:PUBLISH
X-ORIGINAL-URL:https://www.sortiracombourg.fr
X-WR-CALDESC:Évènements pour Sortir à Combourg
REFRESH-INTERVAL;VALUE=DURATION:PT1H
X-Robots-Tag:noindex
X-PUBLISHED-TTL:PT1H
BEGIN:VTIMEZONE
TZID:Europe/Paris
BEGIN:DAYLIGHT
TZOFFSETFROM:+0100
TZOFFSETTO:+0200
TZNAME:CEST
DTSTART:20230326T010000
END:DAYLIGHT
BEGIN:STANDARD
TZOFFSETFROM:+0200
TZOFFSETTO:+0100
TZNAME:CET
DTSTART:20231029T010000
END:STANDARD
BEGIN:DAYLIGHT
TZOFFSETFROM:+0100
TZOFFSETTO:+0200
TZNAME:CEST
DTSTART:20240331T010000
END:DAYLIGHT
BEGIN:STANDARD
TZOFFSETFROM:+0200
TZOFFSETTO:+0100
TZNAME:CET
DTSTART:20241027T010000
END:STANDARD
BEGIN:DAYLIGHT
TZOFFSETFROM:+0100
TZOFFSETTO:+0200
TZNAME:CEST
DTSTART:20250330T010000
END:DAYLIGHT
BEGIN:STANDARD
TZOFFSETFROM:+0200
TZOFFSETTO:+0100
TZNAME:CET
DTSTART:20251026T010000
END:STANDARD
END:VTIMEZONE
BEGIN:VEVENT
DTSTART;TZID=Europe/Paris:20240621T190000
DTEND;TZID=Europe/Paris:20240621T233000
DTSTAMP:20260420T095020
CREATED:20240213T111606Z
LAST-MODIFIED:20240523T133345Z
UID:5921-1718996400-1719012600@www.sortiracombourg.fr
SUMMARY:Fête de la musique
DESCRIPTION:Combourg Animations et plusieurs cafés/restaurants du centre-ville organisent de nombreux concerts tout au long de la soirée. \n– Eglise : Cheese – Live band music\n– Rue Notre-Dame : Michel Flaux – Variétés\n– Place Piquette :\n\n20h00 : Queen a Man – Hommage chorégraphique et sensible à Freddie Mercury\n21h15 : Karamella (chanson française)\n22h45 : Ci git Cale (blues)\n\n– Cour de la Poste :   Leaving Road – Pop-Rock\n– Place Albert Parent : Cartier Libre – Reprises / Jazz Manouche\n– Place des déportés : Mushy Mushy – Rock (1e partie) // Les Nez Rouges – Pop-rock (2e partie)\n– Chat Toqué : One Step – Reggae (1e partie) //  DJ (2e partie)
URL:https://www.sortiracombourg.fr/evenements/fete-de-la-musique-4/
LOCATION:Centre-ville\, Place Albert Parent\, Combourg\, 35270\, France
CATEGORIES:Agenda
ATTACH;FMTTYPE=image/png:https://www.sortiracombourg.fr/wp-content/uploads/2024/02/Affiche-fete-de-la-musique-21062024.png
ORGANIZER;CN="Combourg Animations":MAILTO:braderie.combourg@hotmail.com
END:VEVENT
END:VCALENDAR