BEGIN:VCALENDAR
VERSION:2.0
PRODID:-//Sortir à Combourg - ECPv6.15.16//NONSGML v1.0//EN
CALSCALE:GREGORIAN
METHOD:PUBLISH
X-WR-CALNAME:Sortir à Combourg
X-ORIGINAL-URL:https://www.sortiracombourg.fr
X-WR-CALDESC:Évènements pour Sortir à Combourg
REFRESH-INTERVAL;VALUE=DURATION:PT1H
X-Robots-Tag:noindex
X-PUBLISHED-TTL:PT1H
BEGIN:VTIMEZONE
TZID:Europe/Paris
BEGIN:DAYLIGHT
TZOFFSETFROM:+0100
TZOFFSETTO:+0200
TZNAME:CEST
DTSTART:20230326T010000
END:DAYLIGHT
BEGIN:STANDARD
TZOFFSETFROM:+0200
TZOFFSETTO:+0100
TZNAME:CET
DTSTART:20231029T010000
END:STANDARD
BEGIN:DAYLIGHT
TZOFFSETFROM:+0100
TZOFFSETTO:+0200
TZNAME:CEST
DTSTART:20240331T010000
END:DAYLIGHT
BEGIN:STANDARD
TZOFFSETFROM:+0200
TZOFFSETTO:+0100
TZNAME:CET
DTSTART:20241027T010000
END:STANDARD
BEGIN:DAYLIGHT
TZOFFSETFROM:+0100
TZOFFSETTO:+0200
TZNAME:CEST
DTSTART:20250330T010000
END:DAYLIGHT
BEGIN:STANDARD
TZOFFSETFROM:+0200
TZOFFSETTO:+0100
TZNAME:CET
DTSTART:20251026T010000
END:STANDARD
END:VTIMEZONE
BEGIN:VEVENT
DTSTART;TZID=Europe/Paris:20241008T190000
DTEND;TZID=Europe/Paris:20241008T203000
DTSTAMP:20260420T050914
CREATED:20240828T145654Z
LAST-MODIFIED:20240828T145654Z
UID:6283-1728414000-1728419400@www.sortiracombourg.fr
SUMMARY:Conférence : Silence dans les champs
DESCRIPTION:avec Nicolas Legendre.\nReporter et écrivain\, Nicolas Legendre a reçu\, en 2023\, le prestigieux prix Albert Londres pour son récit d’enquête « Silence dans les champs » (éditions Arthaud).\nIl évoquera ce milieu agricole au sein duquel il a navigué durant plusieurs années\, notamment en Bretagne\, «où les paysans disparaissent peu à peu pour céder la place aux salariés de l’agroalimentaire\, dans un système qui fait naître des empires transnationaux et des baronnies locales». Et nous\, que savons-nous de ce monde paysan d’aujourd’hui ? \nGratuit – Tout public – Sur réservation (nombre de places limité).
URL:https://www.sortiracombourg.fr/evenements/conference-silence-dans-les-champs/
LOCATION:Médiathèque « Les Sources »\, 5 rue du Linon\, Combourg\, 35270\, France
CATEGORIES:Agenda
ATTACH;FMTTYPE=image/jpeg:https://www.sortiracombourg.fr/wp-content/uploads/2024/08/NicolasLegendre2.jpg
ORGANIZER;CN="M%C3%A9diath%C3%A8que 'Les Sources'":MAILTO:mediatheque@combourg.com
END:VEVENT
END:VCALENDAR