BEGIN:VCALENDAR
VERSION:2.0
PRODID:-//Sortir à Combourg - ECPv6.15.16//NONSGML v1.0//EN
CALSCALE:GREGORIAN
METHOD:PUBLISH
X-ORIGINAL-URL:https://www.sortiracombourg.fr
X-WR-CALDESC:Évènements pour Sortir à Combourg
REFRESH-INTERVAL;VALUE=DURATION:PT1H
X-Robots-Tag:noindex
X-PUBLISHED-TTL:PT1H
BEGIN:VTIMEZONE
TZID:Europe/Paris
BEGIN:DAYLIGHT
TZOFFSETFROM:+0100
TZOFFSETTO:+0200
TZNAME:CEST
DTSTART:20240331T010000
END:DAYLIGHT
BEGIN:STANDARD
TZOFFSETFROM:+0200
TZOFFSETTO:+0100
TZNAME:CET
DTSTART:20241027T010000
END:STANDARD
BEGIN:DAYLIGHT
TZOFFSETFROM:+0100
TZOFFSETTO:+0200
TZNAME:CEST
DTSTART:20250330T010000
END:DAYLIGHT
BEGIN:STANDARD
TZOFFSETFROM:+0200
TZOFFSETTO:+0100
TZNAME:CET
DTSTART:20251026T010000
END:STANDARD
BEGIN:DAYLIGHT
TZOFFSETFROM:+0100
TZOFFSETTO:+0200
TZNAME:CEST
DTSTART:20260329T010000
END:DAYLIGHT
BEGIN:STANDARD
TZOFFSETFROM:+0200
TZOFFSETTO:+0100
TZNAME:CET
DTSTART:20261025T010000
END:STANDARD
END:VTIMEZONE
BEGIN:VEVENT
DTSTART;VALUE=DATE:20250124
DTEND;VALUE=DATE:20250203
DTSTAMP:20260420T013053
CREATED:20250107T160154Z
LAST-MODIFIED:20250107T160154Z
UID:6385-1737676800-1738540799@www.sortiracombourg.fr
SUMMARY:Théâtre : "Ca se complique"
DESCRIPTION:Nous sommes à l’hôtel « La Rose des Vents » tenu par un certain Monsieur Michel qui s’apprête à vivre une journée mouvementée avec l’arrivée de ses six clients. M. Chabrier\, président des entreprises «Grograins Poulet Label Rouge » et sa maîtresse Pénélope. Grégoire\, un vieux garçon venu chercher l’amour. Barbara\, convertie à la zen attitude qui souhaite reconquérir le cœur de son mari. Fernande\, une vieille fille déprimée et un veuf\, Calas de la Frémontière\, ayant fait fortune dans la chaussette.\nMéprises\, mensonges et quiproquos vont amener Mr Michel à s’emberlificoter pour tenter de sauver la mise aux uns et aux autres.\nIl s’en suit une succession de scènes hilarantes où s’enchaînent malentendus et situations cocasses. Irrésistible ! \nPayant – Adulte : 6 € – Enfant de moins de 12 ans : 4 €. \nRéservation via Helloasso. \n\nVendredi 24/01-31/01 – 20h30\nSamedi 25/01-01/02 – 20h30\nDimanche 26/01-02/02 – 15h00
URL:https://www.sortiracombourg.fr/evenements/theatre-ca-se-complique/
LOCATION:Cinéma Chateaubriand\, Rue de Malouas\, Combourg\, 35270\, France
CATEGORIES:Agenda
ATTACH;FMTTYPE=image/jpeg:https://www.sortiracombourg.fr/wp-content/uploads/2025/01/472352546_888735706757742_1310326089711104877_n.jpg
END:VEVENT
END:VCALENDAR