BEGIN:VCALENDAR
VERSION:2.0
PRODID:-//Sortir à Combourg - ECPv6.15.16//NONSGML v1.0//EN
CALSCALE:GREGORIAN
METHOD:PUBLISH
X-WR-CALNAME:Sortir à Combourg
X-ORIGINAL-URL:https://www.sortiracombourg.fr
X-WR-CALDESC:Évènements pour Sortir à Combourg
REFRESH-INTERVAL;VALUE=DURATION:PT1H
X-Robots-Tag:noindex
X-PUBLISHED-TTL:PT1H
BEGIN:VTIMEZONE
TZID:Europe/Paris
BEGIN:DAYLIGHT
TZOFFSETFROM:+0100
TZOFFSETTO:+0200
TZNAME:CEST
DTSTART:20240331T010000
END:DAYLIGHT
BEGIN:STANDARD
TZOFFSETFROM:+0200
TZOFFSETTO:+0100
TZNAME:CET
DTSTART:20241027T010000
END:STANDARD
BEGIN:DAYLIGHT
TZOFFSETFROM:+0100
TZOFFSETTO:+0200
TZNAME:CEST
DTSTART:20250330T010000
END:DAYLIGHT
BEGIN:STANDARD
TZOFFSETFROM:+0200
TZOFFSETTO:+0100
TZNAME:CET
DTSTART:20251026T010000
END:STANDARD
BEGIN:DAYLIGHT
TZOFFSETFROM:+0100
TZOFFSETTO:+0200
TZNAME:CEST
DTSTART:20260329T010000
END:DAYLIGHT
BEGIN:STANDARD
TZOFFSETFROM:+0200
TZOFFSETTO:+0100
TZNAME:CET
DTSTART:20261025T010000
END:STANDARD
END:VTIMEZONE
BEGIN:VEVENT
DTSTART;VALUE=DATE:20250204
DTEND;VALUE=DATE:20250212
DTSTAMP:20260420T003126
CREATED:20250121T102145Z
LAST-MODIFIED:20250121T102145Z
UID:6418-1738627200-1739318399@www.sortiracombourg.fr
SUMMARY:Festival Travelling
DESCRIPTION:Pour sa 36e édition\, c’est le cinéma Suédois qui rayonnera à travers les images de sa capitale\, Stockholm.\nUn programme spécifiquement conçu pour éveiller la curiosité et développer le sens critique des plus jeunes est également proposé. \nProgrammation : www.clairobscur.info \nTarifs : Plein tarif 7 € – Réduit 6 € – Fidélité 4\,50 €\nPass Festival 3\,50 €
URL:https://www.sortiracombourg.fr/evenements/festival-travelling-2/
LOCATION:Cinéma Chateaubriand\, Rue de Malouas\, Combourg\, 35270\, France
CATEGORIES:Agenda
ORGANIZER;CN="Cin%C3%A9ma Chateaubriand":MAILTO:cinema.chateaubriand@orange.fr
END:VEVENT
BEGIN:VEVENT
DTSTART;TZID=Europe/Paris:20250210T140000
DTEND;TZID=Europe/Paris:20250210T163000
DTSTAMP:20260420T003126
CREATED:20250117T145528Z
LAST-MODIFIED:20250117T145528Z
UID:6402-1739196000-1739205000@www.sortiracombourg.fr
SUMMARY:Jeu : Among US en vrai !
DESCRIPTION:Après-midi jeux Among US avec la participation d’Emmanuel du magasin de jeux le Trou du chat.\nAnimation proposée par Combourg Animations pour les jeunes de 10 à 17 ans. \n\n\n\nPréparez-vous au décollage\, mais attention à l’imposteur ! Terminez des tâches pour assurer la stabilité de votre vaisseau et revenir à la civilisation\, mais gardez l’œil ouvert : un ou plusieurs membres aléatoires de l’équipage sont des imposteurs\, déterminés à saboter le vaisseau et tuer tout le monde. \nFaites preuve d’esprit d’équipe\, de persuasion et même de trahison dans ce jeu de rôle… dans l’espace ! \n\nCes animations nécessitent la présence d’encadrants\, les parents sont les bienvenus pour aider les bénévoles. Merci de m’informer de votre participation à l’encadrement de l’animation lors de votre inscription. L’équipe de Combourg Animations se réserve le droit d’annuler l’événement si le nombre d’adultes nécessaire n’est pas atteint. \n\n\n\n\n\n\n\nGoûter offert\nAnimation pour les 10/17 ansInscription obligatoire\nInformations et inscription sur la billetterie en ligne
URL:https://www.sortiracombourg.fr/evenements/jeu-among-us-en-vrai/
LOCATION:Espace Malouas\, Rue de Malouas\, Combourg\, 35270\, France
CATEGORIES:Agenda
ATTACH;FMTTYPE=image/png:https://www.sortiracombourg.fr/wp-content/uploads/2025/01/Among-US-animation-Jeunesse-2025.png
ORGANIZER;CN="Combourg Animations":MAILTO:braderie.combourg@hotmail.com
END:VEVENT
END:VCALENDAR