BEGIN:VCALENDAR
VERSION:2.0
PRODID:-//Sortir à Combourg - ECPv6.15.16//NONSGML v1.0//EN
CALSCALE:GREGORIAN
METHOD:PUBLISH
X-ORIGINAL-URL:https://www.sortiracombourg.fr
X-WR-CALDESC:Évènements pour Sortir à Combourg
REFRESH-INTERVAL;VALUE=DURATION:PT1H
X-Robots-Tag:noindex
X-PUBLISHED-TTL:PT1H
BEGIN:VTIMEZONE
TZID:Europe/Paris
BEGIN:DAYLIGHT
TZOFFSETFROM:+0100
TZOFFSETTO:+0200
TZNAME:CEST
DTSTART:20240331T010000
END:DAYLIGHT
BEGIN:STANDARD
TZOFFSETFROM:+0200
TZOFFSETTO:+0100
TZNAME:CET
DTSTART:20241027T010000
END:STANDARD
BEGIN:DAYLIGHT
TZOFFSETFROM:+0100
TZOFFSETTO:+0200
TZNAME:CEST
DTSTART:20250330T010000
END:DAYLIGHT
BEGIN:STANDARD
TZOFFSETFROM:+0200
TZOFFSETTO:+0100
TZNAME:CET
DTSTART:20251026T010000
END:STANDARD
BEGIN:DAYLIGHT
TZOFFSETFROM:+0100
TZOFFSETTO:+0200
TZNAME:CEST
DTSTART:20260329T010000
END:DAYLIGHT
BEGIN:STANDARD
TZOFFSETFROM:+0200
TZOFFSETTO:+0100
TZNAME:CET
DTSTART:20261025T010000
END:STANDARD
END:VTIMEZONE
BEGIN:VEVENT
DTSTART;TZID=Europe/Paris:20250325T193000
DTEND;TZID=Europe/Paris:20250325T203000
DTSTAMP:20260419T232013
CREATED:20250307T102225Z
LAST-MODIFIED:20250307T102225Z
UID:6466-1742931000-1742934600@www.sortiracombourg.fr
SUMMARY:Audition de la classe de guitare classique
DESCRIPTION:Salle « Les Sœurs Goadec » – Le SIM Ecole de Musique (Site de Combourg) \nEntrée Gratuite
URL:https://www.sortiracombourg.fr/evenements/audition-de-la-classe-de-guitare-classique/
LOCATION:Ecole de musique\, Rue du Linon\, Combourg
CATEGORIES:Agenda
ATTACH;FMTTYPE=image/webp:https://www.sortiracombourg.fr/wp-content/uploads/2025/03/2025.03.25-Audition-guitares.webp
ORGANIZER;CN="SIM":MAILTO:contact@simecoledemusique.com
END:VEVENT
END:VCALENDAR