BEGIN:VCALENDAR
VERSION:2.0
PRODID:-//Sortir à Combourg - ECPv6.15.16//NONSGML v1.0//EN
CALSCALE:GREGORIAN
METHOD:PUBLISH
X-ORIGINAL-URL:https://www.sortiracombourg.fr
X-WR-CALDESC:Évènements pour Sortir à Combourg
REFRESH-INTERVAL;VALUE=DURATION:PT1H
X-Robots-Tag:noindex
X-PUBLISHED-TTL:PT1H
BEGIN:VTIMEZONE
TZID:Europe/Paris
BEGIN:DAYLIGHT
TZOFFSETFROM:+0100
TZOFFSETTO:+0200
TZNAME:CEST
DTSTART:20240331T010000
END:DAYLIGHT
BEGIN:STANDARD
TZOFFSETFROM:+0200
TZOFFSETTO:+0100
TZNAME:CET
DTSTART:20241027T010000
END:STANDARD
BEGIN:DAYLIGHT
TZOFFSETFROM:+0100
TZOFFSETTO:+0200
TZNAME:CEST
DTSTART:20250330T010000
END:DAYLIGHT
BEGIN:STANDARD
TZOFFSETFROM:+0200
TZOFFSETTO:+0100
TZNAME:CET
DTSTART:20251026T010000
END:STANDARD
BEGIN:DAYLIGHT
TZOFFSETFROM:+0100
TZOFFSETTO:+0200
TZNAME:CEST
DTSTART:20260329T010000
END:DAYLIGHT
BEGIN:STANDARD
TZOFFSETFROM:+0200
TZOFFSETTO:+0100
TZNAME:CET
DTSTART:20261025T010000
END:STANDARD
END:VTIMEZONE
BEGIN:VEVENT
DTSTART;TZID=Europe/Paris:20250627T190000
DTEND;TZID=Europe/Paris:20250627T213000
DTSTAMP:20260419T193214
CREATED:20250129T161605Z
LAST-MODIFIED:20250411T101805Z
UID:6446-1751050800-1751059800@www.sortiracombourg.fr
SUMMARY:Spectacle "Au coeur du monde"
DESCRIPTION:Ce spectacle est le fruit d’une collaboration entre Unis-vers-Danse (ateliers/spectacle de danse – école de danse classique) et La Voyageuse (chorale et ensemble instrumental).\nIl réunira 40 danseuses et 30 choristes/musiciens par spectacle. Les chorégraphies créées par Nathalie Grand seront interprétées par les groupes éveil (4-7)\, initiation (8-11)\, ado (12-17) et adultes qui danseront sur des chants du monde entier\, arrangés par Annabelle François\, chef de chœur de la Voyageuse. \nTarifs prévente : 5€ (adulte) ; 2€ (enfant) \nTarifs sur place : 6€ (adulte) ; 3€ (enfant)
URL:https://www.sortiracombourg.fr/evenements/spectacle-au-coeur-du-monde/
LOCATION:Cinéma Chateaubriand\, Rue de Malouas\, Combourg\, 35270\, France
CATEGORIES:Agenda
ATTACH;FMTTYPE=image/webp:https://www.sortiracombourg.fr/wp-content/uploads/2025/01/affiche-au-coeur-du-monde-spectacle-25.webp
ORGANIZER;CN="univerdanse":MAILTO:unisversdanse@gmail.com
END:VEVENT
END:VCALENDAR