BEGIN:VCALENDAR
VERSION:2.0
PRODID:-//Sortir à Combourg - ECPv6.15.16//NONSGML v1.0//EN
CALSCALE:GREGORIAN
METHOD:PUBLISH
X-ORIGINAL-URL:https://www.sortiracombourg.fr
X-WR-CALDESC:Évènements pour Sortir à Combourg
REFRESH-INTERVAL;VALUE=DURATION:PT1H
X-Robots-Tag:noindex
X-PUBLISHED-TTL:PT1H
BEGIN:VTIMEZONE
TZID:Europe/Paris
BEGIN:DAYLIGHT
TZOFFSETFROM:+0100
TZOFFSETTO:+0200
TZNAME:CEST
DTSTART:20240331T010000
END:DAYLIGHT
BEGIN:STANDARD
TZOFFSETFROM:+0200
TZOFFSETTO:+0100
TZNAME:CET
DTSTART:20241027T010000
END:STANDARD
BEGIN:DAYLIGHT
TZOFFSETFROM:+0100
TZOFFSETTO:+0200
TZNAME:CEST
DTSTART:20250330T010000
END:DAYLIGHT
BEGIN:STANDARD
TZOFFSETFROM:+0200
TZOFFSETTO:+0100
TZNAME:CET
DTSTART:20251026T010000
END:STANDARD
BEGIN:DAYLIGHT
TZOFFSETFROM:+0100
TZOFFSETTO:+0200
TZNAME:CEST
DTSTART:20260329T010000
END:DAYLIGHT
BEGIN:STANDARD
TZOFFSETFROM:+0200
TZOFFSETTO:+0100
TZNAME:CET
DTSTART:20261025T010000
END:STANDARD
END:VTIMEZONE
BEGIN:VEVENT
DTSTART;TZID=Europe/Paris:20250823T190000
DTEND;TZID=Europe/Paris:20250823T233000
DTSTAMP:20260419T165840
CREATED:20250121T103854Z
LAST-MODIFIED:20250411T102608Z
UID:6439-1755975600-1755991800@www.sortiracombourg.fr
SUMMARY:Festival de la Lanterne
DESCRIPTION:Le Festival de la Lanterne fait son grand retour en centre-ville de Combourg. De 19h à minuit\, pas moins de six scènes animeront le cœur de ville\, accueillant plus de dix groupes aux styles variés.\nFidèle à son esprit éclectique\, le festival met à l’honneur des artistes et groupes locaux aux influences multiples\, proposant une programmation riche et diversifiée : rock\, rap\, folk\, électro\, musiques du monde… et bien sûr\, l’incontournable Fest-Noz\, avec 2 groupes qui se produiront sur la place Albert Parent. Nous aurons également le plaisir d’accueillir la Fanfare de Waldmünchen\, qui reviendra jouer sur la place de la Poste. \nOrganisé par Combourg Animations\, cet événement est l’un des plus importants festivals « gratuits » de Bretagne. Attachée à cette tradition\, l’association met tout en œuvre pour le maintenir tous les deux ans dans le centre-ville de Combourg. \nGratuit. Restauration et buvette sur place
URL:https://www.sortiracombourg.fr/evenements/festival-de-la-lanterne-5/
LOCATION:Centre-ville\, Place Albert Parent\, Combourg\, 35270\, France
CATEGORIES:Agenda
ATTACH;FMTTYPE=image/png:https://www.sortiracombourg.fr/wp-content/uploads/2025/01/lanterne-2025-version-definitive-.png
ORGANIZER;CN="Combourg Animations":MAILTO:braderie.combourg@hotmail.com
END:VEVENT
END:VCALENDAR