BEGIN:VCALENDAR
VERSION:2.0
PRODID:-//Sortir à Combourg - ECPv6.15.16//NONSGML v1.0//EN
CALSCALE:GREGORIAN
METHOD:PUBLISH
X-WR-CALNAME:Sortir à Combourg
X-ORIGINAL-URL:https://www.sortiracombourg.fr
X-WR-CALDESC:Évènements pour Sortir à Combourg
REFRESH-INTERVAL;VALUE=DURATION:PT1H
X-Robots-Tag:noindex
X-PUBLISHED-TTL:PT1H
BEGIN:VTIMEZONE
TZID:Europe/Paris
BEGIN:DAYLIGHT
TZOFFSETFROM:+0100
TZOFFSETTO:+0200
TZNAME:CEST
DTSTART:20240331T010000
END:DAYLIGHT
BEGIN:STANDARD
TZOFFSETFROM:+0200
TZOFFSETTO:+0100
TZNAME:CET
DTSTART:20241027T010000
END:STANDARD
BEGIN:DAYLIGHT
TZOFFSETFROM:+0100
TZOFFSETTO:+0200
TZNAME:CEST
DTSTART:20250330T010000
END:DAYLIGHT
BEGIN:STANDARD
TZOFFSETFROM:+0200
TZOFFSETTO:+0100
TZNAME:CET
DTSTART:20251026T010000
END:STANDARD
BEGIN:DAYLIGHT
TZOFFSETFROM:+0100
TZOFFSETTO:+0200
TZNAME:CEST
DTSTART:20260329T010000
END:DAYLIGHT
BEGIN:STANDARD
TZOFFSETFROM:+0200
TZOFFSETTO:+0100
TZNAME:CET
DTSTART:20261025T010000
END:STANDARD
END:VTIMEZONE
BEGIN:VEVENT
DTSTART;TZID=Europe/Paris:20250909T190000
DTEND;TZID=Europe/Paris:20250909T200000
DTSTAMP:20260419T152810
CREATED:20250829T130948Z
LAST-MODIFIED:20250829T132525Z
UID:6719-1757444400-1757448000@www.sortiracombourg.fr
SUMMARY:Conférence "Les sapeurs-pompiers de Combourg fêtent leurs 150 ans !"
DESCRIPTION:Le saviez-vous ? Le centre d’incendie et de secours (CIS) de Combourg constitue l’une des plus vieilles institutions locales. Dédié aux missions de secours d’urgence\, ce corps des sapeurs-pompiers appartient au Service départemental d’incendie et de secours d’Ille-et-Vilaine (SDIS 35). Le lieutenant Denis Chauvel\, chef du CIS Combourg\, évoquera l’évolution de la caserne depuis le 19e siècle jusqu’à aujourd’hui. Il expliquera également le fonctionnement des secours sapeurs-pompiers (SP) en France\, en Ille-et-Vilaine et enfin à Combourg. L’occasion\, pourquoi pas\, de stimuler la vocation à devenir pompier ? \nMardi 9 septembre\, 19h : conférence « Les sapeurs-pompiers de Combourg fêtent leurs 150 ans ! »\, avec Denis Chauvel. Tout public. Gratuit
URL:https://www.sortiracombourg.fr/evenements/conference-les-sapeurs-pompiers-de-combourg-fetent-leurs-150-ans/
LOCATION:Médiathèque « Les Sources »\, 5 rue du Linon\, Combourg\, 35270\, France
CATEGORIES:Agenda
ATTACH;FMTTYPE=image/png:https://www.sortiracombourg.fr/wp-content/uploads/2025/08/combourg-2024-11-27-113728.png
ORGANIZER;CN="M%C3%A9diath%C3%A8que 'Les Sources'":MAILTO:mediatheque@combourg.com
END:VEVENT
END:VCALENDAR