BEGIN:VCALENDAR
VERSION:2.0
PRODID:-//Sortir à Combourg - ECPv6.15.16//NONSGML v1.0//EN
CALSCALE:GREGORIAN
METHOD:PUBLISH
X-WR-CALNAME:Sortir à Combourg
X-ORIGINAL-URL:https://www.sortiracombourg.fr
X-WR-CALDESC:Évènements pour Sortir à Combourg
REFRESH-INTERVAL;VALUE=DURATION:PT1H
X-Robots-Tag:noindex
X-PUBLISHED-TTL:PT1H
BEGIN:VTIMEZONE
TZID:Europe/Paris
BEGIN:DAYLIGHT
TZOFFSETFROM:+0100
TZOFFSETTO:+0200
TZNAME:CEST
DTSTART:20240331T010000
END:DAYLIGHT
BEGIN:STANDARD
TZOFFSETFROM:+0200
TZOFFSETTO:+0100
TZNAME:CET
DTSTART:20241027T010000
END:STANDARD
BEGIN:DAYLIGHT
TZOFFSETFROM:+0100
TZOFFSETTO:+0200
TZNAME:CEST
DTSTART:20250330T010000
END:DAYLIGHT
BEGIN:STANDARD
TZOFFSETFROM:+0200
TZOFFSETTO:+0100
TZNAME:CET
DTSTART:20251026T010000
END:STANDARD
BEGIN:DAYLIGHT
TZOFFSETFROM:+0100
TZOFFSETTO:+0200
TZNAME:CEST
DTSTART:20260329T010000
END:DAYLIGHT
BEGIN:STANDARD
TZOFFSETFROM:+0200
TZOFFSETTO:+0100
TZNAME:CET
DTSTART:20261025T010000
END:STANDARD
END:VTIMEZONE
BEGIN:VEVENT
DTSTART;TZID=Europe/Paris:20250919T190000
DTEND;TZID=Europe/Paris:20250919T200000
DTSTAMP:20260419T152811
CREATED:20250911T115042Z
LAST-MODIFIED:20250911T115042Z
UID:6735-1758308400-1758312000@www.sortiracombourg.fr
SUMMARY:Conférence : une cuisine à découvrir
DESCRIPTION:Hubert Jouan enseigne depuis 1994 un mode alimentaire présentant de nombreux avantages : saveurs\, santé\, coût modique\, zéro déchet. L’objectif est de diminuer (sans les supprimer) les produits animaux et de donner plus d’importance aux protéines végétales. Hubert Jouan expliquera comment il est ainsi possible de réduire les risques liés aux maladies modernes (diabète\, cholestérol\, etc.) tout en s’acheminant vers une réduction de notre empreinte écologique et un meilleur respect de l’environnement. Les recettes\, très faciles\, demandent peu d’ingrédients et exaltent les saveurs naturelles.\nGratuit – Sur réservation.
URL:https://www.sortiracombourg.fr/evenements/conference-une-cuisine-a-decouvrir/
LOCATION:Médiathèque « Les Sources »\, 5 rue du Linon\, Combourg\, 35270\, France
CATEGORIES:Agenda,Médiathèque
ATTACH;FMTTYPE=image/jpeg:https://www.sortiracombourg.fr/wp-content/uploads/2025/09/HubertJouan2.jpg
ORGANIZER;CN="M%C3%A9diath%C3%A8que 'Les Sources'":MAILTO:mediatheque@combourg.com
END:VEVENT
END:VCALENDAR