BEGIN:VCALENDAR
VERSION:2.0
PRODID:-//Sortir à Combourg - ECPv6.15.16//NONSGML v1.0//EN
CALSCALE:GREGORIAN
METHOD:PUBLISH
X-WR-CALNAME:Sortir à Combourg
X-ORIGINAL-URL:https://www.sortiracombourg.fr
X-WR-CALDESC:Évènements pour Sortir à Combourg
REFRESH-INTERVAL;VALUE=DURATION:PT1H
X-Robots-Tag:noindex
X-PUBLISHED-TTL:PT1H
BEGIN:VTIMEZONE
TZID:Europe/Paris
BEGIN:DAYLIGHT
TZOFFSETFROM:+0100
TZOFFSETTO:+0200
TZNAME:CEST
DTSTART:20240331T010000
END:DAYLIGHT
BEGIN:STANDARD
TZOFFSETFROM:+0200
TZOFFSETTO:+0100
TZNAME:CET
DTSTART:20241027T010000
END:STANDARD
BEGIN:DAYLIGHT
TZOFFSETFROM:+0100
TZOFFSETTO:+0200
TZNAME:CEST
DTSTART:20250330T010000
END:DAYLIGHT
BEGIN:STANDARD
TZOFFSETFROM:+0200
TZOFFSETTO:+0100
TZNAME:CET
DTSTART:20251026T010000
END:STANDARD
BEGIN:DAYLIGHT
TZOFFSETFROM:+0100
TZOFFSETTO:+0200
TZNAME:CEST
DTSTART:20260329T010000
END:DAYLIGHT
BEGIN:STANDARD
TZOFFSETFROM:+0200
TZOFFSETTO:+0100
TZNAME:CET
DTSTART:20261025T010000
END:STANDARD
END:VTIMEZONE
BEGIN:VEVENT
DTSTART;VALUE=DATE:20250920
DTEND;VALUE=DATE:20250922
DTSTAMP:20260419T152743
CREATED:20250820T121420Z
LAST-MODIFIED:20250903T102506Z
UID:6702-1758326400-1758499199@www.sortiracombourg.fr
SUMMARY:Journées du Patrimoine
DESCRIPTION:Démonstrations de savoir-faire\nDurant deux jours\, une vitrailliste\, un tourneur sur terre et sur bois\, un souffleur de verre\, une céramiste\, une tisseuse Saori\, un sculpteur sur métal et un couvreur vous présentent leur savoir-faire. Une occasion unique d’échanger avec les artisans qui se font un plaisir de vous faire découvrir leurs créations.\nEn parallèle\, une exposition sur le thème « Eclats de nature\, quand le jardin inspire la mode et les bijoux » vous est proposée. \nSamedi et dimanche\, de 10h à 18h (17h\, le dimanche) – Maison de la Lanterne – Gratuit \n\nAnimations médiévales au Château\nPlus d’infos. \nSamedi et dimanche\, de 10h à 18h – Château – Payant \n\nDécouverte de la vie quotidienne au Moyen-Âge\nAvec la compagnie les Fous Gèrent\nDécouverte de la vie quotidienne au Moyen-Âge avec des scènes de vie et diverses animations : \n\nPrésentation des armes\, archerie.\nCuisine et épices.\nDanses.\nHabillement.\nAtelier du Bouffon.\n\nSamedi et dimanche\, de 10h à 18h – Bords du Lac Tranquille (Gloriette) – Gratuit \n\nConcours de peinture « Couleurs de Bretagne »\nPlus d’infos. \nSamedi\, à partir de 8h00 – La Parenthèse – Gratuit \n\nConférence « Les châteaux et manoirs de Combourg »\nRetour sur l’histoire des Seigneuries et Terres Nobles de Combourg et du Combournais depuis le Moyen-Âge jusqu’à la Révolution\, avec présentation des châteaux\, manoirs et métairies toujours existants.\nAvec Vincent Piot\, président de la Société Historique et Patrimoniale de la Bretagne Romantique. \nSamedi\, 15h00 – Médiathèque – Gratuit \n\nVisite guidée de la ville\nUne visite entre Histoire et Légendes\nRedécouvrez l’histoire médiévale de Combourg\, labellisée Petite Cité de Caractère®\, chère à l’écrivain François-René de Chateaubriand.\nSes maisons à pans de bois\, ses demeures chargées d’histoires et les rives du mystérieux Lac Tranquille vous plongeront à l’époque des chevaliers et des troubadours.\nTarifs : 5€ par adulte / 2\,5€ pour les 8-11 ans / Gratuit pour les – de 8 ans. \nDimanche\, 14h30 – Départ de la Maison de la Lanterne – Payant \nInscription. \n\nAnimations familiales – Jeux en bois\nDimanche\, de 14h00 à 17h00 – Place Albert Parent – Gratuit
URL:https://www.sortiracombourg.fr/evenements/journees-du-patrimoine-3/
LOCATION:Centre-ville\, Place Albert Parent\, Combourg\, 35270\, France
CATEGORIES:Agenda
ATTACH;FMTTYPE=image/jpeg:https://www.sortiracombourg.fr/wp-content/uploads/2025/08/Flyer-JEP-25.jpg
ORGANIZER;CN="Ville de Combourg":MAILTO:communication@combourg.com
END:VEVENT
BEGIN:VEVENT
DTSTART;VALUE=DATE:20250921
DTEND;VALUE=DATE:20250922
DTSTAMP:20260419T152743
CREATED:20250820T123358Z
LAST-MODIFIED:20250820T123358Z
UID:6707-1758412800-1758499199@www.sortiracombourg.fr
SUMMARY:Classes 5
DESCRIPTION:La fête des Classes 5 à Combourg se tiendra le dimanche 21 Septembre 2025 à l’Espace Malouas.\n\n \n\nDate : dimanche 21/09/2025.\n\n \n\nProgramme :\n\n \n\n 	10h30 : messe à l’Eglise\n \n 	11h45 : dépôt d’une gerbe au Monument aux Morts\n \n 	12h00 : photo souvenir sur le parvis de la Mairie\n \n 	12h30 : vin d’honneur à l’Espace Malouas\, offert par la Mairie\n \n 	13h00 : repas à l’Espace Malouas\, animé par un DJ local\n\n \n\nMenu pour les adultes :\n\n \n\n 	Gravlax maison de Saumon\, riz crémeux aneth et vinaigrette soja-gingembre\n \n 	Filet de Canard laqué au caramel fruits rouges et son panier de légumes anciens gratinés au Comté\n \n 	Nougat maison de fromage et mesclun de verdure au balsamique\n \n 	Duo framboisin et tarte chocolat\, coulis framboise\n\n \n\nMenu pour les enfants :\n\n \n\n 	Burger maison accompagné de frites\n \n 	Douceur crème brûlée\n\n \n\nLes boissons et le café sont inclus.\n\n \nToute participation au repas nécessite une réservation\, avant le 06/09/2025.\n\n Tarifs : 40€/adulte et 15€/enfant – paiement par chèque (à l’ordre « Classe 5 Combourg ») ou espèces.\n\n Merci de vous rendre dans l’un des commerces suivants : Café Malouas (place de l’Eglise)\, Café de la Poste (en face de la Poste)\n\n Vous pouvez aussi contacter directement Juliette au 06.30.43.67.85 ou André au 07.85.22.15.99.\n\n\n \n\nNous comptons sur votre présence !\n\n \n\nComité d’organisation des Classes 5 de Combourg – classe5.combourg@gmail.com
URL:https://www.sortiracombourg.fr/evenements/classes-5/
LOCATION:Espace Malouas\, Rue de Malouas\, Combourg\, 35270\, France
CATEGORIES:Agenda
ATTACH;FMTTYPE=image/jpeg:https://www.sortiracombourg.fr/wp-content/uploads/2025/08/Amicale-des-Classes-en-5.jpg
END:VEVENT
END:VCALENDAR